BEGIN:VCALENDAR
VERSION:2.0
PRODID:-//SchoolCalendarAPI//school-calendar//EN
URL:https://api.schools-calendar.com/calendar?district_id=ar-bauxite-schoo
 l-district&year=2025-26
NAME:Bauxite School District School Calendar 2025-26
X-WR-CALNAME:Bauxite School District School Calendar 2025-26
X-WR-CALDESC:Official school calendar for Bauxite School District for the 
 2025-26 school year.
REFRESH-INTERVAL;VALUE=DURATION:P1D
X-PUBLISHED-TTL:P1D
BEGIN:VEVENT
UID:9a8410c4-6442-4a19-821b-57d0b83095fd
SEQUENCE:0
DTSTAMP:20260423T194405Z
DTSTART;VALUE=DATE:20250812
X-MICROSOFT-CDO-ALLDAYEVENT:TRUE
X-MICROSOFT-MSNCALENDAR-ALLDAYEVENT:TRUE
SUMMARY:First Day of School
DESCRIPTION:First day of the 2025-26 school year
STATUS:CONFIRMED
END:VEVENT
BEGIN:VEVENT
UID:16792325-be1e-4f73-a4ce-6d7fb66b944e
SEQUENCE:0
DTSTAMP:20260423T194405Z
DTSTART;VALUE=DATE:20260522
X-MICROSOFT-CDO-ALLDAYEVENT:TRUE
X-MICROSOFT-MSNCALENDAR-ALLDAYEVENT:TRUE
SUMMARY:Last Day of School
DESCRIPTION:Last day of the 2025-26 school year
STATUS:CONFIRMED
END:VEVENT
BEGIN:VEVENT
UID:297fbf37-030b-46ce-a44d-ace4b1d715a3
SEQUENCE:0
DTSTAMP:20260423T194405Z
DTSTART;VALUE=DATE:20251125
DTEND;VALUE=DATE:20251129
X-MICROSOFT-CDO-ALLDAYEVENT:TRUE
X-MICROSOFT-MSNCALENDAR-ALLDAYEVENT:TRUE
SUMMARY:Thanksgiving Break
DESCRIPTION:Thanksgiving Break - No school
STATUS:CONFIRMED
END:VEVENT
BEGIN:VEVENT
UID:da2b6d47-a1a6-42fd-88bc-f3ce9f369591
SEQUENCE:0
DTSTAMP:20260423T194405Z
DTSTART;VALUE=DATE:20251223
DTEND;VALUE=DATE:20260103
X-MICROSOFT-CDO-ALLDAYEVENT:TRUE
X-MICROSOFT-MSNCALENDAR-ALLDAYEVENT:TRUE
SUMMARY:Christmas Break
DESCRIPTION:Christmas Break - No school
STATUS:CONFIRMED
END:VEVENT
BEGIN:VEVENT
UID:d36564ff-f350-498e-9e7b-17dc174b2fe6
SEQUENCE:0
DTSTAMP:20260423T194405Z
DTSTART;VALUE=DATE:20260320
DTEND;VALUE=DATE:20260328
X-MICROSOFT-CDO-ALLDAYEVENT:TRUE
X-MICROSOFT-MSNCALENDAR-ALLDAYEVENT:TRUE
SUMMARY:Spring Break
DESCRIPTION:Spring Break - No school
STATUS:CONFIRMED
END:VEVENT
BEGIN:VEVENT
UID:f5433ed9-c074-43c3-a908-80c078df4b05
SEQUENCE:0
DTSTAMP:20260423T194405Z
DTSTART;VALUE=DATE:20250704
X-MICROSOFT-CDO-ALLDAYEVENT:TRUE
X-MICROSOFT-MSNCALENDAR-ALLDAYEVENT:TRUE
SUMMARY:Independence Day Holiday
DESCRIPTION:Independence Day Holiday - No school
STATUS:CONFIRMED
END:VEVENT
BEGIN:VEVENT
UID:2fb9f93b-8d88-466e-a2ed-3cae1ca737d5
SEQUENCE:0
DTSTAMP:20260423T194405Z
DTSTART;VALUE=DATE:20250901
X-MICROSOFT-CDO-ALLDAYEVENT:TRUE
X-MICROSOFT-MSNCALENDAR-ALLDAYEVENT:TRUE
SUMMARY:Labor Day - No Students or Staff
DESCRIPTION:Labor Day - No Students or Staff - No school
STATUS:CONFIRMED
END:VEVENT
BEGIN:VEVENT
UID:ffa6de78-e3e1-43d2-a8e8-530b80c7d3fa
SEQUENCE:0
DTSTAMP:20260423T194405Z
DTSTART;VALUE=DATE:20251017
X-MICROSOFT-CDO-ALLDAYEVENT:TRUE
X-MICROSOFT-MSNCALENDAR-ALLDAYEVENT:TRUE
SUMMARY:Off - No Students or Staff
DESCRIPTION:Off - No Students or Staff - No school
STATUS:CONFIRMED
END:VEVENT
BEGIN:VEVENT
UID:89c74cd0-d838-47ff-ac89-a7f457b19123
SEQUENCE:0
DTSTAMP:20260423T194405Z
DTSTART;VALUE=DATE:20251111
X-MICROSOFT-CDO-ALLDAYEVENT:TRUE
X-MICROSOFT-MSNCALENDAR-ALLDAYEVENT:TRUE
SUMMARY:Veterans Day
DESCRIPTION:Veterans Day - No school
STATUS:CONFIRMED
END:VEVENT
BEGIN:VEVENT
UID:7f598e55-3f05-4040-936b-fe373aefac23
SEQUENCE:0
DTSTAMP:20260423T194405Z
DTSTART;VALUE=DATE:20260119
X-MICROSOFT-CDO-ALLDAYEVENT:TRUE
X-MICROSOFT-MSNCALENDAR-ALLDAYEVENT:TRUE
SUMMARY:MLK Day - No Students or Staff
DESCRIPTION:MLK Day - No Students or Staff - No school
STATUS:CONFIRMED
END:VEVENT
BEGIN:VEVENT
UID:46ff3d68-81de-49ce-81ab-9685af9b19c8
SEQUENCE:0
DTSTAMP:20260423T194405Z
DTSTART;VALUE=DATE:20260213
X-MICROSOFT-CDO-ALLDAYEVENT:TRUE
X-MICROSOFT-MSNCALENDAR-ALLDAYEVENT:TRUE
SUMMARY:Off - No Students or Staff/Makeup Day #2
DESCRIPTION:Off - No Students or Staff/Makeup Day #2 - No school
STATUS:CONFIRMED
END:VEVENT
BEGIN:VEVENT
UID:3c800522-4aaf-49fd-92f1-adf3d486ed77
SEQUENCE:0
DTSTAMP:20260423T194405Z
DTSTART;VALUE=DATE:20260216
X-MICROSOFT-CDO-ALLDAYEVENT:TRUE
X-MICROSOFT-MSNCALENDAR-ALLDAYEVENT:TRUE
SUMMARY:Presidents' Day - No Students or Staff
DESCRIPTION:Presidents' Day - No Students or Staff - No school
STATUS:CONFIRMED
END:VEVENT
BEGIN:VEVENT
UID:2e5bdba6-2a09-4ed3-b352-ee68f0af93b3
SEQUENCE:0
DTSTAMP:20260423T194405Z
DTSTART;VALUE=DATE:20260403
X-MICROSOFT-CDO-ALLDAYEVENT:TRUE
X-MICROSOFT-MSNCALENDAR-ALLDAYEVENT:TRUE
SUMMARY:Good Friday - No Students or Staff
DESCRIPTION:Good Friday - No Students or Staff - No school
STATUS:CONFIRMED
END:VEVENT
BEGIN:VEVENT
UID:940eec4b-5fa1-4aa6-bb52-e91052090d0b
SEQUENCE:0
DTSTAMP:20260423T194405Z
DTSTART;VALUE=DATE:20260525
X-MICROSOFT-CDO-ALLDAYEVENT:TRUE
X-MICROSOFT-MSNCALENDAR-ALLDAYEVENT:TRUE
SUMMARY:Memorial Day - No Students or Staff
DESCRIPTION:Memorial Day - No Students or Staff - No school
STATUS:CONFIRMED
END:VEVENT
END:VCALENDAR