BEGIN:VCALENDAR
VERSION:2.0
PRODID:-//SchoolCalendarAPI//school-calendar//EN
URL:https://api.schools-calendar.com/calendar?district_id=ar-booneville-sc
 hool-district&year=2025-26
NAME:Booneville School District School Calendar 2025-26
X-WR-CALNAME:Booneville School District School Calendar 2025-26
X-WR-CALDESC:Official school calendar for Booneville School District for t
 he 2025-26 school year.
REFRESH-INTERVAL;VALUE=DURATION:P1D
X-PUBLISHED-TTL:P1D
BEGIN:VEVENT
UID:d8f62f80-ec2d-4a88-87a6-d8c627dd2022
SEQUENCE:0
DTSTAMP:20260423T194702Z
DTSTART;VALUE=DATE:20250801
X-MICROSOFT-CDO-ALLDAYEVENT:TRUE
X-MICROSOFT-MSNCALENDAR-ALLDAYEVENT:TRUE
SUMMARY:First Day of School
DESCRIPTION:First day of the 2025-26 school year
STATUS:CONFIRMED
END:VEVENT
BEGIN:VEVENT
UID:f7dbddd8-dbcd-48ac-8b52-1d9ad0d7271c
SEQUENCE:0
DTSTAMP:20260423T194702Z
DTSTART;VALUE=DATE:20260523
X-MICROSOFT-CDO-ALLDAYEVENT:TRUE
X-MICROSOFT-MSNCALENDAR-ALLDAYEVENT:TRUE
SUMMARY:Last Day of School
DESCRIPTION:Last day of the 2025-26 school year
STATUS:CONFIRMED
END:VEVENT
BEGIN:VEVENT
UID:af3d5cf5-89ac-4128-80f7-bcd7443f1e08
SEQUENCE:0
DTSTAMP:20260423T194702Z
DTSTART;VALUE=DATE:20251014
DTEND;VALUE=DATE:20251019
X-MICROSOFT-CDO-ALLDAYEVENT:TRUE
X-MICROSOFT-MSNCALENDAR-ALLDAYEVENT:TRUE
SUMMARY:Fall Break
DESCRIPTION:Fall Break - No school
STATUS:CONFIRMED
END:VEVENT
BEGIN:VEVENT
UID:f3ba2ea3-bbfb-447f-bd2c-b6b4caae2af8
SEQUENCE:0
DTSTAMP:20260423T194702Z
DTSTART;VALUE=DATE:20251125
DTEND;VALUE=DATE:20251130
X-MICROSOFT-CDO-ALLDAYEVENT:TRUE
X-MICROSOFT-MSNCALENDAR-ALLDAYEVENT:TRUE
SUMMARY:Thanksgiving Holidays
DESCRIPTION:Thanksgiving Holidays - No school
STATUS:CONFIRMED
END:VEVENT
BEGIN:VEVENT
UID:614bea1c-1aa2-414a-876f-fb45a6c1c807
SEQUENCE:0
DTSTAMP:20260423T194702Z
DTSTART;VALUE=DATE:20251220
DTEND;VALUE=DATE:20260107
X-MICROSOFT-CDO-ALLDAYEVENT:TRUE
X-MICROSOFT-MSNCALENDAR-ALLDAYEVENT:TRUE
SUMMARY:Christmas Holidays (Students)
DESCRIPTION:Christmas Holidays (Students) - No school
STATUS:CONFIRMED
END:VEVENT
BEGIN:VEVENT
UID:74540b15-1d62-4230-b0d9-acf3755388ec
SEQUENCE:0
DTSTAMP:20260423T194702Z
DTSTART;VALUE=DATE:20250902
X-MICROSOFT-CDO-ALLDAYEVENT:TRUE
X-MICROSOFT-MSNCALENDAR-ALLDAYEVENT:TRUE
SUMMARY:Labor Day
DESCRIPTION:Labor Day - No school
STATUS:CONFIRMED
END:VEVENT
BEGIN:VEVENT
UID:e78dd9b7-0b7a-4ece-8199-d841e46c5785
SEQUENCE:0
DTSTAMP:20260423T194702Z
DTSTART;VALUE=DATE:20260120
X-MICROSOFT-CDO-ALLDAYEVENT:TRUE
X-MICROSOFT-MSNCALENDAR-ALLDAYEVENT:TRUE
SUMMARY:MLK Jr. Day
DESCRIPTION:MLK Jr. Day - No school
STATUS:CONFIRMED
END:VEVENT
BEGIN:VEVENT
UID:4f37ace0-7e5b-4b71-97b4-7722958fe980
SEQUENCE:0
DTSTAMP:20260423T194702Z
DTSTART;VALUE=DATE:20260217
X-MICROSOFT-CDO-ALLDAYEVENT:TRUE
X-MICROSOFT-MSNCALENDAR-ALLDAYEVENT:TRUE
SUMMARY:No School (President's Day)
DESCRIPTION:No School (President's Day) - No school
STATUS:CONFIRMED
END:VEVENT
BEGIN:VEVENT
UID:4a097a34-367e-4081-88aa-c29520adbe14
SEQUENCE:0
DTSTAMP:20260423T194702Z
DTSTART;VALUE=DATE:20260418
X-MICROSOFT-CDO-ALLDAYEVENT:TRUE
X-MICROSOFT-MSNCALENDAR-ALLDAYEVENT:TRUE
SUMMARY:Good Friday
DESCRIPTION:Good Friday - No school
STATUS:CONFIRMED
END:VEVENT
BEGIN:VEVENT
UID:e50ad8f6-388c-4b64-a2cf-dcdce197aed8
SEQUENCE:0
DTSTAMP:20260423T194702Z
DTSTART;VALUE=DATE:20260421
X-MICROSOFT-CDO-ALLDAYEVENT:TRUE
X-MICROSOFT-MSNCALENDAR-ALLDAYEVENT:TRUE
SUMMARY:Easter Monday
DESCRIPTION:Easter Monday - No school
STATUS:CONFIRMED
END:VEVENT
BEGIN:VEVENT
UID:70af63ea-9b7d-4685-ba86-89ad5b96fd46
SEQUENCE:0
DTSTAMP:20260423T194702Z
DTSTART;VALUE=DATE:20260526
X-MICROSOFT-CDO-ALLDAYEVENT:TRUE
X-MICROSOFT-MSNCALENDAR-ALLDAYEVENT:TRUE
SUMMARY:No School (Memorial Day)
DESCRIPTION:No School (Memorial Day) - No school
STATUS:CONFIRMED
END:VEVENT
END:VCALENDAR