BEGIN:VCALENDAR
VERSION:2.0
PRODID:-//SchoolCalendarAPI//school-calendar//EN
URL:https://api.schools-calendar.com/calendar?district_id=ar-cabot-public-
 schools&year=2025-26
NAME:Cabot Public Schools School Calendar 2025-26
X-WR-CALNAME:Cabot Public Schools School Calendar 2025-26
X-WR-CALDESC:Official school calendar for Cabot Public Schools for the 202
 5-26 school year.
REFRESH-INTERVAL;VALUE=DURATION:P1D
X-PUBLISHED-TTL:P1D
BEGIN:VEVENT
UID:3bd341d1-c839-444c-bfcb-b2cd6bd127c8
SEQUENCE:0
DTSTAMP:20260423T194529Z
DTSTART;VALUE=DATE:20250812
X-MICROSOFT-CDO-ALLDAYEVENT:TRUE
X-MICROSOFT-MSNCALENDAR-ALLDAYEVENT:TRUE
SUMMARY:First Day of School
DESCRIPTION:First day of the 2025-26 school year
STATUS:CONFIRMED
END:VEVENT
BEGIN:VEVENT
UID:3a811382-2ecf-4352-9a53-e2e561c9420a
SEQUENCE:0
DTSTAMP:20260423T194529Z
DTSTART;VALUE=DATE:20260527
X-MICROSOFT-CDO-ALLDAYEVENT:TRUE
X-MICROSOFT-MSNCALENDAR-ALLDAYEVENT:TRUE
SUMMARY:Last Day of School
DESCRIPTION:Last day of the 2025-26 school year
STATUS:CONFIRMED
END:VEVENT
BEGIN:VEVENT
UID:72bb0350-9797-42b8-8c05-79260f2560fc
SEQUENCE:0
DTSTAMP:20260423T194529Z
DTSTART;VALUE=DATE:20251123
DTEND;VALUE=DATE:20251128
X-MICROSOFT-CDO-ALLDAYEVENT:TRUE
X-MICROSOFT-MSNCALENDAR-ALLDAYEVENT:TRUE
SUMMARY:Fall Break
DESCRIPTION:Fall Break - No school
STATUS:CONFIRMED
END:VEVENT
BEGIN:VEVENT
UID:02eb765a-d4e8-4b33-8102-90a29c20ace2
SEQUENCE:0
DTSTAMP:20260423T194529Z
DTSTART;VALUE=DATE:20251221
DTEND;VALUE=DATE:20260105
X-MICROSOFT-CDO-ALLDAYEVENT:TRUE
X-MICROSOFT-MSNCALENDAR-ALLDAYEVENT:TRUE
SUMMARY:Winter Break
DESCRIPTION:Winter Break - No school
STATUS:CONFIRMED
END:VEVENT
BEGIN:VEVENT
UID:2666c710-b186-433f-9270-ec29669cc97c
SEQUENCE:0
DTSTAMP:20260423T194529Z
DTSTART;VALUE=DATE:20260319
DTEND;VALUE=DATE:20260327
X-MICROSOFT-CDO-ALLDAYEVENT:TRUE
X-MICROSOFT-MSNCALENDAR-ALLDAYEVENT:TRUE
SUMMARY:Spring Break
DESCRIPTION:Spring Break - No school
STATUS:CONFIRMED
END:VEVENT
BEGIN:VEVENT
UID:abfd3d26-b7de-4eb2-8a22-f11e288edce1
SEQUENCE:0
DTSTAMP:20260423T194529Z
DTSTART;VALUE=DATE:20250907
X-MICROSOFT-CDO-ALLDAYEVENT:TRUE
X-MICROSOFT-MSNCALENDAR-ALLDAYEVENT:TRUE
SUMMARY:Labor Day
DESCRIPTION:Labor Day - No school
STATUS:CONFIRMED
END:VEVENT
BEGIN:VEVENT
UID:03203748-fd64-4609-9565-3175e8cf1081
SEQUENCE:0
DTSTAMP:20260423T194529Z
DTSTART;VALUE=DATE:20250904
X-MICROSOFT-CDO-ALLDAYEVENT:TRUE
X-MICROSOFT-MSNCALENDAR-ALLDAYEVENT:TRUE
SUMMARY:No School (Staff Development)
DESCRIPTION:No School (Staff Development) - No school
STATUS:CONFIRMED
END:VEVENT
BEGIN:VEVENT
UID:1b9c4b94-a682-4e09-8619-c232222ed14d
SEQUENCE:0
DTSTAMP:20260423T194529Z
DTSTART;VALUE=DATE:20251005
X-MICROSOFT-CDO-ALLDAYEVENT:TRUE
X-MICROSOFT-MSNCALENDAR-ALLDAYEVENT:TRUE
SUMMARY:No School (Staff Development)
DESCRIPTION:No School (Staff Development) - No school
STATUS:CONFIRMED
END:VEVENT
BEGIN:VEVENT
UID:303b8f7d-1f67-414c-add7-25a7a245d8b0
SEQUENCE:0
DTSTAMP:20260423T194529Z
DTSTART;VALUE=DATE:20251015
X-MICROSOFT-CDO-ALLDAYEVENT:TRUE
X-MICROSOFT-MSNCALENDAR-ALLDAYEVENT:TRUE
SUMMARY:No School (Parent/Teacher Conferences)
DESCRIPTION:No School (Parent/Teacher Conferences) - No school
STATUS:CONFIRMED
END:VEVENT
BEGIN:VEVENT
UID:11196ed4-0a4c-440b-854e-a80013a58ab8
SEQUENCE:0
DTSTAMP:20260423T194529Z
DTSTART;VALUE=DATE:20251016
X-MICROSOFT-CDO-ALLDAYEVENT:TRUE
X-MICROSOFT-MSNCALENDAR-ALLDAYEVENT:TRUE
SUMMARY:No School (Parent/Teacher Conferences)
DESCRIPTION:No School (Parent/Teacher Conferences) - No school
STATUS:CONFIRMED
END:VEVENT
BEGIN:VEVENT
UID:e05fc59a-30f2-4efc-ac84-161b031b474c
SEQUENCE:0
DTSTAMP:20260423T194529Z
DTSTART;VALUE=DATE:20251111
X-MICROSOFT-CDO-ALLDAYEVENT:TRUE
X-MICROSOFT-MSNCALENDAR-ALLDAYEVENT:TRUE
SUMMARY:Veterans Day
DESCRIPTION:Veterans Day - No school
STATUS:CONFIRMED
END:VEVENT
BEGIN:VEVENT
UID:c91504d8-54ec-4bf2-804b-5009a3c5e5e8
SEQUENCE:0
DTSTAMP:20260423T194529Z
DTSTART;VALUE=DATE:20260105
X-MICROSOFT-CDO-ALLDAYEVENT:TRUE
X-MICROSOFT-MSNCALENDAR-ALLDAYEVENT:TRUE
SUMMARY:No School (Staff Development)
DESCRIPTION:No School (Staff Development) - No school
STATUS:CONFIRMED
END:VEVENT
BEGIN:VEVENT
UID:cb8a2fb7-6b96-4aad-a3a8-8822786fb3ab
SEQUENCE:0
DTSTAMP:20260423T194529Z
DTSTART;VALUE=DATE:20260118
X-MICROSOFT-CDO-ALLDAYEVENT:TRUE
X-MICROSOFT-MSNCALENDAR-ALLDAYEVENT:TRUE
SUMMARY:MLK Jr. Day
DESCRIPTION:MLK Jr. Day - No school
STATUS:CONFIRMED
END:VEVENT
BEGIN:VEVENT
UID:f08fd760-fabf-4f34-93f2-61c9fcc00dbf
SEQUENCE:0
DTSTAMP:20260423T194529Z
DTSTART;VALUE=DATE:20260215
X-MICROSOFT-CDO-ALLDAYEVENT:TRUE
X-MICROSOFT-MSNCALENDAR-ALLDAYEVENT:TRUE
SUMMARY:Presidents’ Day
DESCRIPTION:Presidents’ Day - No school
STATUS:CONFIRMED
END:VEVENT
BEGIN:VEVENT
UID:b68ef97b-3e85-472a-a683-c29871e23f8b
SEQUENCE:0
DTSTAMP:20260423T194529Z
DTSTART;VALUE=DATE:20260308
X-MICROSOFT-CDO-ALLDAYEVENT:TRUE
X-MICROSOFT-MSNCALENDAR-ALLDAYEVENT:TRUE
SUMMARY:No School (Staff Development)
DESCRIPTION:No School (Staff Development) - No school
STATUS:CONFIRMED
END:VEVENT
BEGIN:VEVENT
UID:84cd8e97-4b3e-4b23-86bb-f6b7d58a7af4
SEQUENCE:0
DTSTAMP:20260423T194529Z
DTSTART;VALUE=DATE:20260318
X-MICROSOFT-CDO-ALLDAYEVENT:TRUE
X-MICROSOFT-MSNCALENDAR-ALLDAYEVENT:TRUE
SUMMARY:No School (Parent/Teacher Conferences)
DESCRIPTION:No School (Parent/Teacher Conferences) - No school
STATUS:CONFIRMED
END:VEVENT
BEGIN:VEVENT
UID:099e987c-061b-4bd0-8001-44be0c9f6e90
SEQUENCE:0
DTSTAMP:20260423T194529Z
DTSTART;VALUE=DATE:20260416
X-MICROSOFT-CDO-ALLDAYEVENT:TRUE
X-MICROSOFT-MSNCALENDAR-ALLDAYEVENT:TRUE
SUMMARY:No School
DESCRIPTION:No School - No school
STATUS:CONFIRMED
END:VEVENT
BEGIN:VEVENT
UID:4a52bef0-edfb-4e92-a70e-5d02c288e537
SEQUENCE:0
DTSTAMP:20260423T194529Z
DTSTART;VALUE=DATE:20260531
X-MICROSOFT-CDO-ALLDAYEVENT:TRUE
X-MICROSOFT-MSNCALENDAR-ALLDAYEVENT:TRUE
SUMMARY:Memorial Day
DESCRIPTION:Memorial Day - No school
STATUS:CONFIRMED
END:VEVENT
END:VCALENDAR