BEGIN:VCALENDAR
VERSION:2.0
PRODID:-//SchoolCalendarAPI//school-calendar//EN
URL:https://api.schools-calendar.com/calendar?district_id=ar-cossatot-rive
 r-school-district&year=2025-26
NAME:Cossatot River School District School Calendar 2025-26
X-WR-CALNAME:Cossatot River School District School Calendar 2025-26
X-WR-CALDESC:Official school calendar for Cossatot River School District f
 or the 2025-26 school year.
REFRESH-INTERVAL;VALUE=DURATION:P1D
X-PUBLISHED-TTL:P1D
BEGIN:VEVENT
UID:573de1a2-43a9-4c3b-8336-e8571094149a
SEQUENCE:0
DTSTAMP:20260423T194529Z
DTSTART;VALUE=DATE:20250819
X-MICROSOFT-CDO-ALLDAYEVENT:TRUE
X-MICROSOFT-MSNCALENDAR-ALLDAYEVENT:TRUE
SUMMARY:First Day of School
DESCRIPTION:First day of the 2025-26 school year
STATUS:CONFIRMED
END:VEVENT
BEGIN:VEVENT
UID:178e3810-61e3-4fce-a3fc-b2beb7bb07f3
SEQUENCE:0
DTSTAMP:20260423T194529Z
DTSTART;VALUE=DATE:20260522
X-MICROSOFT-CDO-ALLDAYEVENT:TRUE
X-MICROSOFT-MSNCALENDAR-ALLDAYEVENT:TRUE
SUMMARY:Last Day of School
DESCRIPTION:Last day of the 2025-26 school year
STATUS:CONFIRMED
END:VEVENT
BEGIN:VEVENT
UID:39bdb8b5-6e24-428c-958e-115df30aba38
SEQUENCE:0
DTSTAMP:20260423T194529Z
DTSTART;VALUE=DATE:20251125
DTEND;VALUE=DATE:20251129
X-MICROSOFT-CDO-ALLDAYEVENT:TRUE
X-MICROSOFT-MSNCALENDAR-ALLDAYEVENT:TRUE
SUMMARY:Thanksgiving Break
DESCRIPTION:Thanksgiving Break - No school
STATUS:CONFIRMED
END:VEVENT
BEGIN:VEVENT
UID:5e239edd-d9f5-4d11-8501-08c355475fc2
SEQUENCE:0
DTSTAMP:20260423T194529Z
DTSTART;VALUE=DATE:20251223
DTEND;VALUE=DATE:20260103
X-MICROSOFT-CDO-ALLDAYEVENT:TRUE
X-MICROSOFT-MSNCALENDAR-ALLDAYEVENT:TRUE
SUMMARY:Christmas Break
DESCRIPTION:Christmas Break - No school
STATUS:CONFIRMED
END:VEVENT
BEGIN:VEVENT
UID:a10f8498-2efa-4951-82e5-c78cb225919a
SEQUENCE:0
DTSTAMP:20260423T194529Z
DTSTART;VALUE=DATE:20260324
DTEND;VALUE=DATE:20260328
X-MICROSOFT-CDO-ALLDAYEVENT:TRUE
X-MICROSOFT-MSNCALENDAR-ALLDAYEVENT:TRUE
SUMMARY:Spring Break
DESCRIPTION:Spring Break - No school
STATUS:CONFIRMED
END:VEVENT
BEGIN:VEVENT
UID:5c8dda83-a188-4874-857f-d6906d64dab1
SEQUENCE:0
DTSTAMP:20260423T194529Z
DTSTART;VALUE=DATE:20250812
X-MICROSOFT-CDO-ALLDAYEVENT:TRUE
X-MICROSOFT-MSNCALENDAR-ALLDAYEVENT:TRUE
SUMMARY:PD Days
DESCRIPTION:PD Days - No school
STATUS:CONFIRMED
END:VEVENT
BEGIN:VEVENT
UID:1aa9a805-c691-48d7-968b-0c04b1d1fdb4
SEQUENCE:0
DTSTAMP:20260423T194529Z
DTSTART;VALUE=DATE:20250813
X-MICROSOFT-CDO-ALLDAYEVENT:TRUE
X-MICROSOFT-MSNCALENDAR-ALLDAYEVENT:TRUE
SUMMARY:PD Days
DESCRIPTION:PD Days - No school
STATUS:CONFIRMED
END:VEVENT
BEGIN:VEVENT
UID:6e513e27-371c-4771-88d5-074ecaba1ebb
SEQUENCE:0
DTSTAMP:20260423T194529Z
DTSTART;VALUE=DATE:20250814
X-MICROSOFT-CDO-ALLDAYEVENT:TRUE
X-MICROSOFT-MSNCALENDAR-ALLDAYEVENT:TRUE
SUMMARY:PD Days
DESCRIPTION:PD Days - No school
STATUS:CONFIRMED
END:VEVENT
BEGIN:VEVENT
UID:25670ebd-9cd1-4cfb-90d8-8ff169dd20f8
SEQUENCE:0
DTSTAMP:20260423T194529Z
DTSTART;VALUE=DATE:20251023
X-MICROSOFT-CDO-ALLDAYEVENT:TRUE
X-MICROSOFT-MSNCALENDAR-ALLDAYEVENT:TRUE
SUMMARY:P-T Conf.
DESCRIPTION:P-T Conf. - No school
STATUS:CONFIRMED
END:VEVENT
BEGIN:VEVENT
UID:0c6facc1-11f0-40a9-8ee9-dde6e9278186
SEQUENCE:0
DTSTAMP:20260423T194529Z
DTSTART;VALUE=DATE:20260319
X-MICROSOFT-CDO-ALLDAYEVENT:TRUE
X-MICROSOFT-MSNCALENDAR-ALLDAYEVENT:TRUE
SUMMARY:P-T Conf.
DESCRIPTION:P-T Conf. - No school
STATUS:CONFIRMED
END:VEVENT
BEGIN:VEVENT
UID:301c3aa4-232d-46ee-a894-b1e99e727825
SEQUENCE:0
DTSTAMP:20260423T194529Z
DTSTART;VALUE=DATE:20260320
X-MICROSOFT-CDO-ALLDAYEVENT:TRUE
X-MICROSOFT-MSNCALENDAR-ALLDAYEVENT:TRUE
SUMMARY:Inclement Weather Day
DESCRIPTION:Inclement Weather Day - No school
STATUS:CONFIRMED
END:VEVENT
BEGIN:VEVENT
UID:ba70bb14-2880-4326-a0b1-2f8bec31e6bc
SEQUENCE:0
DTSTAMP:20260423T194529Z
DTSTART;VALUE=DATE:20260420
X-MICROSOFT-CDO-ALLDAYEVENT:TRUE
X-MICROSOFT-MSNCALENDAR-ALLDAYEVENT:TRUE
SUMMARY:Inclement Weather Day
DESCRIPTION:Inclement Weather Day - No school
STATUS:CONFIRMED
END:VEVENT
BEGIN:VEVENT
UID:a7b83de5-630e-46c7-a0fd-b972faa538ab
SEQUENCE:0
DTSTAMP:20260423T194529Z
DTSTART;VALUE=DATE:20260526
X-MICROSOFT-CDO-ALLDAYEVENT:TRUE
X-MICROSOFT-MSNCALENDAR-ALLDAYEVENT:TRUE
SUMMARY:Inclement Weather Day
DESCRIPTION:Inclement Weather Day - No school
STATUS:CONFIRMED
END:VEVENT
BEGIN:VEVENT
UID:83f5def0-c78b-446f-8738-4443e327e0d1
SEQUENCE:0
DTSTAMP:20260423T194529Z
DTSTART;VALUE=DATE:20260527
X-MICROSOFT-CDO-ALLDAYEVENT:TRUE
X-MICROSOFT-MSNCALENDAR-ALLDAYEVENT:TRUE
SUMMARY:Inclement Weather Day
DESCRIPTION:Inclement Weather Day - No school
STATUS:CONFIRMED
END:VEVENT
BEGIN:VEVENT
UID:03c927da-8e79-4b18-9222-ee10f81d2225
SEQUENCE:0
DTSTAMP:20260423T194529Z
DTSTART;VALUE=DATE:20260528
X-MICROSOFT-CDO-ALLDAYEVENT:TRUE
X-MICROSOFT-MSNCALENDAR-ALLDAYEVENT:TRUE
SUMMARY:Inclement Weather Day
DESCRIPTION:Inclement Weather Day - No school
STATUS:CONFIRMED
END:VEVENT
END:VCALENDAR