BEGIN:VCALENDAR
VERSION:2.0
PRODID:-//SchoolCalendarAPI//school-calendar//EN
URL:https://api.schools-calendar.com/calendar?district_id=ar-farmington-sc
 hool-district&year=2025-26
NAME:Farmington School District School Calendar 2025-26
X-WR-CALNAME:Farmington School District School Calendar 2025-26
X-WR-CALDESC:Official school calendar for Farmington School District for t
 he 2025-26 school year.
REFRESH-INTERVAL;VALUE=DURATION:P1D
X-PUBLISHED-TTL:P1D
BEGIN:VEVENT
UID:93a5eac0-a1fd-4de4-b3c7-5a996eaa78ad
SEQUENCE:0
DTSTAMP:20260423T194640Z
DTSTART;VALUE=DATE:20250902
X-MICROSOFT-CDO-ALLDAYEVENT:TRUE
X-MICROSOFT-MSNCALENDAR-ALLDAYEVENT:TRUE
SUMMARY:First Day of School
DESCRIPTION:First day of the 2025-26 school year
STATUS:CONFIRMED
END:VEVENT
BEGIN:VEVENT
UID:6386f6fc-7f58-4f76-9da5-cf1af24add0a
SEQUENCE:0
DTSTAMP:20260423T194640Z
DTSTART;VALUE=DATE:20260618
X-MICROSOFT-CDO-ALLDAYEVENT:TRUE
X-MICROSOFT-MSNCALENDAR-ALLDAYEVENT:TRUE
SUMMARY:Last Day of School
DESCRIPTION:Last day of the 2025-26 school year
STATUS:CONFIRMED
END:VEVENT
BEGIN:VEVENT
UID:806840e4-32af-4830-adc8-fe80c62155a8
SEQUENCE:0
DTSTAMP:20260423T194640Z
DTSTART;VALUE=DATE:20251126
DTEND;VALUE=DATE:20251129
X-MICROSOFT-CDO-ALLDAYEVENT:TRUE
X-MICROSOFT-MSNCALENDAR-ALLDAYEVENT:TRUE
SUMMARY:Thanksgiving Vacation
DESCRIPTION:Thanksgiving Vacation - No school
STATUS:CONFIRMED
END:VEVENT
BEGIN:VEVENT
UID:de76adf8-3176-4cae-a60f-ed9b8e2282ba
SEQUENCE:0
DTSTAMP:20260423T194640Z
DTSTART;VALUE=DATE:20251224
DTEND;VALUE=DATE:20260103
X-MICROSOFT-CDO-ALLDAYEVENT:TRUE
X-MICROSOFT-MSNCALENDAR-ALLDAYEVENT:TRUE
SUMMARY:Holiday Vacation
DESCRIPTION:Holiday Vacation - No school
STATUS:CONFIRMED
END:VEVENT
BEGIN:VEVENT
UID:5cbfdfe7-875b-48ca-969f-5720a85e956f
SEQUENCE:0
DTSTAMP:20260423T194640Z
DTSTART;VALUE=DATE:20260223
DTEND;VALUE=DATE:20260228
X-MICROSOFT-CDO-ALLDAYEVENT:TRUE
X-MICROSOFT-MSNCALENDAR-ALLDAYEVENT:TRUE
SUMMARY:Winter Vacation
DESCRIPTION:Winter Vacation - No school
STATUS:CONFIRMED
END:VEVENT
BEGIN:VEVENT
UID:158f7ca2-ad32-4b15-8c39-b2de8c7fcdf2
SEQUENCE:0
DTSTAMP:20260423T194640Z
DTSTART;VALUE=DATE:20260427
DTEND;VALUE=DATE:20260502
X-MICROSOFT-CDO-ALLDAYEVENT:TRUE
X-MICROSOFT-MSNCALENDAR-ALLDAYEVENT:TRUE
SUMMARY:Spring Vacation
DESCRIPTION:Spring Vacation - No school
STATUS:CONFIRMED
END:VEVENT
BEGIN:VEVENT
UID:2ed0804c-9744-4791-83a5-f0fafef104cc
SEQUENCE:0
DTSTAMP:20260423T194640Z
DTSTART;VALUE=DATE:20250901
X-MICROSOFT-CDO-ALLDAYEVENT:TRUE
X-MICROSOFT-MSNCALENDAR-ALLDAYEVENT:TRUE
SUMMARY:Labor Day
DESCRIPTION:Labor Day - No school
STATUS:CONFIRMED
END:VEVENT
BEGIN:VEVENT
UID:fb41074a-b0e9-4b7c-878a-d90e57471aac
SEQUENCE:0
DTSTAMP:20260423T194640Z
DTSTART;VALUE=DATE:20251013
X-MICROSOFT-CDO-ALLDAYEVENT:TRUE
X-MICROSOFT-MSNCALENDAR-ALLDAYEVENT:TRUE
SUMMARY:Columbus/Indigenous Peoples’ Day
DESCRIPTION:Columbus/Indigenous Peoples’ Day - No school
STATUS:CONFIRMED
END:VEVENT
BEGIN:VEVENT
UID:d28f293e-d46c-4349-937e-25f77c5cfef6
SEQUENCE:0
DTSTAMP:20260423T194640Z
DTSTART;VALUE=DATE:20251111
X-MICROSOFT-CDO-ALLDAYEVENT:TRUE
X-MICROSOFT-MSNCALENDAR-ALLDAYEVENT:TRUE
SUMMARY:Veterans’ Day Observed
DESCRIPTION:Veterans’ Day Observed - No school
STATUS:CONFIRMED
END:VEVENT
BEGIN:VEVENT
UID:ce213edc-df3e-4c2a-9c4e-4ff78247e146
SEQUENCE:0
DTSTAMP:20260423T194640Z
DTSTART;VALUE=DATE:20260119
X-MICROSOFT-CDO-ALLDAYEVENT:TRUE
X-MICROSOFT-MSNCALENDAR-ALLDAYEVENT:TRUE
SUMMARY:Martin Luther King\, Jr. Civil Rights Day
DESCRIPTION:Martin Luther King\, Jr. Civil Rights Day - No school
STATUS:CONFIRMED
END:VEVENT
BEGIN:VEVENT
UID:30f02bfd-0cfe-4d64-bb78-0e2ee9f2cc65
SEQUENCE:0
DTSTAMP:20260423T194640Z
DTSTART;VALUE=DATE:20260525
X-MICROSOFT-CDO-ALLDAYEVENT:TRUE
X-MICROSOFT-MSNCALENDAR-ALLDAYEVENT:TRUE
SUMMARY:Memorial Day
DESCRIPTION:Memorial Day - No school
STATUS:CONFIRMED
END:VEVENT
END:VCALENDAR