BEGIN:VCALENDAR
VERSION:2.0
PRODID:-//SchoolCalendarAPI//school-calendar//EN
URL:https://api.schools-calendar.com/calendar?district_id=ar-nevada-school
 -district&year=2025-26
NAME:Nevada School District School Calendar 2025-26
X-WR-CALNAME:Nevada School District School Calendar 2025-26
X-WR-CALDESC:Official school calendar for Nevada School District for the 2
 025-26 school year.
REFRESH-INTERVAL;VALUE=DURATION:P1D
X-PUBLISHED-TTL:P1D
BEGIN:VEVENT
UID:95c8ff45-82cf-472b-8f87-5f4d8770556e
SEQUENCE:0
DTSTAMP:20260423T194324Z
DTSTART;VALUE=DATE:20250812
X-MICROSOFT-CDO-ALLDAYEVENT:TRUE
X-MICROSOFT-MSNCALENDAR-ALLDAYEVENT:TRUE
SUMMARY:First Day of School
DESCRIPTION:First day of the 2025-26 school year
STATUS:CONFIRMED
END:VEVENT
BEGIN:VEVENT
UID:c8b75d6b-23b1-4f89-9e01-310560cbb43b
SEQUENCE:0
DTSTAMP:20260423T194324Z
DTSTART;VALUE=DATE:20260521
X-MICROSOFT-CDO-ALLDAYEVENT:TRUE
X-MICROSOFT-MSNCALENDAR-ALLDAYEVENT:TRUE
SUMMARY:Last Day of School
DESCRIPTION:Last day of the 2025-26 school year
STATUS:CONFIRMED
END:VEVENT
BEGIN:VEVENT
UID:7236011c-bdba-487e-a8d8-3c19c69781be
SEQUENCE:0
DTSTAMP:20260423T194324Z
DTSTART;VALUE=DATE:20251218
DTEND;VALUE=DATE:20260102
X-MICROSOFT-CDO-ALLDAYEVENT:TRUE
X-MICROSOFT-MSNCALENDAR-ALLDAYEVENT:TRUE
SUMMARY:Christmas Break
DESCRIPTION:Christmas Break - No school
STATUS:CONFIRMED
END:VEVENT
BEGIN:VEVENT
UID:75e1faef-cf3b-458a-8a50-e18a6f6e060e
SEQUENCE:0
DTSTAMP:20260423T194324Z
DTSTART;VALUE=DATE:20260323
DTEND;VALUE=DATE:20260328
X-MICROSOFT-CDO-ALLDAYEVENT:TRUE
X-MICROSOFT-MSNCALENDAR-ALLDAYEVENT:TRUE
SUMMARY:Spring Break
DESCRIPTION:Spring Break - No school
STATUS:CONFIRMED
END:VEVENT
BEGIN:VEVENT
UID:db1437ec-0245-40d6-b315-2c1ac7c534a1
SEQUENCE:0
DTSTAMP:20260423T194324Z
DTSTART;VALUE=DATE:20260406
DTEND;VALUE=DATE:20260407
X-MICROSOFT-CDO-ALLDAYEVENT:TRUE
X-MICROSOFT-MSNCALENDAR-ALLDAYEVENT:TRUE
SUMMARY:Easter Break
DESCRIPTION:Easter Break - No school
STATUS:CONFIRMED
END:VEVENT
BEGIN:VEVENT
UID:1d2f36e9-b87e-48e2-a08d-b5d17139ff19
SEQUENCE:0
DTSTAMP:20260423T194324Z
DTSTART;VALUE=DATE:20251126
DTEND;VALUE=DATE:20251128
X-MICROSOFT-CDO-ALLDAYEVENT:TRUE
X-MICROSOFT-MSNCALENDAR-ALLDAYEVENT:TRUE
SUMMARY:Thanksgiving Break
DESCRIPTION:Thanksgiving Break - No school
STATUS:CONFIRMED
END:VEVENT
BEGIN:VEVENT
UID:1f80b6bc-1720-4fd7-8abc-85ff7196c68d
SEQUENCE:0
DTSTAMP:20260423T194324Z
DTSTART;VALUE=DATE:20250704
X-MICROSOFT-CDO-ALLDAYEVENT:TRUE
X-MICROSOFT-MSNCALENDAR-ALLDAYEVENT:TRUE
SUMMARY:Independence Day
DESCRIPTION:Independence Day - No school
STATUS:CONFIRMED
END:VEVENT
BEGIN:VEVENT
UID:cdd0c36a-5ae2-4abb-abdb-f432d26e3eaf
SEQUENCE:0
DTSTAMP:20260423T194324Z
DTSTART;VALUE=DATE:20250901
X-MICROSOFT-CDO-ALLDAYEVENT:TRUE
X-MICROSOFT-MSNCALENDAR-ALLDAYEVENT:TRUE
SUMMARY:Labor Day
DESCRIPTION:Labor Day - No school
STATUS:CONFIRMED
END:VEVENT
BEGIN:VEVENT
UID:042aba73-13ba-405e-8d64-f3c548e0ad26
SEQUENCE:0
DTSTAMP:20260423T194324Z
DTSTART;VALUE=DATE:20260119
X-MICROSOFT-CDO-ALLDAYEVENT:TRUE
X-MICROSOFT-MSNCALENDAR-ALLDAYEVENT:TRUE
SUMMARY:Martin Luther King\, Jr. Holiday
DESCRIPTION:Martin Luther King\, Jr. Holiday - No school
STATUS:CONFIRMED
END:VEVENT
BEGIN:VEVENT
UID:dc6806c5-d24b-4927-ad5c-8f2105bcd4a4
SEQUENCE:0
DTSTAMP:20260423T194324Z
DTSTART;VALUE=DATE:20260216
X-MICROSOFT-CDO-ALLDAYEVENT:TRUE
X-MICROSOFT-MSNCALENDAR-ALLDAYEVENT:TRUE
SUMMARY:Presidents’ Day
DESCRIPTION:Presidents’ Day - No school
STATUS:CONFIRMED
END:VEVENT
BEGIN:VEVENT
UID:466e57b9-2544-499e-ac62-0775fdaf9bd3
SEQUENCE:0
DTSTAMP:20260423T194324Z
DTSTART;VALUE=DATE:20260525
X-MICROSOFT-CDO-ALLDAYEVENT:TRUE
X-MICROSOFT-MSNCALENDAR-ALLDAYEVENT:TRUE
SUMMARY:Memorial’s Day
DESCRIPTION:Memorial’s Day - No school
STATUS:CONFIRMED
END:VEVENT
END:VCALENDAR