BEGIN:VCALENDAR
VERSION:2.0
PRODID:-//SchoolCalendarAPI//school-calendar//EN
URL:https://api.schools-calendar.com/calendar?district_id=ar-palestine-whe
 atley-school-district&year=2025-26
NAME:Palestine-Wheatley School District School Calendar 2025-26
X-WR-CALNAME:Palestine-Wheatley School District School Calendar 2025-26
X-WR-CALDESC:Official school calendar for Palestine-Wheatley School Distri
 ct for the 2025-26 school year.
REFRESH-INTERVAL;VALUE=DURATION:P1D
X-PUBLISHED-TTL:P1D
BEGIN:VEVENT
UID:f4b4d0b6-569a-47c2-a761-0d2adad75d26
SEQUENCE:0
DTSTAMP:20260423T194702Z
DTSTART;VALUE=DATE:20250827
X-MICROSOFT-CDO-ALLDAYEVENT:TRUE
X-MICROSOFT-MSNCALENDAR-ALLDAYEVENT:TRUE
SUMMARY:First Day of School
DESCRIPTION:First day of the 2025-26 school year
STATUS:CONFIRMED
END:VEVENT
BEGIN:VEVENT
UID:66b434ca-536a-462a-b033-b8e40661cebe
SEQUENCE:0
DTSTAMP:20260423T194702Z
DTSTART;VALUE=DATE:20260611
X-MICROSOFT-CDO-ALLDAYEVENT:TRUE
X-MICROSOFT-MSNCALENDAR-ALLDAYEVENT:TRUE
SUMMARY:Last Day of School
DESCRIPTION:Last day of the 2025-26 school year
STATUS:CONFIRMED
END:VEVENT
BEGIN:VEVENT
UID:1717a0eb-d0d0-4951-b409-cdf11914bd47
SEQUENCE:0
DTSTAMP:20260423T194702Z
DTSTART;VALUE=DATE:20251126
DTEND;VALUE=DATE:20251129
X-MICROSOFT-CDO-ALLDAYEVENT:TRUE
X-MICROSOFT-MSNCALENDAR-ALLDAYEVENT:TRUE
SUMMARY:Thanksgiving Holiday/Building Closure
DESCRIPTION:Thanksgiving Holiday/Building Closure - No school
STATUS:CONFIRMED
END:VEVENT
BEGIN:VEVENT
UID:03a87f61-a88e-4810-86d0-7540576400ec
SEQUENCE:0
DTSTAMP:20260423T194702Z
DTSTART;VALUE=DATE:20251222
DTEND;VALUE=DATE:20260101
X-MICROSOFT-CDO-ALLDAYEVENT:TRUE
X-MICROSOFT-MSNCALENDAR-ALLDAYEVENT:TRUE
SUMMARY:Winter Break/Buildings Closed
DESCRIPTION:Winter Break/Buildings Closed - No school
STATUS:CONFIRMED
END:VEVENT
BEGIN:VEVENT
UID:79344bed-bec3-4381-a8cc-716e37fffbd9
SEQUENCE:0
DTSTAMP:20260423T194702Z
DTSTART;VALUE=DATE:20260323
DTEND;VALUE=DATE:20260328
X-MICROSOFT-CDO-ALLDAYEVENT:TRUE
X-MICROSOFT-MSNCALENDAR-ALLDAYEVENT:TRUE
SUMMARY:Spring Break/Buildings Closed
DESCRIPTION:Spring Break/Buildings Closed - No school
STATUS:CONFIRMED
END:VEVENT
BEGIN:VEVENT
UID:74b2386c-4d4b-45b5-a372-ea3692582ba3
SEQUENCE:0
DTSTAMP:20260423T194702Z
DTSTART;VALUE=DATE:20250901
X-MICROSOFT-CDO-ALLDAYEVENT:TRUE
X-MICROSOFT-MSNCALENDAR-ALLDAYEVENT:TRUE
SUMMARY:Labor Day Holiday
DESCRIPTION:Labor Day Holiday - No school
STATUS:CONFIRMED
END:VEVENT
BEGIN:VEVENT
UID:00c528a2-aea5-462b-8b4b-3c555038fdf9
SEQUENCE:0
DTSTAMP:20260423T194702Z
DTSTART;VALUE=DATE:20251111
X-MICROSOFT-CDO-ALLDAYEVENT:TRUE
X-MICROSOFT-MSNCALENDAR-ALLDAYEVENT:TRUE
SUMMARY:Veteran's Day Holiday
DESCRIPTION:Veteran's Day Holiday - No school
STATUS:CONFIRMED
END:VEVENT
BEGIN:VEVENT
UID:e0315d95-3459-4d26-b673-750987898b25
SEQUENCE:0
DTSTAMP:20260423T194702Z
DTSTART;VALUE=DATE:20260101
X-MICROSOFT-CDO-ALLDAYEVENT:TRUE
X-MICROSOFT-MSNCALENDAR-ALLDAYEVENT:TRUE
SUMMARY:New Year's Day Holiday
DESCRIPTION:New Year's Day Holiday - No school
STATUS:CONFIRMED
END:VEVENT
BEGIN:VEVENT
UID:2d15b293-986a-4019-8581-811067d0c858
SEQUENCE:0
DTSTAMP:20260423T194702Z
DTSTART;VALUE=DATE:20260119
X-MICROSOFT-CDO-ALLDAYEVENT:TRUE
X-MICROSOFT-MSNCALENDAR-ALLDAYEVENT:TRUE
SUMMARY:Martin Luther King Jr. Holiday
DESCRIPTION:Martin Luther King Jr. Holiday - No school
STATUS:CONFIRMED
END:VEVENT
BEGIN:VEVENT
UID:fb1f5950-9c92-4505-8ef1-58b5d7b9ed88
SEQUENCE:0
DTSTAMP:20260423T194702Z
DTSTART;VALUE=DATE:20260216
X-MICROSOFT-CDO-ALLDAYEVENT:TRUE
X-MICROSOFT-MSNCALENDAR-ALLDAYEVENT:TRUE
SUMMARY:President's Day Holiday
DESCRIPTION:President's Day Holiday - No school
STATUS:CONFIRMED
END:VEVENT
BEGIN:VEVENT
UID:7c4fd256-c710-4563-b84e-d6af4ad3a002
SEQUENCE:0
DTSTAMP:20260423T194702Z
DTSTART;VALUE=DATE:20260525
X-MICROSOFT-CDO-ALLDAYEVENT:TRUE
X-MICROSOFT-MSNCALENDAR-ALLDAYEVENT:TRUE
SUMMARY:Memorial Day Holiday
DESCRIPTION:Memorial Day Holiday - No school
STATUS:CONFIRMED
END:VEVENT
END:VCALENDAR