BEGIN:VCALENDAR
VERSION:2.0
PRODID:-//SchoolCalendarAPI//school-calendar//EN
URL:https://api.schools-calendar.com/calendar?district_id=ar-pulaski-count
 y-special-school-district&year=2025-26
NAME:Pulaski County Special School District School Calendar 2025-26
X-WR-CALNAME:Pulaski County Special School District School Calendar 2025-2
 6
X-WR-CALDESC:Official school calendar for Pulaski County Special School Di
 strict for the 2025-26 school year.
REFRESH-INTERVAL;VALUE=DURATION:P1D
X-PUBLISHED-TTL:P1D
BEGIN:VEVENT
UID:0445df13-c7f5-4089-a3c4-777f0c2424b2
SEQUENCE:0
DTSTAMP:20260423T194759Z
DTSTART;VALUE=DATE:20250814
X-MICROSOFT-CDO-ALLDAYEVENT:TRUE
X-MICROSOFT-MSNCALENDAR-ALLDAYEVENT:TRUE
SUMMARY:First Day of School
DESCRIPTION:First day of the 2025-26 school year
STATUS:CONFIRMED
END:VEVENT
BEGIN:VEVENT
UID:3689c64f-3b0d-4604-ae8d-7be18ab491a5
SEQUENCE:0
DTSTAMP:20260423T194759Z
DTSTART;VALUE=DATE:20260530
X-MICROSOFT-CDO-ALLDAYEVENT:TRUE
X-MICROSOFT-MSNCALENDAR-ALLDAYEVENT:TRUE
SUMMARY:Last Day of School
DESCRIPTION:Last day of the 2025-26 school year
STATUS:CONFIRMED
END:VEVENT
BEGIN:VEVENT
UID:967d0ee9-36cc-42d8-b6eb-a36f1df16924
SEQUENCE:0
DTSTAMP:20260423T194759Z
DTSTART;VALUE=DATE:20251104
DTEND;VALUE=DATE:20251105
X-MICROSOFT-CDO-ALLDAYEVENT:TRUE
X-MICROSOFT-MSNCALENDAR-ALLDAYEVENT:TRUE
SUMMARY:Fall Break
DESCRIPTION:Fall Break - No school
STATUS:CONFIRMED
END:VEVENT
BEGIN:VEVENT
UID:f4232027-cfbe-4207-9226-82e25615997e
SEQUENCE:0
DTSTAMP:20260423T194759Z
DTSTART;VALUE=DATE:20251127
DTEND;VALUE=DATE:20251130
X-MICROSOFT-CDO-ALLDAYEVENT:TRUE
X-MICROSOFT-MSNCALENDAR-ALLDAYEVENT:TRUE
SUMMARY:Thanksgiving Break
DESCRIPTION:Thanksgiving Break - No school
STATUS:CONFIRMED
END:VEVENT
BEGIN:VEVENT
UID:5ed53bdd-7878-4011-9341-b15c33fd1873
SEQUENCE:0
DTSTAMP:20260423T194759Z
DTSTART;VALUE=DATE:20251223
DTEND;VALUE=DATE:20260101
X-MICROSOFT-CDO-ALLDAYEVENT:TRUE
X-MICROSOFT-MSNCALENDAR-ALLDAYEVENT:TRUE
SUMMARY:Winter Break
DESCRIPTION:Winter Break - No school
STATUS:CONFIRMED
END:VEVENT
BEGIN:VEVENT
UID:d866e18d-af93-40ee-9c0d-5d66dd8b1884
SEQUENCE:0
DTSTAMP:20260423T194759Z
DTSTART;VALUE=DATE:20260414
DTEND;VALUE=DATE:20260419
X-MICROSOFT-CDO-ALLDAYEVENT:TRUE
X-MICROSOFT-MSNCALENDAR-ALLDAYEVENT:TRUE
SUMMARY:Spring Break
DESCRIPTION:Spring Break - No school
STATUS:CONFIRMED
END:VEVENT
BEGIN:VEVENT
UID:334603ce-6dc8-4bd8-8a4a-9b65770752b7
SEQUENCE:0
DTSTAMP:20260423T194759Z
DTSTART;VALUE=DATE:20250704
X-MICROSOFT-CDO-ALLDAYEVENT:TRUE
X-MICROSOFT-MSNCALENDAR-ALLDAYEVENT:TRUE
SUMMARY:Independence Day
DESCRIPTION:Independence Day - No school
STATUS:CONFIRMED
END:VEVENT
BEGIN:VEVENT
UID:88689f18-26cc-43bf-8986-e28f0cd3b373
SEQUENCE:0
DTSTAMP:20260423T194759Z
DTSTART;VALUE=DATE:20250902
X-MICROSOFT-CDO-ALLDAYEVENT:TRUE
X-MICROSOFT-MSNCALENDAR-ALLDAYEVENT:TRUE
SUMMARY:Labor Day
DESCRIPTION:Labor Day - No school
STATUS:CONFIRMED
END:VEVENT
BEGIN:VEVENT
UID:db240064-f079-4044-b13d-95e057fc316d
SEQUENCE:0
DTSTAMP:20260423T194759Z
DTSTART;VALUE=DATE:20251105
X-MICROSOFT-CDO-ALLDAYEVENT:TRUE
X-MICROSOFT-MSNCALENDAR-ALLDAYEVENT:TRUE
SUMMARY:Election Day
DESCRIPTION:Election Day - No school
STATUS:CONFIRMED
END:VEVENT
BEGIN:VEVENT
UID:b12d3edf-f523-492e-82b5-9cd882642386
SEQUENCE:0
DTSTAMP:20260423T194759Z
DTSTART;VALUE=DATE:20260101
X-MICROSOFT-CDO-ALLDAYEVENT:TRUE
X-MICROSOFT-MSNCALENDAR-ALLDAYEVENT:TRUE
SUMMARY:Winter Break (Jan 1-3)
DESCRIPTION:Winter Break (Jan 1-3) - No school
STATUS:CONFIRMED
END:VEVENT
BEGIN:VEVENT
UID:6bb15fc0-c403-41e9-8af5-735b736eeba9
SEQUENCE:0
DTSTAMP:20260423T194759Z
DTSTART;VALUE=DATE:20260102
X-MICROSOFT-CDO-ALLDAYEVENT:TRUE
X-MICROSOFT-MSNCALENDAR-ALLDAYEVENT:TRUE
SUMMARY:Winter Break (Jan 1-3)
DESCRIPTION:Winter Break (Jan 1-3) - No school
STATUS:CONFIRMED
END:VEVENT
BEGIN:VEVENT
UID:bdfb1f89-4b25-469b-b9b0-6a0ae9016be2
SEQUENCE:0
DTSTAMP:20260423T194759Z
DTSTART;VALUE=DATE:20260103
X-MICROSOFT-CDO-ALLDAYEVENT:TRUE
X-MICROSOFT-MSNCALENDAR-ALLDAYEVENT:TRUE
SUMMARY:Winter Break (Jan 1-3)
DESCRIPTION:Winter Break (Jan 1-3) - No school
STATUS:CONFIRMED
END:VEVENT
BEGIN:VEVENT
UID:e4e5d85b-ee23-499e-9fc7-8a52dfb19954
SEQUENCE:0
DTSTAMP:20260423T194759Z
DTSTART;VALUE=DATE:20260120
X-MICROSOFT-CDO-ALLDAYEVENT:TRUE
X-MICROSOFT-MSNCALENDAR-ALLDAYEVENT:TRUE
SUMMARY:MLK Day
DESCRIPTION:MLK Day - No school
STATUS:CONFIRMED
END:VEVENT
BEGIN:VEVENT
UID:f963adb4-b3f1-43b9-8f6f-d0be030e2e73
SEQUENCE:0
DTSTAMP:20260423T194759Z
DTSTART;VALUE=DATE:20260217
X-MICROSOFT-CDO-ALLDAYEVENT:TRUE
X-MICROSOFT-MSNCALENDAR-ALLDAYEVENT:TRUE
SUMMARY:President's Day
DESCRIPTION:President's Day - No school
STATUS:CONFIRMED
END:VEVENT
BEGIN:VEVENT
UID:592773af-53be-4275-bf64-04865bb12656
SEQUENCE:0
DTSTAMP:20260423T194759Z
DTSTART;VALUE=DATE:20260526
X-MICROSOFT-CDO-ALLDAYEVENT:TRUE
X-MICROSOFT-MSNCALENDAR-ALLDAYEVENT:TRUE
SUMMARY:Memorial Day
DESCRIPTION:Memorial Day - No school
STATUS:CONFIRMED
END:VEVENT
BEGIN:VEVENT
UID:4c0856a2-3198-4a2d-9f15-d7afad2f1e4c
SEQUENCE:0
DTSTAMP:20260423T194759Z
DTSTART;VALUE=DATE:20260619
X-MICROSOFT-CDO-ALLDAYEVENT:TRUE
X-MICROSOFT-MSNCALENDAR-ALLDAYEVENT:TRUE
SUMMARY:Juneteenth Day
DESCRIPTION:Juneteenth Day - No school
STATUS:CONFIRMED
END:VEVENT
END:VCALENDAR