BEGIN:VCALENDAR
VERSION:2.0
PRODID:-//SchoolCalendarAPI//school-calendar//EN
URL:https://api.schools-calendar.com/calendar?district_id=ar-scranton-scho
 ol-district&year=2025-26
NAME:Scranton School District School Calendar 2025-26
X-WR-CALNAME:Scranton School District School Calendar 2025-26
X-WR-CALDESC:Official school calendar for Scranton School District for the
  2025-26 school year.
REFRESH-INTERVAL;VALUE=DURATION:P1D
X-PUBLISHED-TTL:P1D
BEGIN:VEVENT
UID:09458e52-2a1e-42cb-bded-451b42bc3275
SEQUENCE:0
DTSTAMP:20260423T194240Z
DTSTART;VALUE=DATE:20250820
X-MICROSOFT-CDO-ALLDAYEVENT:TRUE
X-MICROSOFT-MSNCALENDAR-ALLDAYEVENT:TRUE
SUMMARY:First Day of School
DESCRIPTION:First day of the 2025-26 school year
STATUS:CONFIRMED
END:VEVENT
BEGIN:VEVENT
UID:4d1909de-d642-4a72-9f69-8e47a4cd74ec
SEQUENCE:0
DTSTAMP:20260423T194240Z
DTSTART;VALUE=DATE:20260521
X-MICROSOFT-CDO-ALLDAYEVENT:TRUE
X-MICROSOFT-MSNCALENDAR-ALLDAYEVENT:TRUE
SUMMARY:Last Day of School
DESCRIPTION:Last day of the 2025-26 school year
STATUS:CONFIRMED
END:VEVENT
BEGIN:VEVENT
UID:eafcae38-6cb0-49d1-96ca-ab68f624cfbc
SEQUENCE:0
DTSTAMP:20260423T194240Z
DTSTART;VALUE=DATE:20251126
DTEND;VALUE=DATE:20251129
X-MICROSOFT-CDO-ALLDAYEVENT:TRUE
X-MICROSOFT-MSNCALENDAR-ALLDAYEVENT:TRUE
SUMMARY:Thanksgiving Break
DESCRIPTION:Thanksgiving Break - No school
STATUS:CONFIRMED
END:VEVENT
BEGIN:VEVENT
UID:6d6389f4-2257-4e7e-bc8d-79824e20a9af
SEQUENCE:0
DTSTAMP:20260423T194240Z
DTSTART;VALUE=DATE:20251220
DTEND;VALUE=DATE:20260105
X-MICROSOFT-CDO-ALLDAYEVENT:TRUE
X-MICROSOFT-MSNCALENDAR-ALLDAYEVENT:TRUE
SUMMARY:Christmas Break
DESCRIPTION:Christmas Break - No school
STATUS:CONFIRMED
END:VEVENT
BEGIN:VEVENT
UID:1bf6262f-fba0-4d89-beb8-b987379771cc
SEQUENCE:0
DTSTAMP:20260423T194240Z
DTSTART;VALUE=DATE:20260318
DTEND;VALUE=DATE:20260321
X-MICROSOFT-CDO-ALLDAYEVENT:TRUE
X-MICROSOFT-MSNCALENDAR-ALLDAYEVENT:TRUE
SUMMARY:Spring Break
DESCRIPTION:Spring Break - No school
STATUS:CONFIRMED
END:VEVENT
BEGIN:VEVENT
UID:a6a12616-b105-469a-9325-f2d6e6a526b3
SEQUENCE:0
DTSTAMP:20260423T194240Z
DTSTART;VALUE=DATE:20260403
DTEND;VALUE=DATE:20260407
X-MICROSOFT-CDO-ALLDAYEVENT:TRUE
X-MICROSOFT-MSNCALENDAR-ALLDAYEVENT:TRUE
SUMMARY:Easter Break
DESCRIPTION:Easter Break - No school
STATUS:CONFIRMED
END:VEVENT
BEGIN:VEVENT
UID:df859790-177b-4982-a1a6-e7efb1747c5a
SEQUENCE:0
DTSTAMP:20260423T194240Z
DTSTART;VALUE=DATE:20250901
X-MICROSOFT-CDO-ALLDAYEVENT:TRUE
X-MICROSOFT-MSNCALENDAR-ALLDAYEVENT:TRUE
SUMMARY:Labor Day
DESCRIPTION:Labor Day - No school
STATUS:CONFIRMED
END:VEVENT
BEGIN:VEVENT
UID:a2577d27-1d67-4f77-8555-c70fff6af316
SEQUENCE:0
DTSTAMP:20260423T194240Z
DTSTART;VALUE=DATE:20251016
X-MICROSOFT-CDO-ALLDAYEVENT:TRUE
X-MICROSOFT-MSNCALENDAR-ALLDAYEVENT:TRUE
SUMMARY:NDCEL/Teacher Convention
DESCRIPTION:NDCEL/Teacher Convention - No school
STATUS:CONFIRMED
END:VEVENT
BEGIN:VEVENT
UID:73ea01c6-ccec-4650-92b2-4b99acfcdda7
SEQUENCE:0
DTSTAMP:20260423T194240Z
DTSTART;VALUE=DATE:20251017
X-MICROSOFT-CDO-ALLDAYEVENT:TRUE
X-MICROSOFT-MSNCALENDAR-ALLDAYEVENT:TRUE
SUMMARY:NDCEL/Teacher Convention
DESCRIPTION:NDCEL/Teacher Convention - No school
STATUS:CONFIRMED
END:VEVENT
BEGIN:VEVENT
UID:86eaabbb-1bb4-4102-bc2f-85b03168b1fb
SEQUENCE:0
DTSTAMP:20260423T194240Z
DTSTART;VALUE=DATE:20251015
X-MICROSOFT-CDO-ALLDAYEVENT:TRUE
X-MICROSOFT-MSNCALENDAR-ALLDAYEVENT:TRUE
SUMMARY:Inservice Day
DESCRIPTION:Inservice Day - No school
STATUS:CONFIRMED
END:VEVENT
BEGIN:VEVENT
UID:e31bdbed-47fc-42bf-8d63-3c5d74f0a807
SEQUENCE:0
DTSTAMP:20260423T194240Z
DTSTART;VALUE=DATE:20251110
X-MICROSOFT-CDO-ALLDAYEVENT:TRUE
X-MICROSOFT-MSNCALENDAR-ALLDAYEVENT:TRUE
SUMMARY:Veterans Day
DESCRIPTION:Veterans Day - No school
STATUS:CONFIRMED
END:VEVENT
BEGIN:VEVENT
UID:179d8d39-d45f-4c45-8160-e70edfb7594d
SEQUENCE:0
DTSTAMP:20260423T194240Z
DTSTART;VALUE=DATE:20260102
X-MICROSOFT-CDO-ALLDAYEVENT:TRUE
X-MICROSOFT-MSNCALENDAR-ALLDAYEVENT:TRUE
SUMMARY:Teacher Work Day
DESCRIPTION:Teacher Work Day - No school
STATUS:CONFIRMED
END:VEVENT
BEGIN:VEVENT
UID:10d5ad34-080a-495a-a6b6-149aefc67775
SEQUENCE:0
DTSTAMP:20260423T194240Z
DTSTART;VALUE=DATE:20260119
X-MICROSOFT-CDO-ALLDAYEVENT:TRUE
X-MICROSOFT-MSNCALENDAR-ALLDAYEVENT:TRUE
SUMMARY:MLK Day
DESCRIPTION:MLK Day - No school
STATUS:CONFIRMED
END:VEVENT
BEGIN:VEVENT
UID:e63dd284-93a2-4bf7-8587-90a2e689bf78
SEQUENCE:0
DTSTAMP:20260423T194240Z
DTSTART;VALUE=DATE:20260216
X-MICROSOFT-CDO-ALLDAYEVENT:TRUE
X-MICROSOFT-MSNCALENDAR-ALLDAYEVENT:TRUE
SUMMARY:President's Day
DESCRIPTION:President's Day - No school
STATUS:CONFIRMED
END:VEVENT
BEGIN:VEVENT
UID:99043900-0206-4ac5-a4d4-3c30a1fdbea9
SEQUENCE:0
DTSTAMP:20260423T194240Z
DTSTART;VALUE=DATE:20260227
X-MICROSOFT-CDO-ALLDAYEVENT:TRUE
X-MICROSOFT-MSNCALENDAR-ALLDAYEVENT:TRUE
SUMMARY:Inservice Day
DESCRIPTION:Inservice Day - No school
STATUS:CONFIRMED
END:VEVENT
BEGIN:VEVENT
UID:990a3900-a93c-4585-b9f4-7d3d26fbda75
SEQUENCE:0
DTSTAMP:20260423T194240Z
DTSTART;VALUE=DATE:20260508
X-MICROSOFT-CDO-ALLDAYEVENT:TRUE
X-MICROSOFT-MSNCALENDAR-ALLDAYEVENT:TRUE
SUMMARY:Inservice Day
DESCRIPTION:Inservice Day - No school
STATUS:CONFIRMED
END:VEVENT
BEGIN:VEVENT
UID:95020d0b-f0e4-4050-804e-ee6406364f6c
SEQUENCE:0
DTSTAMP:20260423T194240Z
DTSTART;VALUE=DATE:20250818
X-MICROSOFT-CDO-ALLDAYEVENT:TRUE
X-MICROSOFT-MSNCALENDAR-ALLDAYEVENT:TRUE
SUMMARY:PD (In-Service Days)
DESCRIPTION:PD (In-Service Days) - No school
STATUS:CONFIRMED
END:VEVENT
BEGIN:VEVENT
UID:ce88b5af-e1d7-4366-9592-df5d75538a1b
SEQUENCE:0
DTSTAMP:20260423T194240Z
DTSTART;VALUE=DATE:20250819
X-MICROSOFT-CDO-ALLDAYEVENT:TRUE
X-MICROSOFT-MSNCALENDAR-ALLDAYEVENT:TRUE
SUMMARY:PD (In-Service Days)
DESCRIPTION:PD (In-Service Days) - No school
STATUS:CONFIRMED
END:VEVENT
BEGIN:VEVENT
UID:4a576722-fd64-453b-b0e2-b8389eea1384
SEQUENCE:0
DTSTAMP:20260423T194240Z
DTSTART;VALUE=DATE:20251024
X-MICROSOFT-CDO-ALLDAYEVENT:TRUE
X-MICROSOFT-MSNCALENDAR-ALLDAYEVENT:TRUE
SUMMARY:PD (In-Service Days)
DESCRIPTION:PD (In-Service Days) - No school
STATUS:CONFIRMED
END:VEVENT
BEGIN:VEVENT
UID:48144834-315c-4fec-bd72-fbe2ced02ee7
SEQUENCE:0
DTSTAMP:20260423T194240Z
DTSTART;VALUE=DATE:20260102
X-MICROSOFT-CDO-ALLDAYEVENT:TRUE
X-MICROSOFT-MSNCALENDAR-ALLDAYEVENT:TRUE
SUMMARY:PD (In-Service Days)
DESCRIPTION:PD (In-Service Days) - No school
STATUS:CONFIRMED
END:VEVENT
BEGIN:VEVENT
UID:9891e117-512e-4f04-aa81-5db62e404941
SEQUENCE:0
DTSTAMP:20260423T194240Z
DTSTART;VALUE=DATE:20260227
X-MICROSOFT-CDO-ALLDAYEVENT:TRUE
X-MICROSOFT-MSNCALENDAR-ALLDAYEVENT:TRUE
SUMMARY:PD (In-Service Days)
DESCRIPTION:PD (In-Service Days) - No school
STATUS:CONFIRMED
END:VEVENT
BEGIN:VEVENT
UID:59cb6102-3bac-475e-9696-1d7920eb740e
SEQUENCE:0
DTSTAMP:20260423T194240Z
DTSTART;VALUE=DATE:20260508
X-MICROSOFT-CDO-ALLDAYEVENT:TRUE
X-MICROSOFT-MSNCALENDAR-ALLDAYEVENT:TRUE
SUMMARY:PD (In-Service Days)
DESCRIPTION:PD (In-Service Days) - No school
STATUS:CONFIRMED
END:VEVENT
END:VCALENDAR