BEGIN:VCALENDAR
VERSION:2.0
PRODID:-//SchoolCalendarAPI//school-calendar//EN
URL:https://api.schools-calendar.com/calendar?district_id=ar-searcy-county
 -school-district&year=2025-26
NAME:Searcy County School District School Calendar 2025-26
X-WR-CALNAME:Searcy County School District School Calendar 2025-26
X-WR-CALDESC:Official school calendar for Searcy County School District fo
 r the 2025-26 school year.
REFRESH-INTERVAL;VALUE=DURATION:P1D
X-PUBLISHED-TTL:P1D
BEGIN:VEVENT
UID:cd5f6013-63d0-4778-b7e0-081e1f05699a
SEQUENCE:0
DTSTAMP:20260423T194640Z
DTSTART;VALUE=DATE:20250819
X-MICROSOFT-CDO-ALLDAYEVENT:TRUE
X-MICROSOFT-MSNCALENDAR-ALLDAYEVENT:TRUE
SUMMARY:First Day of School
DESCRIPTION:First day of the 2025-26 school year
STATUS:CONFIRMED
END:VEVENT
BEGIN:VEVENT
UID:d887e964-5823-42b4-88d5-b8f00af09a21
SEQUENCE:0
DTSTAMP:20260423T194640Z
DTSTART;VALUE=DATE:20260521
X-MICROSOFT-CDO-ALLDAYEVENT:TRUE
X-MICROSOFT-MSNCALENDAR-ALLDAYEVENT:TRUE
SUMMARY:Last Day of School
DESCRIPTION:Last day of the 2025-26 school year
STATUS:CONFIRMED
END:VEVENT
BEGIN:VEVENT
UID:e81f9f8a-56d9-4ba5-9835-c410c1f0cbcd
SEQUENCE:0
DTSTAMP:20260423T194640Z
DTSTART;VALUE=DATE:20251124
DTEND;VALUE=DATE:20251129
X-MICROSOFT-CDO-ALLDAYEVENT:TRUE
X-MICROSOFT-MSNCALENDAR-ALLDAYEVENT:TRUE
SUMMARY:Thanksgiving Break
DESCRIPTION:Thanksgiving Break - No school
STATUS:CONFIRMED
END:VEVENT
BEGIN:VEVENT
UID:50a52b36-6e36-4656-bf05-cd1430684354
SEQUENCE:0
DTSTAMP:20260423T194640Z
DTSTART;VALUE=DATE:20260101
DTEND;VALUE=DATE:20260103
X-MICROSOFT-CDO-ALLDAYEVENT:TRUE
X-MICROSOFT-MSNCALENDAR-ALLDAYEVENT:TRUE
SUMMARY:Christmas Break
DESCRIPTION:Christmas Break - No school
STATUS:CONFIRMED
END:VEVENT
BEGIN:VEVENT
UID:b52647df-d5a9-4bb7-a9fc-9b9e484cabf3
SEQUENCE:0
DTSTAMP:20260423T194640Z
DTSTART;VALUE=DATE:20260323
DTEND;VALUE=DATE:20260329
X-MICROSOFT-CDO-ALLDAYEVENT:TRUE
X-MICROSOFT-MSNCALENDAR-ALLDAYEVENT:TRUE
SUMMARY:Spring Break
DESCRIPTION:Spring Break - No school
STATUS:CONFIRMED
END:VEVENT
BEGIN:VEVENT
UID:b526fa4d-6266-482f-90a4-887490cca42e
SEQUENCE:0
DTSTAMP:20260423T194640Z
DTSTART;VALUE=DATE:20250825
X-MICROSOFT-CDO-ALLDAYEVENT:TRUE
X-MICROSOFT-MSNCALENDAR-ALLDAYEVENT:TRUE
SUMMARY:No school
DESCRIPTION:No school - No school
STATUS:CONFIRMED
END:VEVENT
BEGIN:VEVENT
UID:886efe7f-a678-4652-86ad-b64eacd050ad
SEQUENCE:0
DTSTAMP:20260423T194640Z
DTSTART;VALUE=DATE:20250901
X-MICROSOFT-CDO-ALLDAYEVENT:TRUE
X-MICROSOFT-MSNCALENDAR-ALLDAYEVENT:TRUE
SUMMARY:No school
DESCRIPTION:No school - No school
STATUS:CONFIRMED
END:VEVENT
BEGIN:VEVENT
UID:6531c127-7dd4-42cc-8f2a-56bfdcc3a079
SEQUENCE:0
DTSTAMP:20260423T194640Z
DTSTART;VALUE=DATE:20250908
X-MICROSOFT-CDO-ALLDAYEVENT:TRUE
X-MICROSOFT-MSNCALENDAR-ALLDAYEVENT:TRUE
SUMMARY:No school
DESCRIPTION:No school - No school
STATUS:CONFIRMED
END:VEVENT
BEGIN:VEVENT
UID:52ee607b-0015-4b43-8b2f-8b9169539192
SEQUENCE:0
DTSTAMP:20260423T194640Z
DTSTART;VALUE=DATE:20250915
X-MICROSOFT-CDO-ALLDAYEVENT:TRUE
X-MICROSOFT-MSNCALENDAR-ALLDAYEVENT:TRUE
SUMMARY:No school
DESCRIPTION:No school - No school
STATUS:CONFIRMED
END:VEVENT
BEGIN:VEVENT
UID:31a9607d-aceb-4bdf-bf1a-84dbcf5db21c
SEQUENCE:0
DTSTAMP:20260423T194640Z
DTSTART;VALUE=DATE:20250922
X-MICROSOFT-CDO-ALLDAYEVENT:TRUE
X-MICROSOFT-MSNCALENDAR-ALLDAYEVENT:TRUE
SUMMARY:No school
DESCRIPTION:No school - No school
STATUS:CONFIRMED
END:VEVENT
BEGIN:VEVENT
UID:c2e8d0a0-4b0e-46f8-8e42-53e82be5405f
SEQUENCE:0
DTSTAMP:20260423T194640Z
DTSTART;VALUE=DATE:20250929
X-MICROSOFT-CDO-ALLDAYEVENT:TRUE
X-MICROSOFT-MSNCALENDAR-ALLDAYEVENT:TRUE
SUMMARY:No school
DESCRIPTION:No school - No school
STATUS:CONFIRMED
END:VEVENT
BEGIN:VEVENT
UID:95de4b62-74ff-4128-84a3-72686b0c370c
SEQUENCE:0
DTSTAMP:20260423T194640Z
DTSTART;VALUE=DATE:20251006
X-MICROSOFT-CDO-ALLDAYEVENT:TRUE
X-MICROSOFT-MSNCALENDAR-ALLDAYEVENT:TRUE
SUMMARY:No school
DESCRIPTION:No school - No school
STATUS:CONFIRMED
END:VEVENT
BEGIN:VEVENT
UID:295171f4-8e0f-4958-8a53-5e8c98c7d2c5
SEQUENCE:0
DTSTAMP:20260423T194640Z
DTSTART;VALUE=DATE:20251017
X-MICROSOFT-CDO-ALLDAYEVENT:TRUE
X-MICROSOFT-MSNCALENDAR-ALLDAYEVENT:TRUE
SUMMARY:No school
DESCRIPTION:No school - No school
STATUS:CONFIRMED
END:VEVENT
BEGIN:VEVENT
UID:1c7baa58-8269-4a4a-b52c-42ab3f64911c
SEQUENCE:0
DTSTAMP:20260423T194640Z
DTSTART;VALUE=DATE:20251020
X-MICROSOFT-CDO-ALLDAYEVENT:TRUE
X-MICROSOFT-MSNCALENDAR-ALLDAYEVENT:TRUE
SUMMARY:No school
DESCRIPTION:No school - No school
STATUS:CONFIRMED
END:VEVENT
BEGIN:VEVENT
UID:1644d04b-e31b-49ea-881c-8ad2a0d608fa
SEQUENCE:0
DTSTAMP:20260423T194640Z
DTSTART;VALUE=DATE:20251027
X-MICROSOFT-CDO-ALLDAYEVENT:TRUE
X-MICROSOFT-MSNCALENDAR-ALLDAYEVENT:TRUE
SUMMARY:No school
DESCRIPTION:No school - No school
STATUS:CONFIRMED
END:VEVENT
BEGIN:VEVENT
UID:1029ae25-8f55-4de5-be71-0fe9fe90a489
SEQUENCE:0
DTSTAMP:20260423T194640Z
DTSTART;VALUE=DATE:20251103
X-MICROSOFT-CDO-ALLDAYEVENT:TRUE
X-MICROSOFT-MSNCALENDAR-ALLDAYEVENT:TRUE
SUMMARY:No school
DESCRIPTION:No school - No school
STATUS:CONFIRMED
END:VEVENT
BEGIN:VEVENT
UID:62b9d48b-2238-4b31-99a7-b7417129d0d7
SEQUENCE:0
DTSTAMP:20260423T194640Z
DTSTART;VALUE=DATE:20251110
X-MICROSOFT-CDO-ALLDAYEVENT:TRUE
X-MICROSOFT-MSNCALENDAR-ALLDAYEVENT:TRUE
SUMMARY:No school
DESCRIPTION:No school - No school
STATUS:CONFIRMED
END:VEVENT
BEGIN:VEVENT
UID:64b25269-c335-4951-a0c2-93fe0d056556
SEQUENCE:0
DTSTAMP:20260423T194640Z
DTSTART;VALUE=DATE:20251117
X-MICROSOFT-CDO-ALLDAYEVENT:TRUE
X-MICROSOFT-MSNCALENDAR-ALLDAYEVENT:TRUE
SUMMARY:No school
DESCRIPTION:No school - No school
STATUS:CONFIRMED
END:VEVENT
BEGIN:VEVENT
UID:b03dfd2e-c4fd-49f8-a157-1e76a14e4ffb
SEQUENCE:0
DTSTAMP:20260423T194640Z
DTSTART;VALUE=DATE:20251201
X-MICROSOFT-CDO-ALLDAYEVENT:TRUE
X-MICROSOFT-MSNCALENDAR-ALLDAYEVENT:TRUE
SUMMARY:No school
DESCRIPTION:No school - No school
STATUS:CONFIRMED
END:VEVENT
BEGIN:VEVENT
UID:2a29685d-c721-4cd8-9813-4eeff6947bd2
SEQUENCE:0
DTSTAMP:20260423T194640Z
DTSTART;VALUE=DATE:20251215
X-MICROSOFT-CDO-ALLDAYEVENT:TRUE
X-MICROSOFT-MSNCALENDAR-ALLDAYEVENT:TRUE
SUMMARY:No school
DESCRIPTION:No school - No school
STATUS:CONFIRMED
END:VEVENT
BEGIN:VEVENT
UID:2667f96c-2953-4f5d-8e9f-72b21fd3dfe8
SEQUENCE:0
DTSTAMP:20260423T194640Z
DTSTART;VALUE=DATE:20260105
X-MICROSOFT-CDO-ALLDAYEVENT:TRUE
X-MICROSOFT-MSNCALENDAR-ALLDAYEVENT:TRUE
SUMMARY:No school
DESCRIPTION:No school - No school
STATUS:CONFIRMED
END:VEVENT
BEGIN:VEVENT
UID:c227c735-28f9-4a8c-9186-875de0421e5a
SEQUENCE:0
DTSTAMP:20260423T194640Z
DTSTART;VALUE=DATE:20260112
X-MICROSOFT-CDO-ALLDAYEVENT:TRUE
X-MICROSOFT-MSNCALENDAR-ALLDAYEVENT:TRUE
SUMMARY:No school
DESCRIPTION:No school - No school
STATUS:CONFIRMED
END:VEVENT
BEGIN:VEVENT
UID:36283c12-754f-4dd1-8659-e4f678038fc9
SEQUENCE:0
DTSTAMP:20260423T194640Z
DTSTART;VALUE=DATE:20260119
X-MICROSOFT-CDO-ALLDAYEVENT:TRUE
X-MICROSOFT-MSNCALENDAR-ALLDAYEVENT:TRUE
SUMMARY:No school
DESCRIPTION:No school - No school
STATUS:CONFIRMED
END:VEVENT
BEGIN:VEVENT
UID:d0f3c789-5505-4bee-ae6f-9e3667bc0f4c
SEQUENCE:0
DTSTAMP:20260423T194640Z
DTSTART;VALUE=DATE:20260126
X-MICROSOFT-CDO-ALLDAYEVENT:TRUE
X-MICROSOFT-MSNCALENDAR-ALLDAYEVENT:TRUE
SUMMARY:No school
DESCRIPTION:No school - No school
STATUS:CONFIRMED
END:VEVENT
BEGIN:VEVENT
UID:b240ebb6-93b6-4957-bc58-3d3e32c90f0f
SEQUENCE:0
DTSTAMP:20260423T194640Z
DTSTART;VALUE=DATE:20260202
X-MICROSOFT-CDO-ALLDAYEVENT:TRUE
X-MICROSOFT-MSNCALENDAR-ALLDAYEVENT:TRUE
SUMMARY:No school
DESCRIPTION:No school - No school
STATUS:CONFIRMED
END:VEVENT
BEGIN:VEVENT
UID:ed65f057-5f60-4396-95b8-70a69b9b7042
SEQUENCE:0
DTSTAMP:20260423T194640Z
DTSTART;VALUE=DATE:20260209
X-MICROSOFT-CDO-ALLDAYEVENT:TRUE
X-MICROSOFT-MSNCALENDAR-ALLDAYEVENT:TRUE
SUMMARY:No school
DESCRIPTION:No school - No school
STATUS:CONFIRMED
END:VEVENT
BEGIN:VEVENT
UID:96671953-0842-4583-8dc7-b49dcd6d4c18
SEQUENCE:0
DTSTAMP:20260423T194640Z
DTSTART;VALUE=DATE:20260216
X-MICROSOFT-CDO-ALLDAYEVENT:TRUE
X-MICROSOFT-MSNCALENDAR-ALLDAYEVENT:TRUE
SUMMARY:No school
DESCRIPTION:No school - No school
STATUS:CONFIRMED
END:VEVENT
BEGIN:VEVENT
UID:2b914fde-aeaf-44ba-aafe-0bbfbdcf810f
SEQUENCE:0
DTSTAMP:20260423T194640Z
DTSTART;VALUE=DATE:20260223
X-MICROSOFT-CDO-ALLDAYEVENT:TRUE
X-MICROSOFT-MSNCALENDAR-ALLDAYEVENT:TRUE
SUMMARY:No school
DESCRIPTION:No school - No school
STATUS:CONFIRMED
END:VEVENT
BEGIN:VEVENT
UID:082027aa-842e-4192-aa81-a2af4940d197
SEQUENCE:0
DTSTAMP:20260423T194640Z
DTSTART;VALUE=DATE:20260302
X-MICROSOFT-CDO-ALLDAYEVENT:TRUE
X-MICROSOFT-MSNCALENDAR-ALLDAYEVENT:TRUE
SUMMARY:No school
DESCRIPTION:No school - No school
STATUS:CONFIRMED
END:VEVENT
BEGIN:VEVENT
UID:0d5be7a9-7f00-4466-bcbd-c97bcf1784db
SEQUENCE:0
DTSTAMP:20260423T194640Z
DTSTART;VALUE=DATE:20260313
X-MICROSOFT-CDO-ALLDAYEVENT:TRUE
X-MICROSOFT-MSNCALENDAR-ALLDAYEVENT:TRUE
SUMMARY:No school
DESCRIPTION:No school - No school
STATUS:CONFIRMED
END:VEVENT
BEGIN:VEVENT
UID:7ef92719-6873-43f9-aa49-581c3a309b73
SEQUENCE:0
DTSTAMP:20260423T194640Z
DTSTART;VALUE=DATE:20260316
X-MICROSOFT-CDO-ALLDAYEVENT:TRUE
X-MICROSOFT-MSNCALENDAR-ALLDAYEVENT:TRUE
SUMMARY:No school
DESCRIPTION:No school - No school
STATUS:CONFIRMED
END:VEVENT
BEGIN:VEVENT
UID:4952eba2-54b6-41d5-98f4-da78f2840be0
SEQUENCE:0
DTSTAMP:20260423T194640Z
DTSTART;VALUE=DATE:20260330
X-MICROSOFT-CDO-ALLDAYEVENT:TRUE
X-MICROSOFT-MSNCALENDAR-ALLDAYEVENT:TRUE
SUMMARY:No school
DESCRIPTION:No school - No school
STATUS:CONFIRMED
END:VEVENT
BEGIN:VEVENT
UID:a679b6c7-e994-4bc0-9303-cecd5ac8bcd2
SEQUENCE:0
DTSTAMP:20260423T194640Z
DTSTART;VALUE=DATE:20260406
X-MICROSOFT-CDO-ALLDAYEVENT:TRUE
X-MICROSOFT-MSNCALENDAR-ALLDAYEVENT:TRUE
SUMMARY:No school
DESCRIPTION:No school - No school
STATUS:CONFIRMED
END:VEVENT
BEGIN:VEVENT
UID:03c4af31-1819-4a84-8705-c8db8aa3788f
SEQUENCE:0
DTSTAMP:20260423T194640Z
DTSTART;VALUE=DATE:20260413
X-MICROSOFT-CDO-ALLDAYEVENT:TRUE
X-MICROSOFT-MSNCALENDAR-ALLDAYEVENT:TRUE
SUMMARY:No school
DESCRIPTION:No school - No school
STATUS:CONFIRMED
END:VEVENT
BEGIN:VEVENT
UID:0e7a4383-57d2-45aa-8b8a-eaf204be1dfb
SEQUENCE:0
DTSTAMP:20260423T194640Z
DTSTART;VALUE=DATE:20260420
X-MICROSOFT-CDO-ALLDAYEVENT:TRUE
X-MICROSOFT-MSNCALENDAR-ALLDAYEVENT:TRUE
SUMMARY:No school
DESCRIPTION:No school - No school
STATUS:CONFIRMED
END:VEVENT
BEGIN:VEVENT
UID:9ceb94f7-4e7a-4247-b500-4ff5f17dbaf3
SEQUENCE:0
DTSTAMP:20260423T194640Z
DTSTART;VALUE=DATE:20260427
X-MICROSOFT-CDO-ALLDAYEVENT:TRUE
X-MICROSOFT-MSNCALENDAR-ALLDAYEVENT:TRUE
SUMMARY:No school
DESCRIPTION:No school - No school
STATUS:CONFIRMED
END:VEVENT
BEGIN:VEVENT
UID:31db606a-4bc0-422c-9a69-09b92d7bc5ef
SEQUENCE:0
DTSTAMP:20260423T194640Z
DTSTART;VALUE=DATE:20260504
X-MICROSOFT-CDO-ALLDAYEVENT:TRUE
X-MICROSOFT-MSNCALENDAR-ALLDAYEVENT:TRUE
SUMMARY:No school
DESCRIPTION:No school - No school
STATUS:CONFIRMED
END:VEVENT
BEGIN:VEVENT
UID:e815e138-4f99-4698-b6ce-dc6adff288bf
SEQUENCE:0
DTSTAMP:20260423T194640Z
DTSTART;VALUE=DATE:20260511
X-MICROSOFT-CDO-ALLDAYEVENT:TRUE
X-MICROSOFT-MSNCALENDAR-ALLDAYEVENT:TRUE
SUMMARY:No school
DESCRIPTION:No school - No school
STATUS:CONFIRMED
END:VEVENT
BEGIN:VEVENT
UID:5dea14e9-b087-4e18-85f0-514113f7bbd1
SEQUENCE:0
DTSTAMP:20260423T194640Z
DTSTART;VALUE=DATE:20260518
X-MICROSOFT-CDO-ALLDAYEVENT:TRUE
X-MICROSOFT-MSNCALENDAR-ALLDAYEVENT:TRUE
SUMMARY:No school
DESCRIPTION:No school - No school
STATUS:CONFIRMED
END:VEVENT
END:VCALENDAR