BEGIN:VCALENDAR
VERSION:2.0
PRODID:-//SchoolCalendarAPI//school-calendar//EN
URL:https://api.schools-calendar.com/calendar?district_id=ky-carlisle-coun
 ty-school-district&year=2025-26
NAME:Carlisle County School District School Calendar 2025-26
X-WR-CALNAME:Carlisle County School District School Calendar 2025-26
X-WR-CALDESC:Official school calendar for Carlisle County School District 
 for the 2025-26 school year.
REFRESH-INTERVAL;VALUE=DURATION:P1D
X-PUBLISHED-TTL:P1D
BEGIN:VEVENT
UID:c3eb52dc-e7b7-4b1b-84be-1e5c0e651b24
SEQUENCE:0
DTSTAMP:20260423T190654Z
DTSTART;VALUE=DATE:20250806
X-MICROSOFT-CDO-ALLDAYEVENT:TRUE
X-MICROSOFT-MSNCALENDAR-ALLDAYEVENT:TRUE
SUMMARY:First Day of School
DESCRIPTION:First day of the 2025-26 school year
STATUS:CONFIRMED
END:VEVENT
BEGIN:VEVENT
UID:52a84335-d428-430a-8743-d8bfc838fbe7
SEQUENCE:0
DTSTAMP:20260423T190654Z
DTSTART;VALUE=DATE:20260514
X-MICROSOFT-CDO-ALLDAYEVENT:TRUE
X-MICROSOFT-MSNCALENDAR-ALLDAYEVENT:TRUE
SUMMARY:Last Day of School
DESCRIPTION:Last day of the 2025-26 school year
STATUS:CONFIRMED
END:VEVENT
BEGIN:VEVENT
UID:7b78657c-2f42-434a-a342-2f0d28a57468
SEQUENCE:0
DTSTAMP:20260423T190654Z
DTSTART;VALUE=DATE:20251006
DTEND;VALUE=DATE:20251011
X-MICROSOFT-CDO-ALLDAYEVENT:TRUE
X-MICROSOFT-MSNCALENDAR-ALLDAYEVENT:TRUE
SUMMARY:Fall Break
DESCRIPTION:Fall Break - No school
STATUS:CONFIRMED
END:VEVENT
BEGIN:VEVENT
UID:056bdb61-a9ab-4e9d-8e41-80754e510cd3
SEQUENCE:0
DTSTAMP:20260423T190654Z
DTSTART;VALUE=DATE:20251126
DTEND;VALUE=DATE:20251129
X-MICROSOFT-CDO-ALLDAYEVENT:TRUE
X-MICROSOFT-MSNCALENDAR-ALLDAYEVENT:TRUE
SUMMARY:Thanksgiving Break
DESCRIPTION:Thanksgiving Break - No school
STATUS:CONFIRMED
END:VEVENT
BEGIN:VEVENT
UID:300e18cf-7dda-48c4-bc94-35f5d1cef8f6
SEQUENCE:0
DTSTAMP:20260423T190654Z
DTSTART;VALUE=DATE:20251222
DTEND;VALUE=DATE:20260103
X-MICROSOFT-CDO-ALLDAYEVENT:TRUE
X-MICROSOFT-MSNCALENDAR-ALLDAYEVENT:TRUE
SUMMARY:Christmas Break
DESCRIPTION:Christmas Break - No school
STATUS:CONFIRMED
END:VEVENT
BEGIN:VEVENT
UID:1fdb9448-fd0a-4566-b63b-12bcba32ab71
SEQUENCE:0
DTSTAMP:20260423T190654Z
DTSTART;VALUE=DATE:20260406
DTEND;VALUE=DATE:20260411
X-MICROSOFT-CDO-ALLDAYEVENT:TRUE
X-MICROSOFT-MSNCALENDAR-ALLDAYEVENT:TRUE
SUMMARY:Spring Break
DESCRIPTION:Spring Break - No school
STATUS:CONFIRMED
END:VEVENT
BEGIN:VEVENT
UID:b8a927a2-f702-4496-b06b-25bbdbb216f0
SEQUENCE:0
DTSTAMP:20260423T190654Z
DTSTART;VALUE=DATE:20250901
X-MICROSOFT-CDO-ALLDAYEVENT:TRUE
X-MICROSOFT-MSNCALENDAR-ALLDAYEVENT:TRUE
SUMMARY:Labor Day
DESCRIPTION:Labor Day - No school
STATUS:CONFIRMED
END:VEVENT
BEGIN:VEVENT
UID:edf4fd2b-3c5b-43f1-b8ab-db35e2ed393a
SEQUENCE:0
DTSTAMP:20260423T190654Z
DTSTART;VALUE=DATE:20250801
X-MICROSOFT-CDO-ALLDAYEVENT:TRUE
X-MICROSOFT-MSNCALENDAR-ALLDAYEVENT:TRUE
SUMMARY:No School for Students (Staff Professional Development)
DESCRIPTION:No School for Students (Staff Professional Development) - No s
 chool
STATUS:CONFIRMED
END:VEVENT
BEGIN:VEVENT
UID:4de6a873-c9dc-44e0-a47d-fa9812f14848
SEQUENCE:0
DTSTAMP:20260423T190654Z
DTSTART;VALUE=DATE:20250804
X-MICROSOFT-CDO-ALLDAYEVENT:TRUE
X-MICROSOFT-MSNCALENDAR-ALLDAYEVENT:TRUE
SUMMARY:No School for Students (Staff Professional Development)
DESCRIPTION:No School for Students (Staff Professional Development) - No s
 chool
STATUS:CONFIRMED
END:VEVENT
BEGIN:VEVENT
UID:f5796e78-d672-4f14-b7f7-a96075e3ce3b
SEQUENCE:0
DTSTAMP:20260423T190654Z
DTSTART;VALUE=DATE:20250805
X-MICROSOFT-CDO-ALLDAYEVENT:TRUE
X-MICROSOFT-MSNCALENDAR-ALLDAYEVENT:TRUE
SUMMARY:No School for Students (Staff Opening Day)
DESCRIPTION:No School for Students (Staff Opening Day) - No school
STATUS:CONFIRMED
END:VEVENT
BEGIN:VEVENT
UID:bd3e83b9-7412-49ad-addf-c0548c73599e
SEQUENCE:0
DTSTAMP:20260423T190654Z
DTSTART;VALUE=DATE:20260119
X-MICROSOFT-CDO-ALLDAYEVENT:TRUE
X-MICROSOFT-MSNCALENDAR-ALLDAYEVENT:TRUE
SUMMARY:School Closed / No Staff
DESCRIPTION:School Closed / No Staff - No school
STATUS:CONFIRMED
END:VEVENT
BEGIN:VEVENT
UID:e9151c05-203f-4da9-8958-4ed3ac2ef658
SEQUENCE:0
DTSTAMP:20260423T190654Z
DTSTART;VALUE=DATE:20260213
X-MICROSOFT-CDO-ALLDAYEVENT:TRUE
X-MICROSOFT-MSNCALENDAR-ALLDAYEVENT:TRUE
SUMMARY:School Closed / No Staff
DESCRIPTION:School Closed / No Staff - No school
STATUS:CONFIRMED
END:VEVENT
BEGIN:VEVENT
UID:e3048a2a-db6e-4b14-b022-80091cf3f453
SEQUENCE:0
DTSTAMP:20260423T190654Z
DTSTART;VALUE=DATE:20260216
X-MICROSOFT-CDO-ALLDAYEVENT:TRUE
X-MICROSOFT-MSNCALENDAR-ALLDAYEVENT:TRUE
SUMMARY:School Closed / Staff Work Day
DESCRIPTION:School Closed / Staff Work Day - No school
STATUS:CONFIRMED
END:VEVENT
BEGIN:VEVENT
UID:69a56a48-2dd9-47c3-a4e0-3c6a65a604ac
SEQUENCE:0
DTSTAMP:20260423T190654Z
DTSTART;VALUE=DATE:20260316
X-MICROSOFT-CDO-ALLDAYEVENT:TRUE
X-MICROSOFT-MSNCALENDAR-ALLDAYEVENT:TRUE
SUMMARY:School Closed / Staff Work Day
DESCRIPTION:School Closed / Staff Work Day - No school
STATUS:CONFIRMED
END:VEVENT
BEGIN:VEVENT
UID:640c724d-7357-4e27-8658-7f078575bafe
SEQUENCE:0
DTSTAMP:20260423T190654Z
DTSTART;VALUE=DATE:20260403
X-MICROSOFT-CDO-ALLDAYEVENT:TRUE
X-MICROSOFT-MSNCALENDAR-ALLDAYEVENT:TRUE
SUMMARY:School Closed
DESCRIPTION:School Closed - No school
STATUS:CONFIRMED
END:VEVENT
BEGIN:VEVENT
UID:109d091f-4257-484c-996c-20fd1a578f97
SEQUENCE:0
DTSTAMP:20260423T190654Z
DTSTART;VALUE=DATE:20260515
X-MICROSOFT-CDO-ALLDAYEVENT:TRUE
X-MICROSOFT-MSNCALENDAR-ALLDAYEVENT:TRUE
SUMMARY:Staff Closing Day
DESCRIPTION:Staff Closing Day - No school
STATUS:CONFIRMED
END:VEVENT
END:VCALENDAR