BEGIN:VCALENDAR
VERSION:2.0
PRODID:-//SchoolCalendarAPI//school-calendar//EN
URL:https://api.schools-calendar.com/calendar?district_id=ky-cloverport-in
 dependent-school-district&year=2025-26
NAME:Cloverport Independent School District School Calendar 2025-26
X-WR-CALNAME:Cloverport Independent School District School Calendar 2025-2
 6
X-WR-CALDESC:Official school calendar for Cloverport Independent School Di
 strict for the 2025-26 school year.
REFRESH-INTERVAL;VALUE=DURATION:P1D
X-PUBLISHED-TTL:P1D
BEGIN:VEVENT
UID:38cb13cb-7e1a-4a32-9462-dc2c35f10cbb
SEQUENCE:0
DTSTAMP:20260423T190830Z
DTSTART;VALUE=DATE:20250806
X-MICROSOFT-CDO-ALLDAYEVENT:TRUE
X-MICROSOFT-MSNCALENDAR-ALLDAYEVENT:TRUE
SUMMARY:First Day of School
DESCRIPTION:First day of the 2025-26 school year
STATUS:CONFIRMED
END:VEVENT
BEGIN:VEVENT
UID:ec442bba-1697-414d-b9db-61abfed9a3ba
SEQUENCE:0
DTSTAMP:20260423T190830Z
DTSTART;VALUE=DATE:20260514
X-MICROSOFT-CDO-ALLDAYEVENT:TRUE
X-MICROSOFT-MSNCALENDAR-ALLDAYEVENT:TRUE
SUMMARY:Last Day of School
DESCRIPTION:Last day of the 2025-26 school year
STATUS:CONFIRMED
END:VEVENT
BEGIN:VEVENT
UID:f7924806-7780-40a4-8595-29ed43251255
SEQUENCE:0
DTSTAMP:20260423T190830Z
DTSTART;VALUE=DATE:20251003
DTEND;VALUE=DATE:20251011
X-MICROSOFT-CDO-ALLDAYEVENT:TRUE
X-MICROSOFT-MSNCALENDAR-ALLDAYEVENT:TRUE
SUMMARY:Fall Break
DESCRIPTION:Fall Break - No school
STATUS:CONFIRMED
END:VEVENT
BEGIN:VEVENT
UID:e8315063-dc68-4c25-8eac-a348f2bc37a1
SEQUENCE:0
DTSTAMP:20260423T190830Z
DTSTART;VALUE=DATE:20251126
DTEND;VALUE=DATE:20251129
X-MICROSOFT-CDO-ALLDAYEVENT:TRUE
X-MICROSOFT-MSNCALENDAR-ALLDAYEVENT:TRUE
SUMMARY:Thanksgiving Break
DESCRIPTION:Thanksgiving Break - No school
STATUS:CONFIRMED
END:VEVENT
BEGIN:VEVENT
UID:19f7100e-5c01-46b2-be46-bf8bf0fc9e1b
SEQUENCE:0
DTSTAMP:20260423T190830Z
DTSTART;VALUE=DATE:20251222
DTEND;VALUE=DATE:20260103
X-MICROSOFT-CDO-ALLDAYEVENT:TRUE
X-MICROSOFT-MSNCALENDAR-ALLDAYEVENT:TRUE
SUMMARY:Winter Break
DESCRIPTION:Winter Break - No school
STATUS:CONFIRMED
END:VEVENT
BEGIN:VEVENT
UID:aaf2e8ad-d326-4f30-97e6-d438d6de1901
SEQUENCE:0
DTSTAMP:20260423T190830Z
DTSTART;VALUE=DATE:20260403
DTEND;VALUE=DATE:20260411
X-MICROSOFT-CDO-ALLDAYEVENT:TRUE
X-MICROSOFT-MSNCALENDAR-ALLDAYEVENT:TRUE
SUMMARY:Spring Break
DESCRIPTION:Spring Break - No school
STATUS:CONFIRMED
END:VEVENT
BEGIN:VEVENT
UID:76293c32-b31d-4a4a-abf6-998e16879170
SEQUENCE:0
DTSTAMP:20260423T190830Z
DTSTART;VALUE=DATE:20250901
X-MICROSOFT-CDO-ALLDAYEVENT:TRUE
X-MICROSOFT-MSNCALENDAR-ALLDAYEVENT:TRUE
SUMMARY:Labor Day
DESCRIPTION:Labor Day - No school
STATUS:CONFIRMED
END:VEVENT
BEGIN:VEVENT
UID:0b1fe760-7ae6-4bd3-a8b3-7c1e3d447e8a
SEQUENCE:0
DTSTAMP:20260423T190830Z
DTSTART;VALUE=DATE:20260119
X-MICROSOFT-CDO-ALLDAYEVENT:TRUE
X-MICROSOFT-MSNCALENDAR-ALLDAYEVENT:TRUE
SUMMARY:Martin Luther King Jr. Day
DESCRIPTION:Martin Luther King Jr. Day - No school
STATUS:CONFIRMED
END:VEVENT
BEGIN:VEVENT
UID:42887973-a965-4893-8ed1-2dc7acb23ba6
SEQUENCE:0
DTSTAMP:20260423T190830Z
DTSTART;VALUE=DATE:20260216
X-MICROSOFT-CDO-ALLDAYEVENT:TRUE
X-MICROSOFT-MSNCALENDAR-ALLDAYEVENT:TRUE
SUMMARY:Presidents Day
DESCRIPTION:Presidents Day - No school
STATUS:CONFIRMED
END:VEVENT
BEGIN:VEVENT
UID:1f56ced3-19ed-4c53-b062-d37abeab7c0c
SEQUENCE:0
DTSTAMP:20260423T190830Z
DTSTART;VALUE=DATE:20250805
X-MICROSOFT-CDO-ALLDAYEVENT:TRUE
X-MICROSOFT-MSNCALENDAR-ALLDAYEVENT:TRUE
SUMMARY:Staff PD - Students Off
DESCRIPTION:Staff PD - Students Off - No school
STATUS:CONFIRMED
END:VEVENT
BEGIN:VEVENT
UID:68ae8463-fe88-4fcd-bfac-42dd19e60ff9
SEQUENCE:0
DTSTAMP:20260423T190830Z
DTSTART;VALUE=DATE:20250912
X-MICROSOFT-CDO-ALLDAYEVENT:TRUE
X-MICROSOFT-MSNCALENDAR-ALLDAYEVENT:TRUE
SUMMARY:Staff PD - Students Off
DESCRIPTION:Staff PD - Students Off - No school
STATUS:CONFIRMED
END:VEVENT
BEGIN:VEVENT
UID:f5ded932-3381-4814-9c34-36928f7b5290
SEQUENCE:0
DTSTAMP:20260423T190830Z
DTSTART;VALUE=DATE:20251013
X-MICROSOFT-CDO-ALLDAYEVENT:TRUE
X-MICROSOFT-MSNCALENDAR-ALLDAYEVENT:TRUE
SUMMARY:Staff PD
DESCRIPTION:Staff PD - No school
STATUS:CONFIRMED
END:VEVENT
BEGIN:VEVENT
UID:f883f719-6e8d-4b44-bf92-9aa3052731f9
SEQUENCE:0
DTSTAMP:20260423T190830Z
DTSTART;VALUE=DATE:20260313
X-MICROSOFT-CDO-ALLDAYEVENT:TRUE
X-MICROSOFT-MSNCALENDAR-ALLDAYEVENT:TRUE
SUMMARY:Staff PD - Students Off
DESCRIPTION:Staff PD - Students Off - No school
STATUS:CONFIRMED
END:VEVENT
BEGIN:VEVENT
UID:5cff424a-7420-402f-ad66-f8ddae16ccdf
SEQUENCE:0
DTSTAMP:20260423T190830Z
DTSTART;VALUE=DATE:20260413
X-MICROSOFT-CDO-ALLDAYEVENT:TRUE
X-MICROSOFT-MSNCALENDAR-ALLDAYEVENT:TRUE
SUMMARY:Staff PD - Students Off
DESCRIPTION:Staff PD - Students Off - No school
STATUS:CONFIRMED
END:VEVENT
BEGIN:VEVENT
UID:a6bb0989-4639-4879-9073-7e7d625a2f86
SEQUENCE:0
DTSTAMP:20260423T190830Z
DTSTART;VALUE=DATE:20250731
X-MICROSOFT-CDO-ALLDAYEVENT:TRUE
X-MICROSOFT-MSNCALENDAR-ALLDAYEVENT:TRUE
SUMMARY:Staff First Day
DESCRIPTION:Staff First Day - No school
STATUS:CONFIRMED
END:VEVENT
BEGIN:VEVENT
UID:e98f1540-d55d-42f5-968a-2a83e68d849f
SEQUENCE:0
DTSTAMP:20260423T190830Z
DTSTART;VALUE=DATE:20260519
X-MICROSOFT-CDO-ALLDAYEVENT:TRUE
X-MICROSOFT-MSNCALENDAR-ALLDAYEVENT:TRUE
SUMMARY:Staff Last Day
DESCRIPTION:Staff Last Day - No school
STATUS:CONFIRMED
END:VEVENT
END:VCALENDAR