BEGIN:VCALENDAR
VERSION:2.0
PRODID:-//SchoolCalendarAPI//school-calendar//EN
URL:https://api.schools-calendar.com/calendar?district_id=ky-johnson-count
 y-school-district&year=2025-26
NAME:Johnson County School District School Calendar 2025-26
X-WR-CALNAME:Johnson County School District School Calendar 2025-26
X-WR-CALDESC:Official school calendar for Johnson County School District f
 or the 2025-26 school year.
REFRESH-INTERVAL;VALUE=DURATION:P1D
X-PUBLISHED-TTL:P1D
BEGIN:VEVENT
UID:b269d521-d539-4132-8d33-f2696188f7b9
SEQUENCE:0
DTSTAMP:20260423T190405Z
DTSTART;VALUE=DATE:20250805
X-MICROSOFT-CDO-ALLDAYEVENT:TRUE
X-MICROSOFT-MSNCALENDAR-ALLDAYEVENT:TRUE
SUMMARY:First Day of School
DESCRIPTION:First day of the 2025-26 school year
STATUS:CONFIRMED
END:VEVENT
BEGIN:VEVENT
UID:9eb767b2-121f-428e-a678-7c4a518c1328
SEQUENCE:0
DTSTAMP:20260423T190405Z
DTSTART;VALUE=DATE:20260520
X-MICROSOFT-CDO-ALLDAYEVENT:TRUE
X-MICROSOFT-MSNCALENDAR-ALLDAYEVENT:TRUE
SUMMARY:Last Day of School
DESCRIPTION:Last day of the 2025-26 school year
STATUS:CONFIRMED
END:VEVENT
BEGIN:VEVENT
UID:0164daae-93a7-4079-adc6-4857b7087eb9
SEQUENCE:0
DTSTAMP:20260423T190405Z
DTSTART;VALUE=DATE:20260424
DTEND;VALUE=DATE:20260429
X-MICROSOFT-CDO-ALLDAYEVENT:TRUE
X-MICROSOFT-MSNCALENDAR-ALLDAYEVENT:TRUE
SUMMARY:School Holidays
DESCRIPTION:School Holidays - No school
STATUS:CONFIRMED
END:VEVENT
BEGIN:VEVENT
UID:2a1908bc-1488-4d0a-a45e-9c3df3051b16
SEQUENCE:0
DTSTAMP:20260423T190405Z
DTSTART;VALUE=DATE:20260101
X-MICROSOFT-CDO-ALLDAYEVENT:TRUE
X-MICROSOFT-MSNCALENDAR-ALLDAYEVENT:TRUE
SUMMARY:School Holiday
DESCRIPTION:School Holiday - No school
STATUS:CONFIRMED
END:VEVENT
BEGIN:VEVENT
UID:282bc6d9-3930-407d-968c-8497b8551894
SEQUENCE:0
DTSTAMP:20260423T190405Z
DTSTART;VALUE=DATE:20260102
X-MICROSOFT-CDO-ALLDAYEVENT:TRUE
X-MICROSOFT-MSNCALENDAR-ALLDAYEVENT:TRUE
SUMMARY:School Holiday
DESCRIPTION:School Holiday - No school
STATUS:CONFIRMED
END:VEVENT
BEGIN:VEVENT
UID:719de73e-9a2a-49b1-b995-30b5ac3d58ce
SEQUENCE:0
DTSTAMP:20260423T190405Z
DTSTART;VALUE=DATE:20260119
X-MICROSOFT-CDO-ALLDAYEVENT:TRUE
X-MICROSOFT-MSNCALENDAR-ALLDAYEVENT:TRUE
SUMMARY:School Holiday
DESCRIPTION:School Holiday - No school
STATUS:CONFIRMED
END:VEVENT
BEGIN:VEVENT
UID:dd7c0595-139c-4c9f-88d7-ce95a597cdc1
SEQUENCE:0
DTSTAMP:20260423T190405Z
DTSTART;VALUE=DATE:20260216
X-MICROSOFT-CDO-ALLDAYEVENT:TRUE
X-MICROSOFT-MSNCALENDAR-ALLDAYEVENT:TRUE
SUMMARY:School Holiday
DESCRIPTION:School Holiday - No school
STATUS:CONFIRMED
END:VEVENT
BEGIN:VEVENT
UID:1ce6c80d-f6e6-4542-96fc-4b418b3dc60f
SEQUENCE:0
DTSTAMP:20260423T190405Z
DTSTART;VALUE=DATE:20260525
X-MICROSOFT-CDO-ALLDAYEVENT:TRUE
X-MICROSOFT-MSNCALENDAR-ALLDAYEVENT:TRUE
SUMMARY:School Holiday
DESCRIPTION:School Holiday - No school
STATUS:CONFIRMED
END:VEVENT
END:VCALENDAR