BEGIN:VCALENDAR
VERSION:2.0
PRODID:-//SchoolCalendarAPI//school-calendar//EN
URL:https://api.schools-calendar.com/calendar?district_id=ky-muhlenberg-co
 unty-school-district&year=2025-26
NAME:Muhlenberg County School District School Calendar 2025-26
X-WR-CALNAME:Muhlenberg County School District School Calendar 2025-26
X-WR-CALDESC:Official school calendar for Muhlenberg County School Distric
 t for the 2025-26 school year.
REFRESH-INTERVAL;VALUE=DURATION:P1D
X-PUBLISHED-TTL:P1D
BEGIN:VEVENT
UID:7b0ef66f-a125-448d-a985-25ea777dde7d
SEQUENCE:0
DTSTAMP:20260423T190654Z
DTSTART;VALUE=DATE:20250808
X-MICROSOFT-CDO-ALLDAYEVENT:TRUE
X-MICROSOFT-MSNCALENDAR-ALLDAYEVENT:TRUE
SUMMARY:First Day of School
DESCRIPTION:First day of the 2025-26 school year
STATUS:CONFIRMED
END:VEVENT
BEGIN:VEVENT
UID:89f9f72f-d91f-4f8e-8d06-a2114d23dcf0
SEQUENCE:0
DTSTAMP:20260423T190654Z
DTSTART;VALUE=DATE:20260516
X-MICROSOFT-CDO-ALLDAYEVENT:TRUE
X-MICROSOFT-MSNCALENDAR-ALLDAYEVENT:TRUE
SUMMARY:Last Day of School
DESCRIPTION:Last day of the 2025-26 school year
STATUS:CONFIRMED
END:VEVENT
BEGIN:VEVENT
UID:e2418582-2356-4876-a2f8-ea112584036e
SEQUENCE:0
DTSTAMP:20260423T190654Z
DTSTART;VALUE=DATE:20251009
DTEND;VALUE=DATE:20251014
X-MICROSOFT-CDO-ALLDAYEVENT:TRUE
X-MICROSOFT-MSNCALENDAR-ALLDAYEVENT:TRUE
SUMMARY:Fall Break
DESCRIPTION:Fall Break - No school
STATUS:CONFIRMED
END:VEVENT
BEGIN:VEVENT
UID:04391940-e7a3-49c7-bc85-dbebc51c73bc
SEQUENCE:0
DTSTAMP:20260423T190654Z
DTSTART;VALUE=DATE:20251122
DTEND;VALUE=DATE:20251125
X-MICROSOFT-CDO-ALLDAYEVENT:TRUE
X-MICROSOFT-MSNCALENDAR-ALLDAYEVENT:TRUE
SUMMARY:Thanksgiving Holidays
DESCRIPTION:Thanksgiving Holidays - No school
STATUS:CONFIRMED
END:VEVENT
BEGIN:VEVENT
UID:7aedef41-d66d-429b-8ef0-da978e70cbe5
SEQUENCE:0
DTSTAMP:20260423T190654Z
DTSTART;VALUE=DATE:20251220
DTEND;VALUE=DATE:20260103
X-MICROSOFT-CDO-ALLDAYEVENT:TRUE
X-MICROSOFT-MSNCALENDAR-ALLDAYEVENT:TRUE
SUMMARY:Christmas Holidays
DESCRIPTION:Christmas Holidays - No school
STATUS:CONFIRMED
END:VEVENT
BEGIN:VEVENT
UID:70c055bb-7832-4086-bb8b-a475724c08d2
SEQUENCE:0
DTSTAMP:20260423T190654Z
DTSTART;VALUE=DATE:20260329
DTEND;VALUE=DATE:20260406
X-MICROSOFT-CDO-ALLDAYEVENT:TRUE
X-MICROSOFT-MSNCALENDAR-ALLDAYEVENT:TRUE
SUMMARY:Spring Break
DESCRIPTION:Spring Break - No school
STATUS:CONFIRMED
END:VEVENT
BEGIN:VEVENT
UID:955aca43-f17d-4ee0-bb28-380e23261516
SEQUENCE:0
DTSTAMP:20260423T190654Z
DTSTART;VALUE=DATE:20250904
X-MICROSOFT-CDO-ALLDAYEVENT:TRUE
X-MICROSOFT-MSNCALENDAR-ALLDAYEVENT:TRUE
SUMMARY:Labor Day
DESCRIPTION:Labor Day - No school
STATUS:CONFIRMED
END:VEVENT
BEGIN:VEVENT
UID:7c870687-40ba-4127-b7d0-56a9f4bad55c
SEQUENCE:0
DTSTAMP:20260423T190654Z
DTSTART;VALUE=DATE:20251107
X-MICROSOFT-CDO-ALLDAYEVENT:TRUE
X-MICROSOFT-MSNCALENDAR-ALLDAYEVENT:TRUE
SUMMARY:Election Day
DESCRIPTION:Election Day - No school
STATUS:CONFIRMED
END:VEVENT
BEGIN:VEVENT
UID:6bd25b28-05c4-49f4-b384-d1ee2e979e80
SEQUENCE:0
DTSTAMP:20260423T190654Z
DTSTART;VALUE=DATE:20260115
X-MICROSOFT-CDO-ALLDAYEVENT:TRUE
X-MICROSOFT-MSNCALENDAR-ALLDAYEVENT:TRUE
SUMMARY:Martin Luther King\, Jr. Day
DESCRIPTION:Martin Luther King\, Jr. Day - No school
STATUS:CONFIRMED
END:VEVENT
BEGIN:VEVENT
UID:eed0d3ef-498f-40e9-91b9-6deed4ce1fd8
SEQUENCE:0
DTSTAMP:20260423T190654Z
DTSTART;VALUE=DATE:20260223
X-MICROSOFT-CDO-ALLDAYEVENT:TRUE
X-MICROSOFT-MSNCALENDAR-ALLDAYEVENT:TRUE
SUMMARY:No School
DESCRIPTION:No School - No school
STATUS:CONFIRMED
END:VEVENT
END:VCALENDAR