BEGIN:VCALENDAR
VERSION:2.0
PRODID:-//SchoolCalendarAPI//school-calendar//EN
URL:https://api.schools-calendar.com/calendar?district_id=ky-williamsburg-
 independent-school-district&year=2025-26
NAME:Williamsburg Independent School District School Calendar 2025-26
X-WR-CALNAME:Williamsburg Independent School District School Calendar 2025
 -26
X-WR-CALDESC:Official school calendar for Williamsburg Independent School 
 District for the 2025-26 school year.
REFRESH-INTERVAL;VALUE=DURATION:P1D
X-PUBLISHED-TTL:P1D
BEGIN:VEVENT
UID:abc8e840-2e23-4cc1-92f0-109f67e2cd48
SEQUENCE:0
DTSTAMP:20260423T190701Z
DTSTART;VALUE=DATE:20250818
X-MICROSOFT-CDO-ALLDAYEVENT:TRUE
X-MICROSOFT-MSNCALENDAR-ALLDAYEVENT:TRUE
SUMMARY:First Day of School
DESCRIPTION:First day of the 2025-26 school year
STATUS:CONFIRMED
END:VEVENT
BEGIN:VEVENT
UID:63ae2116-2586-4172-93a4-42b096628d25
SEQUENCE:0
DTSTAMP:20260423T190701Z
DTSTART;VALUE=DATE:20260522
X-MICROSOFT-CDO-ALLDAYEVENT:TRUE
X-MICROSOFT-MSNCALENDAR-ALLDAYEVENT:TRUE
SUMMARY:Last Day of School
DESCRIPTION:Last day of the 2025-26 school year
STATUS:CONFIRMED
END:VEVENT
BEGIN:VEVENT
UID:aa1407eb-278d-483f-b3a4-d257b9267b9f
SEQUENCE:0
DTSTAMP:20260423T190701Z
DTSTART;VALUE=DATE:20251028
DTEND;VALUE=DATE:20251105
X-MICROSOFT-CDO-ALLDAYEVENT:TRUE
X-MICROSOFT-MSNCALENDAR-ALLDAYEVENT:TRUE
SUMMARY:Fall Break
DESCRIPTION:Fall Break - No school
STATUS:CONFIRMED
END:VEVENT
BEGIN:VEVENT
UID:dc216526-88b8-45dc-836b-2a1e7cde26be
SEQUENCE:0
DTSTAMP:20260423T190701Z
DTSTART;VALUE=DATE:20251127
DTEND;VALUE=DATE:20251130
X-MICROSOFT-CDO-ALLDAYEVENT:TRUE
X-MICROSOFT-MSNCALENDAR-ALLDAYEVENT:TRUE
SUMMARY:Thanksgiving Break
DESCRIPTION:Thanksgiving Break - No school
STATUS:CONFIRMED
END:VEVENT
BEGIN:VEVENT
UID:b7cc10c8-4d53-4e9c-bceb-d95e621436fd
SEQUENCE:0
DTSTAMP:20260423T190701Z
DTSTART;VALUE=DATE:20251223
DTEND;VALUE=DATE:20260104
X-MICROSOFT-CDO-ALLDAYEVENT:TRUE
X-MICROSOFT-MSNCALENDAR-ALLDAYEVENT:TRUE
SUMMARY:Christmas Break
DESCRIPTION:Christmas Break - No school
STATUS:CONFIRMED
END:VEVENT
BEGIN:VEVENT
UID:504cc1e2-3209-462d-a441-3e98a61f3f47
SEQUENCE:0
DTSTAMP:20260423T190701Z
DTSTART;VALUE=DATE:20260331
DTEND;VALUE=DATE:20260405
X-MICROSOFT-CDO-ALLDAYEVENT:TRUE
X-MICROSOFT-MSNCALENDAR-ALLDAYEVENT:TRUE
SUMMARY:Spring Break
DESCRIPTION:Spring Break - No school
STATUS:CONFIRMED
END:VEVENT
BEGIN:VEVENT
UID:3860640c-ff50-406e-94e3-cf7000bbd3f6
SEQUENCE:0
DTSTAMP:20260423T190701Z
DTSTART;VALUE=DATE:20250902
X-MICROSOFT-CDO-ALLDAYEVENT:TRUE
X-MICROSOFT-MSNCALENDAR-ALLDAYEVENT:TRUE
SUMMARY:Labor Day
DESCRIPTION:Labor Day - No school
STATUS:CONFIRMED
END:VEVENT
BEGIN:VEVENT
UID:9d07adfe-f6df-4373-85a3-452796271a60
SEQUENCE:0
DTSTAMP:20260423T190701Z
DTSTART;VALUE=DATE:20250906
X-MICROSOFT-CDO-ALLDAYEVENT:TRUE
X-MICROSOFT-MSNCALENDAR-ALLDAYEVENT:TRUE
SUMMARY:No School OFTD (Teacher Work Day)
DESCRIPTION:No School OFTD (Teacher Work Day) - No school
STATUS:CONFIRMED
END:VEVENT
BEGIN:VEVENT
UID:fa012406-0e96-4869-9a04-7bf8ca83ecee
SEQUENCE:0
DTSTAMP:20260423T190701Z
DTSTART;VALUE=DATE:20251121
X-MICROSOFT-CDO-ALLDAYEVENT:TRUE
X-MICROSOFT-MSNCALENDAR-ALLDAYEVENT:TRUE
SUMMARY:Parent Teacher Conference
DESCRIPTION:Parent Teacher Conference - No school
STATUS:CONFIRMED
END:VEVENT
BEGIN:VEVENT
UID:6ddb1cdf-acb3-4ae0-9748-8d3f02dd78f8
SEQUENCE:0
DTSTAMP:20260423T190701Z
DTSTART;VALUE=DATE:20251105
X-MICROSOFT-CDO-ALLDAYEVENT:TRUE
X-MICROSOFT-MSNCALENDAR-ALLDAYEVENT:TRUE
SUMMARY:No School (Teacher Work Day)
DESCRIPTION:No School (Teacher Work Day) - No school
STATUS:CONFIRMED
END:VEVENT
BEGIN:VEVENT
UID:8a75db5a-4aab-4e38-8f30-412bc59fd11d
SEQUENCE:0
DTSTAMP:20260423T190701Z
DTSTART;VALUE=DATE:20260120
X-MICROSOFT-CDO-ALLDAYEVENT:TRUE
X-MICROSOFT-MSNCALENDAR-ALLDAYEVENT:TRUE
SUMMARY:Martin Luther King Jr.
DESCRIPTION:Martin Luther King Jr. - No school
STATUS:CONFIRMED
END:VEVENT
BEGIN:VEVENT
UID:8a57c47d-3e6b-41f2-b687-9b3430201dff
SEQUENCE:0
DTSTAMP:20260423T190701Z
DTSTART;VALUE=DATE:20260306
X-MICROSOFT-CDO-ALLDAYEVENT:TRUE
X-MICROSOFT-MSNCALENDAR-ALLDAYEVENT:TRUE
SUMMARY:Parent Teacher Conference
DESCRIPTION:Parent Teacher Conference - No school
STATUS:CONFIRMED
END:VEVENT
BEGIN:VEVENT
UID:9b874aee-5e03-44c1-aeaa-c40d9c582413
SEQUENCE:0
DTSTAMP:20260423T190701Z
DTSTART;VALUE=DATE:20260523
X-MICROSOFT-CDO-ALLDAYEVENT:TRUE
X-MICROSOFT-MSNCALENDAR-ALLDAYEVENT:TRUE
SUMMARY:Closing Day
DESCRIPTION:Closing Day - No school
STATUS:CONFIRMED
END:VEVENT
END:VCALENDAR