BEGIN:VCALENDAR
VERSION:2.0
PRODID:-//SchoolCalendarAPI//school-calendar//EN
URL:https://api.schools-calendar.com/calendar?district_id=ky-wolfe-county-
 school-district&year=2025-26
NAME:Wolfe County School District School Calendar 2025-26
X-WR-CALNAME:Wolfe County School District School Calendar 2025-26
X-WR-CALDESC:Official school calendar for Wolfe County School District for
  the 2025-26 school year.
REFRESH-INTERVAL;VALUE=DURATION:P1D
X-PUBLISHED-TTL:P1D
BEGIN:VEVENT
UID:48ec35e0-bb04-4d13-bf4b-21053b6ca852
SEQUENCE:0
DTSTAMP:20260423T190321Z
DTSTART;VALUE=DATE:20260806
X-MICROSOFT-CDO-ALLDAYEVENT:TRUE
X-MICROSOFT-MSNCALENDAR-ALLDAYEVENT:TRUE
SUMMARY:First Day of School
DESCRIPTION:First day of the 2025-26 school year
STATUS:CONFIRMED
END:VEVENT
BEGIN:VEVENT
UID:09c50c99-04f6-4e35-a2a5-8abd2d45143d
SEQUENCE:0
DTSTAMP:20260423T190321Z
DTSTART;VALUE=DATE:20270525
X-MICROSOFT-CDO-ALLDAYEVENT:TRUE
X-MICROSOFT-MSNCALENDAR-ALLDAYEVENT:TRUE
SUMMARY:Last Day of School
DESCRIPTION:Last day of the 2025-26 school year
STATUS:CONFIRMED
END:VEVENT
BEGIN:VEVENT
UID:29b581c8-981c-4e26-9f9e-74a6e3a15925
SEQUENCE:0
DTSTAMP:20260423T190321Z
DTSTART;VALUE=DATE:20261012
DTEND;VALUE=DATE:20261014
X-MICROSOFT-CDO-ALLDAYEVENT:TRUE
X-MICROSOFT-MSNCALENDAR-ALLDAYEVENT:TRUE
SUMMARY:Fall Break
DESCRIPTION:Fall Break - No school
STATUS:CONFIRMED
END:VEVENT
BEGIN:VEVENT
UID:8097c1b4-5236-4ced-98e1-395ec500b209
SEQUENCE:0
DTSTAMP:20260423T190321Z
DTSTART;VALUE=DATE:20261123
DTEND;VALUE=DATE:20261128
X-MICROSOFT-CDO-ALLDAYEVENT:TRUE
X-MICROSOFT-MSNCALENDAR-ALLDAYEVENT:TRUE
SUMMARY:Thanksgiving Break
DESCRIPTION:Thanksgiving Break - No school
STATUS:CONFIRMED
END:VEVENT
BEGIN:VEVENT
UID:b2f7aece-4d7d-4c27-bf79-77e6b685253f
SEQUENCE:0
DTSTAMP:20260423T190321Z
DTSTART;VALUE=DATE:20261221
DTEND;VALUE=DATE:20270105
X-MICROSOFT-CDO-ALLDAYEVENT:TRUE
X-MICROSOFT-MSNCALENDAR-ALLDAYEVENT:TRUE
SUMMARY:Christmas Break
DESCRIPTION:Christmas Break - No school
STATUS:CONFIRMED
END:VEVENT
BEGIN:VEVENT
UID:4e49d50d-034f-4665-bc6e-2ad8007744ab
SEQUENCE:0
DTSTAMP:20260423T190321Z
DTSTART;VALUE=DATE:20270322
DTEND;VALUE=DATE:20270327
X-MICROSOFT-CDO-ALLDAYEVENT:TRUE
X-MICROSOFT-MSNCALENDAR-ALLDAYEVENT:TRUE
SUMMARY:Spring Break
DESCRIPTION:Spring Break - No school
STATUS:CONFIRMED
END:VEVENT
BEGIN:VEVENT
UID:490d8dbc-3f1f-48c4-9004-bf03c092f7a7
SEQUENCE:0
DTSTAMP:20260423T190321Z
DTSTART;VALUE=DATE:20260907
X-MICROSOFT-CDO-ALLDAYEVENT:TRUE
X-MICROSOFT-MSNCALENDAR-ALLDAYEVENT:TRUE
SUMMARY:Labor Day
DESCRIPTION:Labor Day - No school
STATUS:CONFIRMED
END:VEVENT
BEGIN:VEVENT
UID:ac79ecf9-1f59-405f-8d15-7fd4fb5f7f43
SEQUENCE:0
DTSTAMP:20260423T190321Z
DTSTART;VALUE=DATE:20261111
X-MICROSOFT-CDO-ALLDAYEVENT:TRUE
X-MICROSOFT-MSNCALENDAR-ALLDAYEVENT:TRUE
SUMMARY:Veterans Day
DESCRIPTION:Veterans Day - No school
STATUS:CONFIRMED
END:VEVENT
BEGIN:VEVENT
UID:5e9ce6f6-c2e3-424a-ba29-937146799444
SEQUENCE:0
DTSTAMP:20260423T190321Z
DTSTART;VALUE=DATE:20270118
X-MICROSOFT-CDO-ALLDAYEVENT:TRUE
X-MICROSOFT-MSNCALENDAR-ALLDAYEVENT:TRUE
SUMMARY:MLK Day
DESCRIPTION:MLK Day - No school
STATUS:CONFIRMED
END:VEVENT
BEGIN:VEVENT
UID:b5f80012-5c3a-4998-ad9f-dd53105a4093
SEQUENCE:0
DTSTAMP:20260423T190321Z
DTSTART;VALUE=DATE:20270215
X-MICROSOFT-CDO-ALLDAYEVENT:TRUE
X-MICROSOFT-MSNCALENDAR-ALLDAYEVENT:TRUE
SUMMARY:Presidents Day
DESCRIPTION:Presidents Day - No school
STATUS:CONFIRMED
END:VEVENT
BEGIN:VEVENT
UID:9b51a63a-b4a0-400b-8f6d-e32bc769405c
SEQUENCE:0
DTSTAMP:20260423T190321Z
DTSTART;VALUE=DATE:20260704
X-MICROSOFT-CDO-ALLDAYEVENT:TRUE
X-MICROSOFT-MSNCALENDAR-ALLDAYEVENT:TRUE
SUMMARY:Independence Day
DESCRIPTION:Independence Day - No school
STATUS:CONFIRMED
END:VEVENT
END:VCALENDAR