BEGIN:VCALENDAR
VERSION:2.0
PRODID:-//SchoolCalendarAPI//school-calendar//EN
URL:https://api.schools-calendar.com/calendar?district_id=ma-belmont-schoo
 l-district&year=2025-26
NAME:Belmont School District School Calendar 2025-26
X-WR-CALNAME:Belmont School District School Calendar 2025-26
X-WR-CALDESC:Official school calendar for Belmont School District for the 
 2025-26 school year.
REFRESH-INTERVAL;VALUE=DURATION:P1D
X-PUBLISHED-TTL:P1D
BEGIN:VEVENT
UID:34a6d323-eb45-4835-8b58-b615033b1a01
SEQUENCE:0
DTSTAMP:20260424T200106Z
DTSTART;VALUE=DATE:20250903
X-MICROSOFT-CDO-ALLDAYEVENT:TRUE
X-MICROSOFT-MSNCALENDAR-ALLDAYEVENT:TRUE
SUMMARY:First Day of School
DESCRIPTION:First day of the 2025-26 school year
STATUS:CONFIRMED
END:VEVENT
BEGIN:VEVENT
UID:031c8a30-9b5b-4c3f-bbda-190c55294dc0
SEQUENCE:0
DTSTAMP:20260424T200106Z
DTSTART;VALUE=DATE:20260625
X-MICROSOFT-CDO-ALLDAYEVENT:TRUE
X-MICROSOFT-MSNCALENDAR-ALLDAYEVENT:TRUE
SUMMARY:Last Day of School
DESCRIPTION:Last day of the 2025-26 school year
STATUS:CONFIRMED
END:VEVENT
BEGIN:VEVENT
UID:463e9cbe-58e2-4136-b5ce-569e6a270423
SEQUENCE:0
DTSTAMP:20260424T200106Z
DTSTART;VALUE=DATE:20251126
DTEND;VALUE=DATE:20251129
X-MICROSOFT-CDO-ALLDAYEVENT:TRUE
X-MICROSOFT-MSNCALENDAR-ALLDAYEVENT:TRUE
SUMMARY:Thanksgiving Recess
DESCRIPTION:Thanksgiving Recess - No school
STATUS:CONFIRMED
END:VEVENT
BEGIN:VEVENT
UID:f5af3ffc-ac32-4fa9-ba9f-839db739e822
SEQUENCE:0
DTSTAMP:20260424T200106Z
DTSTART;VALUE=DATE:20251222
DTEND;VALUE=DATE:20260103
X-MICROSOFT-CDO-ALLDAYEVENT:TRUE
X-MICROSOFT-MSNCALENDAR-ALLDAYEVENT:TRUE
SUMMARY:Winter Recess
DESCRIPTION:Winter Recess - No school
STATUS:CONFIRMED
END:VEVENT
BEGIN:VEVENT
UID:283a0f4f-eaed-4e1f-bf59-3d3a6507a6a9
SEQUENCE:0
DTSTAMP:20260424T200106Z
DTSTART;VALUE=DATE:20260216
DTEND;VALUE=DATE:20260221
X-MICROSOFT-CDO-ALLDAYEVENT:TRUE
X-MICROSOFT-MSNCALENDAR-ALLDAYEVENT:TRUE
SUMMARY:February Recess
DESCRIPTION:February Recess - No school
STATUS:CONFIRMED
END:VEVENT
BEGIN:VEVENT
UID:17c9c78a-bc4a-484e-b4b3-d799dc627aca
SEQUENCE:0
DTSTAMP:20260424T200106Z
DTSTART;VALUE=DATE:20260420
DTEND;VALUE=DATE:20260425
X-MICROSOFT-CDO-ALLDAYEVENT:TRUE
X-MICROSOFT-MSNCALENDAR-ALLDAYEVENT:TRUE
SUMMARY:April Recess
DESCRIPTION:April Recess - No school
STATUS:CONFIRMED
END:VEVENT
BEGIN:VEVENT
UID:c88e5e56-0482-4236-b3c2-844047875367
SEQUENCE:0
DTSTAMP:20260424T200106Z
DTSTART;VALUE=DATE:20251013
X-MICROSOFT-CDO-ALLDAYEVENT:TRUE
X-MICROSOFT-MSNCALENDAR-ALLDAYEVENT:TRUE
SUMMARY:Indigenous Peoples Day
DESCRIPTION:Indigenous Peoples Day - No school
STATUS:CONFIRMED
END:VEVENT
BEGIN:VEVENT
UID:800ef2e6-d681-4fd9-acbb-6038234eae33
SEQUENCE:0
DTSTAMP:20260424T200106Z
DTSTART;VALUE=DATE:20251111
X-MICROSOFT-CDO-ALLDAYEVENT:TRUE
X-MICROSOFT-MSNCALENDAR-ALLDAYEVENT:TRUE
SUMMARY:Veteran's Day Observed
DESCRIPTION:Veteran's Day Observed - No school
STATUS:CONFIRMED
END:VEVENT
BEGIN:VEVENT
UID:f72894e5-1a7f-4603-a2a8-f96b5ce2f2e3
SEQUENCE:0
DTSTAMP:20260424T200106Z
DTSTART;VALUE=DATE:20260119
X-MICROSOFT-CDO-ALLDAYEVENT:TRUE
X-MICROSOFT-MSNCALENDAR-ALLDAYEVENT:TRUE
SUMMARY:Martin Luther King Day
DESCRIPTION:Martin Luther King Day - No school
STATUS:CONFIRMED
END:VEVENT
BEGIN:VEVENT
UID:cadedd4f-01e3-4310-b6c6-ec95bd6d7ab7
SEQUENCE:0
DTSTAMP:20260424T200106Z
DTSTART;VALUE=DATE:20260525
X-MICROSOFT-CDO-ALLDAYEVENT:TRUE
X-MICROSOFT-MSNCALENDAR-ALLDAYEVENT:TRUE
SUMMARY:Memorial Day
DESCRIPTION:Memorial Day - No school
STATUS:CONFIRMED
END:VEVENT
BEGIN:VEVENT
UID:610b5345-2a53-41f1-a479-00bc39e6da4f
SEQUENCE:0
DTSTAMP:20260424T200106Z
DTSTART;VALUE=DATE:20260619
X-MICROSOFT-CDO-ALLDAYEVENT:TRUE
X-MICROSOFT-MSNCALENDAR-ALLDAYEVENT:TRUE
SUMMARY:Juneteenth Independence Day
DESCRIPTION:Juneteenth Independence Day - No school
STATUS:CONFIRMED
END:VEVENT
END:VCALENDAR