BEGIN:VCALENDAR
VERSION:2.0
PRODID:-//SchoolCalendarAPI//school-calendar//EN
URL:https://api.schools-calendar.com/calendar?district_id=ma-carver-school
 -district&year=2025-26
NAME:Carver School District School Calendar 2025-26
X-WR-CALNAME:Carver School District School Calendar 2025-26
X-WR-CALDESC:Official school calendar for Carver School District for the 2
 025-26 school year.
REFRESH-INTERVAL;VALUE=DURATION:P1D
X-PUBLISHED-TTL:P1D
BEGIN:VEVENT
UID:fe7eda28-f21b-44ee-a178-8bb4dc45d482
SEQUENCE:0
DTSTAMP:20260424T200208Z
DTSTART;VALUE=DATE:20250825
X-MICROSOFT-CDO-ALLDAYEVENT:TRUE
X-MICROSOFT-MSNCALENDAR-ALLDAYEVENT:TRUE
SUMMARY:First Day of School
DESCRIPTION:First day of the 2025-26 school year
STATUS:CONFIRMED
END:VEVENT
BEGIN:VEVENT
UID:78c7ab02-ebde-4969-8e19-731be51323f2
SEQUENCE:0
DTSTAMP:20260424T200208Z
DTSTART;VALUE=DATE:20260620
X-MICROSOFT-CDO-ALLDAYEVENT:TRUE
X-MICROSOFT-MSNCALENDAR-ALLDAYEVENT:TRUE
SUMMARY:Last Day of School
DESCRIPTION:Last day of the 2025-26 school year
STATUS:CONFIRMED
END:VEVENT
BEGIN:VEVENT
UID:001f1d9d-c99c-47e4-af59-e2d52d546b3b
SEQUENCE:0
DTSTAMP:20260424T200208Z
DTSTART;VALUE=DATE:20250901
DTEND;VALUE=DATE:20250902
X-MICROSOFT-CDO-ALLDAYEVENT:TRUE
X-MICROSOFT-MSNCALENDAR-ALLDAYEVENT:TRUE
SUMMARY:Labor Day Recess
DESCRIPTION:Labor Day Recess - No school
STATUS:CONFIRMED
END:VEVENT
BEGIN:VEVENT
UID:e011d505-759f-4d36-8929-7aff6634cbe1
SEQUENCE:0
DTSTAMP:20260424T200208Z
DTSTART;VALUE=DATE:20251127
DTEND;VALUE=DATE:20251129
X-MICROSOFT-CDO-ALLDAYEVENT:TRUE
X-MICROSOFT-MSNCALENDAR-ALLDAYEVENT:TRUE
SUMMARY:Thanksgiving Recess
DESCRIPTION:Thanksgiving Recess - No school
STATUS:CONFIRMED
END:VEVENT
BEGIN:VEVENT
UID:18a89afe-9fb8-4eb0-8f33-0b0f5707d7f3
SEQUENCE:0
DTSTAMP:20260424T200208Z
DTSTART;VALUE=DATE:20251224
DTEND;VALUE=DATE:20260103
X-MICROSOFT-CDO-ALLDAYEVENT:TRUE
X-MICROSOFT-MSNCALENDAR-ALLDAYEVENT:TRUE
SUMMARY:Holiday Recess
DESCRIPTION:Holiday Recess - No school
STATUS:CONFIRMED
END:VEVENT
BEGIN:VEVENT
UID:5fd86c45-e805-4f48-972a-f6de1e35fb26
SEQUENCE:0
DTSTAMP:20260424T200208Z
DTSTART;VALUE=DATE:20260216
DTEND;VALUE=DATE:20260221
X-MICROSOFT-CDO-ALLDAYEVENT:TRUE
X-MICROSOFT-MSNCALENDAR-ALLDAYEVENT:TRUE
SUMMARY:Winter Recess
DESCRIPTION:Winter Recess - No school
STATUS:CONFIRMED
END:VEVENT
BEGIN:VEVENT
UID:8b7f4d08-562d-4730-9074-0c9250662489
SEQUENCE:0
DTSTAMP:20260424T200208Z
DTSTART;VALUE=DATE:20260420
DTEND;VALUE=DATE:20260425
X-MICROSOFT-CDO-ALLDAYEVENT:TRUE
X-MICROSOFT-MSNCALENDAR-ALLDAYEVENT:TRUE
SUMMARY:Spring Recess
DESCRIPTION:Spring Recess - No school
STATUS:CONFIRMED
END:VEVENT
BEGIN:VEVENT
UID:38c4f045-9c04-4b62-8133-bff0448df118
SEQUENCE:0
DTSTAMP:20260424T200208Z
DTSTART;VALUE=DATE:20250901
X-MICROSOFT-CDO-ALLDAYEVENT:TRUE
X-MICROSOFT-MSNCALENDAR-ALLDAYEVENT:TRUE
SUMMARY:Labor Day
DESCRIPTION:Labor Day - No school
STATUS:CONFIRMED
END:VEVENT
BEGIN:VEVENT
UID:26adc0b4-ae68-4ea7-8be7-8ec2f711d3fb
SEQUENCE:0
DTSTAMP:20260424T200208Z
DTSTART;VALUE=DATE:20250922
X-MICROSOFT-CDO-ALLDAYEVENT:TRUE
X-MICROSOFT-MSNCALENDAR-ALLDAYEVENT:TRUE
SUMMARY:Rosh Hashanah
DESCRIPTION:Rosh Hashanah - No school
STATUS:CONFIRMED
END:VEVENT
BEGIN:VEVENT
UID:564ebab0-b05b-4d41-ae22-d3a877d2d11a
SEQUENCE:0
DTSTAMP:20260424T200208Z
DTSTART;VALUE=DATE:20250923
X-MICROSOFT-CDO-ALLDAYEVENT:TRUE
X-MICROSOFT-MSNCALENDAR-ALLDAYEVENT:TRUE
SUMMARY:Rosh Hashanah
DESCRIPTION:Rosh Hashanah - No school
STATUS:CONFIRMED
END:VEVENT
BEGIN:VEVENT
UID:17b838d6-5395-4966-8d68-26e06c39aced
SEQUENCE:0
DTSTAMP:20260424T200208Z
DTSTART;VALUE=DATE:20250924
X-MICROSOFT-CDO-ALLDAYEVENT:TRUE
X-MICROSOFT-MSNCALENDAR-ALLDAYEVENT:TRUE
SUMMARY:Rosh Hashanah
DESCRIPTION:Rosh Hashanah - No school
STATUS:CONFIRMED
END:VEVENT
BEGIN:VEVENT
UID:11b6b668-a558-426d-ae3a-980159c65111
SEQUENCE:0
DTSTAMP:20260424T200208Z
DTSTART;VALUE=DATE:20251001
X-MICROSOFT-CDO-ALLDAYEVENT:TRUE
X-MICROSOFT-MSNCALENDAR-ALLDAYEVENT:TRUE
SUMMARY:Yom Kippur
DESCRIPTION:Yom Kippur - No school
STATUS:CONFIRMED
END:VEVENT
BEGIN:VEVENT
UID:3dfc992e-6848-495f-8912-874ed32eb532
SEQUENCE:0
DTSTAMP:20260424T200208Z
DTSTART;VALUE=DATE:20251002
X-MICROSOFT-CDO-ALLDAYEVENT:TRUE
X-MICROSOFT-MSNCALENDAR-ALLDAYEVENT:TRUE
SUMMARY:Yom Kippur
DESCRIPTION:Yom Kippur - No school
STATUS:CONFIRMED
END:VEVENT
BEGIN:VEVENT
UID:2cfd3a51-bc5b-4c8e-9d1a-6901d63c73cf
SEQUENCE:0
DTSTAMP:20260424T200208Z
DTSTART;VALUE=DATE:20251013
X-MICROSOFT-CDO-ALLDAYEVENT:TRUE
X-MICROSOFT-MSNCALENDAR-ALLDAYEVENT:TRUE
SUMMARY:Indigenous Peoples Day
DESCRIPTION:Indigenous Peoples Day - No school
STATUS:CONFIRMED
END:VEVENT
BEGIN:VEVENT
UID:ae1456e1-9933-46a7-b6ed-6617bd03a4d5
SEQUENCE:0
DTSTAMP:20260424T200208Z
DTSTART;VALUE=DATE:20251111
X-MICROSOFT-CDO-ALLDAYEVENT:TRUE
X-MICROSOFT-MSNCALENDAR-ALLDAYEVENT:TRUE
SUMMARY:Veterans Day
DESCRIPTION:Veterans Day - No school
STATUS:CONFIRMED
END:VEVENT
BEGIN:VEVENT
UID:625924d8-26e4-414b-aea3-9809702a6cf1
SEQUENCE:0
DTSTAMP:20260424T200208Z
DTSTART;VALUE=DATE:20251214
X-MICROSOFT-CDO-ALLDAYEVENT:TRUE
X-MICROSOFT-MSNCALENDAR-ALLDAYEVENT:TRUE
SUMMARY:Hanukkah
DESCRIPTION:Hanukkah - No school
STATUS:CONFIRMED
END:VEVENT
BEGIN:VEVENT
UID:37f23c22-66e1-4f0a-907c-6990117c38b1
SEQUENCE:0
DTSTAMP:20260424T200208Z
DTSTART;VALUE=DATE:20251215
X-MICROSOFT-CDO-ALLDAYEVENT:TRUE
X-MICROSOFT-MSNCALENDAR-ALLDAYEVENT:TRUE
SUMMARY:Hanukkah
DESCRIPTION:Hanukkah - No school
STATUS:CONFIRMED
END:VEVENT
BEGIN:VEVENT
UID:c66dae85-44c2-42cd-a403-b8ff1a152f31
SEQUENCE:0
DTSTAMP:20260424T200208Z
DTSTART;VALUE=DATE:20251216
X-MICROSOFT-CDO-ALLDAYEVENT:TRUE
X-MICROSOFT-MSNCALENDAR-ALLDAYEVENT:TRUE
SUMMARY:Hanukkah
DESCRIPTION:Hanukkah - No school
STATUS:CONFIRMED
END:VEVENT
BEGIN:VEVENT
UID:68c98dc4-2a96-468a-b52f-599bd62496fc
SEQUENCE:0
DTSTAMP:20260424T200208Z
DTSTART;VALUE=DATE:20251217
X-MICROSOFT-CDO-ALLDAYEVENT:TRUE
X-MICROSOFT-MSNCALENDAR-ALLDAYEVENT:TRUE
SUMMARY:Hanukkah
DESCRIPTION:Hanukkah - No school
STATUS:CONFIRMED
END:VEVENT
BEGIN:VEVENT
UID:9973d7b3-6803-4ea1-911a-9f5f1396fd90
SEQUENCE:0
DTSTAMP:20260424T200208Z
DTSTART;VALUE=DATE:20251218
X-MICROSOFT-CDO-ALLDAYEVENT:TRUE
X-MICROSOFT-MSNCALENDAR-ALLDAYEVENT:TRUE
SUMMARY:Hanukkah
DESCRIPTION:Hanukkah - No school
STATUS:CONFIRMED
END:VEVENT
BEGIN:VEVENT
UID:48559086-e2d3-40d9-844d-930e46837851
SEQUENCE:0
DTSTAMP:20260424T200208Z
DTSTART;VALUE=DATE:20251219
X-MICROSOFT-CDO-ALLDAYEVENT:TRUE
X-MICROSOFT-MSNCALENDAR-ALLDAYEVENT:TRUE
SUMMARY:Hanukkah
DESCRIPTION:Hanukkah - No school
STATUS:CONFIRMED
END:VEVENT
BEGIN:VEVENT
UID:88e65a33-f9cb-4845-979f-9444736a8fc9
SEQUENCE:0
DTSTAMP:20260424T200208Z
DTSTART;VALUE=DATE:20251220
X-MICROSOFT-CDO-ALLDAYEVENT:TRUE
X-MICROSOFT-MSNCALENDAR-ALLDAYEVENT:TRUE
SUMMARY:Hanukkah
DESCRIPTION:Hanukkah - No school
STATUS:CONFIRMED
END:VEVENT
BEGIN:VEVENT
UID:0c142acb-eb83-4db7-87a7-71fafa82b791
SEQUENCE:0
DTSTAMP:20260424T200208Z
DTSTART;VALUE=DATE:20251221
X-MICROSOFT-CDO-ALLDAYEVENT:TRUE
X-MICROSOFT-MSNCALENDAR-ALLDAYEVENT:TRUE
SUMMARY:Hanukkah
DESCRIPTION:Hanukkah - No school
STATUS:CONFIRMED
END:VEVENT
BEGIN:VEVENT
UID:ce1bb706-e214-4920-a967-7c8ac1c85020
SEQUENCE:0
DTSTAMP:20260424T200208Z
DTSTART;VALUE=DATE:20251222
X-MICROSOFT-CDO-ALLDAYEVENT:TRUE
X-MICROSOFT-MSNCALENDAR-ALLDAYEVENT:TRUE
SUMMARY:Hanukkah
DESCRIPTION:Hanukkah - No school
STATUS:CONFIRMED
END:VEVENT
BEGIN:VEVENT
UID:3025fab0-ec10-45cc-b50b-b53c76766dc5
SEQUENCE:0
DTSTAMP:20260424T200208Z
DTSTART;VALUE=DATE:20251223
X-MICROSOFT-CDO-ALLDAYEVENT:TRUE
X-MICROSOFT-MSNCALENDAR-ALLDAYEVENT:TRUE
SUMMARY:Hanukkah
DESCRIPTION:Hanukkah - No school
STATUS:CONFIRMED
END:VEVENT
BEGIN:VEVENT
UID:b7d763a6-70da-4e46-8f55-925f87f538f8
SEQUENCE:0
DTSTAMP:20260424T200208Z
DTSTART;VALUE=DATE:20251224
X-MICROSOFT-CDO-ALLDAYEVENT:TRUE
X-MICROSOFT-MSNCALENDAR-ALLDAYEVENT:TRUE
SUMMARY:Hanukkah
DESCRIPTION:Hanukkah - No school
STATUS:CONFIRMED
END:VEVENT
BEGIN:VEVENT
UID:d134b3c0-a8cd-4f0b-b3e7-903accc749a2
SEQUENCE:0
DTSTAMP:20260424T200208Z
DTSTART;VALUE=DATE:20251225
X-MICROSOFT-CDO-ALLDAYEVENT:TRUE
X-MICROSOFT-MSNCALENDAR-ALLDAYEVENT:TRUE
SUMMARY:Hanukkah
DESCRIPTION:Hanukkah - No school
STATUS:CONFIRMED
END:VEVENT
BEGIN:VEVENT
UID:bdb95e1d-48ad-4890-8b2f-9f8f47536c68
SEQUENCE:0
DTSTAMP:20260424T200208Z
DTSTART;VALUE=DATE:20251226
X-MICROSOFT-CDO-ALLDAYEVENT:TRUE
X-MICROSOFT-MSNCALENDAR-ALLDAYEVENT:TRUE
SUMMARY:Hanukkah
DESCRIPTION:Hanukkah - No school
STATUS:CONFIRMED
END:VEVENT
BEGIN:VEVENT
UID:979f1aba-370c-4170-9cc6-01809fc728c3
SEQUENCE:0
DTSTAMP:20260424T200208Z
DTSTART;VALUE=DATE:20251227
X-MICROSOFT-CDO-ALLDAYEVENT:TRUE
X-MICROSOFT-MSNCALENDAR-ALLDAYEVENT:TRUE
SUMMARY:Hanukkah
DESCRIPTION:Hanukkah - No school
STATUS:CONFIRMED
END:VEVENT
BEGIN:VEVENT
UID:aaa5e5d2-dfb0-44fa-9b71-f0bd176b1eef
SEQUENCE:0
DTSTAMP:20260424T200208Z
DTSTART;VALUE=DATE:20260101
X-MICROSOFT-CDO-ALLDAYEVENT:TRUE
X-MICROSOFT-MSNCALENDAR-ALLDAYEVENT:TRUE
SUMMARY:New Year's Day
DESCRIPTION:New Year's Day - No school
STATUS:CONFIRMED
END:VEVENT
BEGIN:VEVENT
UID:dcab06ae-8d77-478e-ba72-6196b835c10a
SEQUENCE:0
DTSTAMP:20260424T200208Z
DTSTART;VALUE=DATE:20260119
X-MICROSOFT-CDO-ALLDAYEVENT:TRUE
X-MICROSOFT-MSNCALENDAR-ALLDAYEVENT:TRUE
SUMMARY:Martin Luther King Jr. Day
DESCRIPTION:Martin Luther King Jr. Day - No school
STATUS:CONFIRMED
END:VEVENT
BEGIN:VEVENT
UID:be2bf82b-df41-4b3e-93a2-914dacddba18
SEQUENCE:0
DTSTAMP:20260424T200208Z
DTSTART;VALUE=DATE:20260216
X-MICROSOFT-CDO-ALLDAYEVENT:TRUE
X-MICROSOFT-MSNCALENDAR-ALLDAYEVENT:TRUE
SUMMARY:Presidents' Day
DESCRIPTION:Presidents' Day - No school
STATUS:CONFIRMED
END:VEVENT
BEGIN:VEVENT
UID:35ed75ea-3249-426a-858d-60f615605003
SEQUENCE:0
DTSTAMP:20260424T200208Z
DTSTART;VALUE=DATE:20260319
X-MICROSOFT-CDO-ALLDAYEVENT:TRUE
X-MICROSOFT-MSNCALENDAR-ALLDAYEVENT:TRUE
SUMMARY:Eid al Fitr
DESCRIPTION:Eid al Fitr - No school
STATUS:CONFIRMED
END:VEVENT
BEGIN:VEVENT
UID:206efe2a-e806-4d25-9632-88af4e00abfb
SEQUENCE:0
DTSTAMP:20260424T200208Z
DTSTART;VALUE=DATE:20260320
X-MICROSOFT-CDO-ALLDAYEVENT:TRUE
X-MICROSOFT-MSNCALENDAR-ALLDAYEVENT:TRUE
SUMMARY:Eid al Fitr
DESCRIPTION:Eid al Fitr - No school
STATUS:CONFIRMED
END:VEVENT
BEGIN:VEVENT
UID:4f941f39-061e-4c8d-982c-e3d86020ba41
SEQUENCE:0
DTSTAMP:20260424T200208Z
DTSTART;VALUE=DATE:20260403
X-MICROSOFT-CDO-ALLDAYEVENT:TRUE
X-MICROSOFT-MSNCALENDAR-ALLDAYEVENT:TRUE
SUMMARY:Good Friday
DESCRIPTION:Good Friday - No school
STATUS:CONFIRMED
END:VEVENT
BEGIN:VEVENT
UID:6a70575c-059e-4628-a311-0f81142e7458
SEQUENCE:0
DTSTAMP:20260424T200208Z
DTSTART;VALUE=DATE:20260412
X-MICROSOFT-CDO-ALLDAYEVENT:TRUE
X-MICROSOFT-MSNCALENDAR-ALLDAYEVENT:TRUE
SUMMARY:Passover
DESCRIPTION:Passover - No school
STATUS:CONFIRMED
END:VEVENT
BEGIN:VEVENT
UID:674334a6-22b4-45b9-91d7-9fdcd390ead9
SEQUENCE:0
DTSTAMP:20260424T200208Z
DTSTART;VALUE=DATE:20260413
X-MICROSOFT-CDO-ALLDAYEVENT:TRUE
X-MICROSOFT-MSNCALENDAR-ALLDAYEVENT:TRUE
SUMMARY:Passover
DESCRIPTION:Passover - No school
STATUS:CONFIRMED
END:VEVENT
BEGIN:VEVENT
UID:d7e1e463-6f2d-4b2d-ba4b-a8d1e2397836
SEQUENCE:0
DTSTAMP:20260424T200208Z
DTSTART;VALUE=DATE:20260414
X-MICROSOFT-CDO-ALLDAYEVENT:TRUE
X-MICROSOFT-MSNCALENDAR-ALLDAYEVENT:TRUE
SUMMARY:Passover
DESCRIPTION:Passover - No school
STATUS:CONFIRMED
END:VEVENT
BEGIN:VEVENT
UID:c08cfe71-aab3-4d0c-ae02-92930f631bef
SEQUENCE:0
DTSTAMP:20260424T200208Z
DTSTART;VALUE=DATE:20260415
X-MICROSOFT-CDO-ALLDAYEVENT:TRUE
X-MICROSOFT-MSNCALENDAR-ALLDAYEVENT:TRUE
SUMMARY:Passover
DESCRIPTION:Passover - No school
STATUS:CONFIRMED
END:VEVENT
BEGIN:VEVENT
UID:f92d2b5e-8593-4807-b9fa-14cf4ec3a100
SEQUENCE:0
DTSTAMP:20260424T200208Z
DTSTART;VALUE=DATE:20260416
X-MICROSOFT-CDO-ALLDAYEVENT:TRUE
X-MICROSOFT-MSNCALENDAR-ALLDAYEVENT:TRUE
SUMMARY:Passover
DESCRIPTION:Passover - No school
STATUS:CONFIRMED
END:VEVENT
BEGIN:VEVENT
UID:2096c628-5200-4e4e-920c-5b4b280309d7
SEQUENCE:0
DTSTAMP:20260424T200208Z
DTSTART;VALUE=DATE:20260417
X-MICROSOFT-CDO-ALLDAYEVENT:TRUE
X-MICROSOFT-MSNCALENDAR-ALLDAYEVENT:TRUE
SUMMARY:Passover
DESCRIPTION:Passover - No school
STATUS:CONFIRMED
END:VEVENT
BEGIN:VEVENT
UID:6a3da451-b667-4d21-8001-e6fd4787bf6b
SEQUENCE:0
DTSTAMP:20260424T200208Z
DTSTART;VALUE=DATE:20260418
X-MICROSOFT-CDO-ALLDAYEVENT:TRUE
X-MICROSOFT-MSNCALENDAR-ALLDAYEVENT:TRUE
SUMMARY:Passover
DESCRIPTION:Passover - No school
STATUS:CONFIRMED
END:VEVENT
BEGIN:VEVENT
UID:0975ffd3-d043-4aa7-b7c7-242bc4371215
SEQUENCE:0
DTSTAMP:20260424T200208Z
DTSTART;VALUE=DATE:20260419
X-MICROSOFT-CDO-ALLDAYEVENT:TRUE
X-MICROSOFT-MSNCALENDAR-ALLDAYEVENT:TRUE
SUMMARY:Passover
DESCRIPTION:Passover - No school
STATUS:CONFIRMED
END:VEVENT
BEGIN:VEVENT
UID:1b071f03-a6fb-427a-acbc-47632fcb7518
SEQUENCE:0
DTSTAMP:20260424T200208Z
DTSTART;VALUE=DATE:20260420
X-MICROSOFT-CDO-ALLDAYEVENT:TRUE
X-MICROSOFT-MSNCALENDAR-ALLDAYEVENT:TRUE
SUMMARY:Passover
DESCRIPTION:Passover - No school
STATUS:CONFIRMED
END:VEVENT
BEGIN:VEVENT
UID:ef6fc3aa-7216-4b12-a7dd-f9219154abba
SEQUENCE:0
DTSTAMP:20260424T200208Z
DTSTART;VALUE=DATE:20260425
X-MICROSOFT-CDO-ALLDAYEVENT:TRUE
X-MICROSOFT-MSNCALENDAR-ALLDAYEVENT:TRUE
SUMMARY:Patriots' Day
DESCRIPTION:Patriots' Day - No school
STATUS:CONFIRMED
END:VEVENT
BEGIN:VEVENT
UID:ecfe4ada-ba13-47a8-8d29-80df1860e994
SEQUENCE:0
DTSTAMP:20260424T200208Z
DTSTART;VALUE=DATE:20260525
X-MICROSOFT-CDO-ALLDAYEVENT:TRUE
X-MICROSOFT-MSNCALENDAR-ALLDAYEVENT:TRUE
SUMMARY:Memorial Day
DESCRIPTION:Memorial Day - No school
STATUS:CONFIRMED
END:VEVENT
BEGIN:VEVENT
UID:088d10c8-a7c5-4122-9a44-b42ec3390263
SEQUENCE:0
DTSTAMP:20260424T200208Z
DTSTART;VALUE=DATE:20260619
X-MICROSOFT-CDO-ALLDAYEVENT:TRUE
X-MICROSOFT-MSNCALENDAR-ALLDAYEVENT:TRUE
SUMMARY:Juneteenth
DESCRIPTION:Juneteenth - No school
STATUS:CONFIRMED
END:VEVENT
END:VCALENDAR