BEGIN:VCALENDAR
VERSION:2.0
PRODID:-//SchoolCalendarAPI//school-calendar//EN
URL:https://api.schools-calendar.com/calendar?district_id=ma-gardner-schoo
 l-district&year=2025-26
NAME:Gardner School District School Calendar 2025-26
X-WR-CALNAME:Gardner School District School Calendar 2025-26
X-WR-CALDESC:Official school calendar for Gardner School District for the 
 2025-26 school year.
REFRESH-INTERVAL;VALUE=DURATION:P1D
X-PUBLISHED-TTL:P1D
BEGIN:VEVENT
UID:2d1eec3d-cc85-4923-a33e-7b2b7df0f5a6
SEQUENCE:0
DTSTAMP:20260424T211846Z
DTSTART;VALUE=DATE:20250902
X-MICROSOFT-CDO-ALLDAYEVENT:TRUE
X-MICROSOFT-MSNCALENDAR-ALLDAYEVENT:TRUE
SUMMARY:First Day of School
DESCRIPTION:First day of the 2025-26 school year
STATUS:CONFIRMED
END:VEVENT
BEGIN:VEVENT
UID:38d7adba-e1d6-46e8-8b97-316782148c10
SEQUENCE:0
DTSTAMP:20260424T211846Z
DTSTART;VALUE=DATE:20260612
X-MICROSOFT-CDO-ALLDAYEVENT:TRUE
X-MICROSOFT-MSNCALENDAR-ALLDAYEVENT:TRUE
SUMMARY:Last Day of School
DESCRIPTION:Last day of the 2025-26 school year
STATUS:CONFIRMED
END:VEVENT
BEGIN:VEVENT
UID:d6018b72-06f9-4ef7-8040-cbdd10a85fab
SEQUENCE:0
DTSTAMP:20260424T211846Z
DTSTART;VALUE=DATE:20251126
DTEND;VALUE=DATE:20251129
X-MICROSOFT-CDO-ALLDAYEVENT:TRUE
X-MICROSOFT-MSNCALENDAR-ALLDAYEVENT:TRUE
SUMMARY:Thanksgiving Break
DESCRIPTION:Thanksgiving Break - No school
STATUS:CONFIRMED
END:VEVENT
BEGIN:VEVENT
UID:bf937da4-18ed-4849-bd15-6261943d838b
SEQUENCE:0
DTSTAMP:20260424T211846Z
DTSTART;VALUE=DATE:20251224
DTEND;VALUE=DATE:20260101
X-MICROSOFT-CDO-ALLDAYEVENT:TRUE
X-MICROSOFT-MSNCALENDAR-ALLDAYEVENT:TRUE
SUMMARY:December Vacation
DESCRIPTION:December Vacation - No school
STATUS:CONFIRMED
END:VEVENT
BEGIN:VEVENT
UID:fd081433-6a5b-45cc-9d04-94d6c9194480
SEQUENCE:0
DTSTAMP:20260424T211846Z
DTSTART;VALUE=DATE:20260101
DTEND;VALUE=DATE:20260103
X-MICROSOFT-CDO-ALLDAYEVENT:TRUE
X-MICROSOFT-MSNCALENDAR-ALLDAYEVENT:TRUE
SUMMARY:New Year's Day Observed Break
DESCRIPTION:New Year's Day Observed Break - No school
STATUS:CONFIRMED
END:VEVENT
BEGIN:VEVENT
UID:3ace2209-880c-4860-b8dc-10d9a85a0173
SEQUENCE:0
DTSTAMP:20260424T211846Z
DTSTART;VALUE=DATE:20260217
DTEND;VALUE=DATE:20260221
X-MICROSOFT-CDO-ALLDAYEVENT:TRUE
X-MICROSOFT-MSNCALENDAR-ALLDAYEVENT:TRUE
SUMMARY:February Vacation
DESCRIPTION:February Vacation - No school
STATUS:CONFIRMED
END:VEVENT
BEGIN:VEVENT
UID:dff5ff7c-c203-44fc-a9b3-85def8d4fde4
SEQUENCE:0
DTSTAMP:20260424T211846Z
DTSTART;VALUE=DATE:20260421
DTEND;VALUE=DATE:20260425
X-MICROSOFT-CDO-ALLDAYEVENT:TRUE
X-MICROSOFT-MSNCALENDAR-ALLDAYEVENT:TRUE
SUMMARY:April Vacation
DESCRIPTION:April Vacation - No school
STATUS:CONFIRMED
END:VEVENT
BEGIN:VEVENT
UID:e5aea56c-0d1d-4978-963c-328c3a0abc67
SEQUENCE:0
DTSTAMP:20260424T211846Z
DTSTART;VALUE=DATE:20250901
X-MICROSOFT-CDO-ALLDAYEVENT:TRUE
X-MICROSOFT-MSNCALENDAR-ALLDAYEVENT:TRUE
SUMMARY:Labor Day Holiday Observed
DESCRIPTION:Labor Day Holiday Observed - No school
STATUS:CONFIRMED
END:VEVENT
BEGIN:VEVENT
UID:0871e444-d638-4634-bffc-eea866129a5f
SEQUENCE:0
DTSTAMP:20260424T211846Z
DTSTART;VALUE=DATE:20251013
X-MICROSOFT-CDO-ALLDAYEVENT:TRUE
X-MICROSOFT-MSNCALENDAR-ALLDAYEVENT:TRUE
SUMMARY:Columbus Day/Indigenous Peoples Day Observed
DESCRIPTION:Columbus Day/Indigenous Peoples Day Observed - No school
STATUS:CONFIRMED
END:VEVENT
BEGIN:VEVENT
UID:db7c2fe0-9376-4bff-87d9-8a96237dba9e
SEQUENCE:0
DTSTAMP:20260424T211846Z
DTSTART;VALUE=DATE:20251111
X-MICROSOFT-CDO-ALLDAYEVENT:TRUE
X-MICROSOFT-MSNCALENDAR-ALLDAYEVENT:TRUE
SUMMARY:Veterans Day Holiday Observed
DESCRIPTION:Veterans Day Holiday Observed - No school
STATUS:CONFIRMED
END:VEVENT
BEGIN:VEVENT
UID:0559465f-0e1c-4dbe-8ac6-b7aaf4647604
SEQUENCE:0
DTSTAMP:20260424T211846Z
DTSTART;VALUE=DATE:20260119
X-MICROSOFT-CDO-ALLDAYEVENT:TRUE
X-MICROSOFT-MSNCALENDAR-ALLDAYEVENT:TRUE
SUMMARY:Martin Luther King Day Observed
DESCRIPTION:Martin Luther King Day Observed - No school
STATUS:CONFIRMED
END:VEVENT
BEGIN:VEVENT
UID:61542084-4374-48a0-8216-2da1e696b26d
SEQUENCE:0
DTSTAMP:20260424T211846Z
DTSTART;VALUE=DATE:20260216
X-MICROSOFT-CDO-ALLDAYEVENT:TRUE
X-MICROSOFT-MSNCALENDAR-ALLDAYEVENT:TRUE
SUMMARY:Presidents’ Day Observed
DESCRIPTION:Presidents’ Day Observed - No school
STATUS:CONFIRMED
END:VEVENT
BEGIN:VEVENT
UID:b20cbcf0-3a29-411c-8bd1-0f2943eac974
SEQUENCE:0
DTSTAMP:20260424T211846Z
DTSTART;VALUE=DATE:20260420
X-MICROSOFT-CDO-ALLDAYEVENT:TRUE
X-MICROSOFT-MSNCALENDAR-ALLDAYEVENT:TRUE
SUMMARY:Patriots’ Day Observed
DESCRIPTION:Patriots’ Day Observed - No school
STATUS:CONFIRMED
END:VEVENT
BEGIN:VEVENT
UID:0422a184-f0cb-405a-964f-1ab58cfd70a8
SEQUENCE:0
DTSTAMP:20260424T211846Z
DTSTART;VALUE=DATE:20260525
X-MICROSOFT-CDO-ALLDAYEVENT:TRUE
X-MICROSOFT-MSNCALENDAR-ALLDAYEVENT:TRUE
SUMMARY:Memorial Day Holiday Observed
DESCRIPTION:Memorial Day Holiday Observed - No school
STATUS:CONFIRMED
END:VEVENT
BEGIN:VEVENT
UID:89b9a035-f381-4bd4-8f42-59d167e5f6d0
SEQUENCE:0
DTSTAMP:20260424T211846Z
DTSTART;VALUE=DATE:20260619
X-MICROSOFT-CDO-ALLDAYEVENT:TRUE
X-MICROSOFT-MSNCALENDAR-ALLDAYEVENT:TRUE
SUMMARY:Juneteenth Day Observed
DESCRIPTION:Juneteenth Day Observed - No school
STATUS:CONFIRMED
END:VEVENT
END:VCALENDAR