BEGIN:VCALENDAR
VERSION:2.0
PRODID:-//SchoolCalendarAPI//school-calendar//EN
URL:https://api.schools-calendar.com/calendar?district_id=ma-melrose-schoo
 l-district&year=2025-26
NAME:Melrose School District School Calendar 2025-26
X-WR-CALNAME:Melrose School District School Calendar 2025-26
X-WR-CALDESC:Official school calendar for Melrose School District for the 
 2025-26 school year.
REFRESH-INTERVAL;VALUE=DURATION:P1D
X-PUBLISHED-TTL:P1D
BEGIN:VEVENT
UID:73be602e-0df3-4dae-b3b5-38fdd30965e2
SEQUENCE:0
DTSTAMP:20260424T212017Z
DTSTART;VALUE=DATE:20250827
X-MICROSOFT-CDO-ALLDAYEVENT:TRUE
X-MICROSOFT-MSNCALENDAR-ALLDAYEVENT:TRUE
SUMMARY:First Day of School
DESCRIPTION:First day of the 2025-26 school year
STATUS:CONFIRMED
END:VEVENT
BEGIN:VEVENT
UID:d7c0ba28-6f62-4c7b-8935-ca99f8dd8c6e
SEQUENCE:0
DTSTAMP:20260424T212017Z
DTSTART;VALUE=DATE:20260610
X-MICROSOFT-CDO-ALLDAYEVENT:TRUE
X-MICROSOFT-MSNCALENDAR-ALLDAYEVENT:TRUE
SUMMARY:Last Day of School
DESCRIPTION:Last day of the 2025-26 school year
STATUS:CONFIRMED
END:VEVENT
BEGIN:VEVENT
UID:a2b6c458-6315-4c26-9f51-410cfbbd6157
SEQUENCE:0
DTSTAMP:20260424T212017Z
DTSTART;VALUE=DATE:20251126
DTEND;VALUE=DATE:20251129
X-MICROSOFT-CDO-ALLDAYEVENT:TRUE
X-MICROSOFT-MSNCALENDAR-ALLDAYEVENT:TRUE
SUMMARY:Thanksgiving Break
DESCRIPTION:Thanksgiving Break - No school
STATUS:CONFIRMED
END:VEVENT
BEGIN:VEVENT
UID:dbc80da2-69d9-41d2-a7db-82bcc530b37c
SEQUENCE:0
DTSTAMP:20260424T212017Z
DTSTART;VALUE=DATE:20251223
DTEND;VALUE=DATE:20260103
X-MICROSOFT-CDO-ALLDAYEVENT:TRUE
X-MICROSOFT-MSNCALENDAR-ALLDAYEVENT:TRUE
SUMMARY:Winter Break
DESCRIPTION:Winter Break - No school
STATUS:CONFIRMED
END:VEVENT
BEGIN:VEVENT
UID:85c4f1ba-d427-4c64-9126-322471206c66
SEQUENCE:0
DTSTAMP:20260424T212017Z
DTSTART;VALUE=DATE:20260213
DTEND;VALUE=DATE:20260221
X-MICROSOFT-CDO-ALLDAYEVENT:TRUE
X-MICROSOFT-MSNCALENDAR-ALLDAYEVENT:TRUE
SUMMARY:Feb School Vacation Break
DESCRIPTION:Feb School Vacation Break - No school
STATUS:CONFIRMED
END:VEVENT
BEGIN:VEVENT
UID:84f69cff-2b5a-4700-b784-53c48b6b7a74
SEQUENCE:0
DTSTAMP:20260424T212017Z
DTSTART;VALUE=DATE:20260417
DTEND;VALUE=DATE:20260425
X-MICROSOFT-CDO-ALLDAYEVENT:TRUE
X-MICROSOFT-MSNCALENDAR-ALLDAYEVENT:TRUE
SUMMARY:April School Vacation Break
DESCRIPTION:April School Vacation Break - No school
STATUS:CONFIRMED
END:VEVENT
BEGIN:VEVENT
UID:3b897430-f6aa-4f98-adbc-6309d4abb536
SEQUENCE:0
DTSTAMP:20260424T212017Z
DTSTART;VALUE=DATE:20250901
X-MICROSOFT-CDO-ALLDAYEVENT:TRUE
X-MICROSOFT-MSNCALENDAR-ALLDAYEVENT:TRUE
SUMMARY:Labor Day Observance
DESCRIPTION:Labor Day Observance - No school
STATUS:CONFIRMED
END:VEVENT
BEGIN:VEVENT
UID:1463f4ef-2324-48da-aeb7-fcfe86f15351
SEQUENCE:0
DTSTAMP:20260424T212017Z
DTSTART;VALUE=DATE:20251013
X-MICROSOFT-CDO-ALLDAYEVENT:TRUE
X-MICROSOFT-MSNCALENDAR-ALLDAYEVENT:TRUE
SUMMARY:Indigenous Peoples' Day Observance
DESCRIPTION:Indigenous Peoples' Day Observance - No school
STATUS:CONFIRMED
END:VEVENT
BEGIN:VEVENT
UID:fbf4eaf7-ac42-4674-b843-67701715c50b
SEQUENCE:0
DTSTAMP:20260424T212017Z
DTSTART;VALUE=DATE:20251111
X-MICROSOFT-CDO-ALLDAYEVENT:TRUE
X-MICROSOFT-MSNCALENDAR-ALLDAYEVENT:TRUE
SUMMARY:Veterans Day
DESCRIPTION:Veterans Day - No school
STATUS:CONFIRMED
END:VEVENT
BEGIN:VEVENT
UID:e9aa866a-31b0-4dc0-9675-f80ec10a166a
SEQUENCE:0
DTSTAMP:20260424T212017Z
DTSTART;VALUE=DATE:20260119
X-MICROSOFT-CDO-ALLDAYEVENT:TRUE
X-MICROSOFT-MSNCALENDAR-ALLDAYEVENT:TRUE
SUMMARY:Martin Luther King Jr Day Observance
DESCRIPTION:Martin Luther King Jr Day Observance - No school
STATUS:CONFIRMED
END:VEVENT
BEGIN:VEVENT
UID:ff153509-96bd-4353-86f7-8558a648a017
SEQUENCE:0
DTSTAMP:20260424T212017Z
DTSTART;VALUE=DATE:20260525
X-MICROSOFT-CDO-ALLDAYEVENT:TRUE
X-MICROSOFT-MSNCALENDAR-ALLDAYEVENT:TRUE
SUMMARY:Memorial Day Observance
DESCRIPTION:Memorial Day Observance - No school
STATUS:CONFIRMED
END:VEVENT
END:VCALENDAR