BEGIN:VCALENDAR
VERSION:2.0
PRODID:-//SchoolCalendarAPI//school-calendar//EN
URL:https://api.schools-calendar.com/calendar?district_id=ma-southern-berk
 shire-school-district&year=2025-26
NAME:Southern Berkshire School District School Calendar 2025-26
X-WR-CALNAME:Southern Berkshire School District School Calendar 2025-26
X-WR-CALDESC:Official school calendar for Southern Berkshire School Distri
 ct for the 2025-26 school year.
REFRESH-INTERVAL;VALUE=DURATION:P1D
X-PUBLISHED-TTL:P1D
BEGIN:VEVENT
UID:99b6f23a-7611-43ba-a83e-75878c350d2a
SEQUENCE:0
DTSTAMP:20260424T200334Z
DTSTART;VALUE=DATE:20250902
X-MICROSOFT-CDO-ALLDAYEVENT:TRUE
X-MICROSOFT-MSNCALENDAR-ALLDAYEVENT:TRUE
SUMMARY:First Day of School
DESCRIPTION:First day of the 2025-26 school year
STATUS:CONFIRMED
END:VEVENT
BEGIN:VEVENT
UID:229ef24c-1323-4223-8b46-17a3fa762e7d
SEQUENCE:0
DTSTAMP:20260424T200334Z
DTSTART;VALUE=DATE:20260528
X-MICROSOFT-CDO-ALLDAYEVENT:TRUE
X-MICROSOFT-MSNCALENDAR-ALLDAYEVENT:TRUE
SUMMARY:Last Day of School
DESCRIPTION:Last day of the 2025-26 school year
STATUS:CONFIRMED
END:VEVENT
BEGIN:VEVENT
UID:8d2902e6-708d-4282-96e7-fd6c82555901
SEQUENCE:0
DTSTAMP:20260424T200334Z
DTSTART;VALUE=DATE:20251121
DTEND;VALUE=DATE:20251202
X-MICROSOFT-CDO-ALLDAYEVENT:TRUE
X-MICROSOFT-MSNCALENDAR-ALLDAYEVENT:TRUE
SUMMARY:Thanksgiving Recess
DESCRIPTION:Thanksgiving Recess - No school
STATUS:CONFIRMED
END:VEVENT
BEGIN:VEVENT
UID:93f535c2-0c96-43ea-a8c4-ef6abf5b9a98
SEQUENCE:0
DTSTAMP:20260424T200334Z
DTSTART;VALUE=DATE:20251219
DTEND;VALUE=DATE:20260105
X-MICROSOFT-CDO-ALLDAYEVENT:TRUE
X-MICROSOFT-MSNCALENDAR-ALLDAYEVENT:TRUE
SUMMARY:Winter Recess
DESCRIPTION:Winter Recess - No school
STATUS:CONFIRMED
END:VEVENT
BEGIN:VEVENT
UID:67486df4-0e8a-4468-af1c-52edca751fc1
SEQUENCE:0
DTSTAMP:20260424T200334Z
DTSTART;VALUE=DATE:20260306
DTEND;VALUE=DATE:20260326
X-MICROSOFT-CDO-ALLDAYEVENT:TRUE
X-MICROSOFT-MSNCALENDAR-ALLDAYEVENT:TRUE
SUMMARY:Spring Recess
DESCRIPTION:Spring Recess - No school
STATUS:CONFIRMED
END:VEVENT
BEGIN:VEVENT
UID:10db02ec-0463-4771-8e49-719ccae3f65e
SEQUENCE:0
DTSTAMP:20260424T200334Z
DTSTART;VALUE=DATE:20250922
X-MICROSOFT-CDO-ALLDAYEVENT:TRUE
X-MICROSOFT-MSNCALENDAR-ALLDAYEVENT:TRUE
SUMMARY:No Classes
DESCRIPTION:No Classes - No school
STATUS:CONFIRMED
END:VEVENT
BEGIN:VEVENT
UID:5f30e95c-fb43-4a79-9788-0b8ddde137ed
SEQUENCE:0
DTSTAMP:20260424T200334Z
DTSTART;VALUE=DATE:20260427
X-MICROSOFT-CDO-ALLDAYEVENT:TRUE
X-MICROSOFT-MSNCALENDAR-ALLDAYEVENT:TRUE
SUMMARY:No Classes
DESCRIPTION:No Classes - No school
STATUS:CONFIRMED
END:VEVENT
END:VCALENDAR