BEGIN:VCALENDAR
VERSION:2.0
PRODID:-//SchoolCalendarAPI//school-calendar//EN
URL:https://api.schools-calendar.com/calendar?district_id=ma-ware-school-d
 istrict&year=2025-26
NAME:Ware School District School Calendar 2025-26
X-WR-CALNAME:Ware School District School Calendar 2025-26
X-WR-CALDESC:Official school calendar for Ware School District for the 202
 5-26 school year.
REFRESH-INTERVAL;VALUE=DURATION:P1D
X-PUBLISHED-TTL:P1D
BEGIN:VEVENT
UID:c402a8ff-ba0b-4945-a206-1d629f82534c
SEQUENCE:0
DTSTAMP:20260424T195940Z
DTSTART;VALUE=DATE:20250828
X-MICROSOFT-CDO-ALLDAYEVENT:TRUE
X-MICROSOFT-MSNCALENDAR-ALLDAYEVENT:TRUE
SUMMARY:First Day of School
DESCRIPTION:First day of the 2025-26 school year
STATUS:CONFIRMED
END:VEVENT
BEGIN:VEVENT
UID:2915c525-e3bb-4588-ae9e-f9b85979f9e1
SEQUENCE:0
DTSTAMP:20260424T195940Z
DTSTART;VALUE=DATE:20260615
X-MICROSOFT-CDO-ALLDAYEVENT:TRUE
X-MICROSOFT-MSNCALENDAR-ALLDAYEVENT:TRUE
SUMMARY:Last Day of School
DESCRIPTION:Last day of the 2025-26 school year
STATUS:CONFIRMED
END:VEVENT
BEGIN:VEVENT
UID:1504e976-bb8b-4d3e-bf6a-30809c8623b7
SEQUENCE:0
DTSTAMP:20260424T195940Z
DTSTART;VALUE=DATE:20251123
DTEND;VALUE=DATE:20251125
X-MICROSOFT-CDO-ALLDAYEVENT:TRUE
X-MICROSOFT-MSNCALENDAR-ALLDAYEVENT:TRUE
SUMMARY:Thanksgiving Break
DESCRIPTION:Thanksgiving Break - No school
STATUS:CONFIRMED
END:VEVENT
BEGIN:VEVENT
UID:b0cc0f4a-50ff-4f0e-9723-d028d1e26b20
SEQUENCE:0
DTSTAMP:20260424T195940Z
DTSTART;VALUE=DATE:20251225
DTEND;VALUE=DATE:20260102
X-MICROSOFT-CDO-ALLDAYEVENT:TRUE
X-MICROSOFT-MSNCALENDAR-ALLDAYEVENT:TRUE
SUMMARY:Holiday Break
DESCRIPTION:Holiday Break - No school
STATUS:CONFIRMED
END:VEVENT
BEGIN:VEVENT
UID:aec63aa5-1a88-44de-950c-0cf2a25d3c1e
SEQUENCE:0
DTSTAMP:20260424T195940Z
DTSTART;VALUE=DATE:20260219
DTEND;VALUE=DATE:20260224
X-MICROSOFT-CDO-ALLDAYEVENT:TRUE
X-MICROSOFT-MSNCALENDAR-ALLDAYEVENT:TRUE
SUMMARY:Winter Vacation
DESCRIPTION:Winter Vacation - No school
STATUS:CONFIRMED
END:VEVENT
BEGIN:VEVENT
UID:d939c42a-22d8-461b-82c4-bf2e71297377
SEQUENCE:0
DTSTAMP:20260424T195940Z
DTSTART;VALUE=DATE:20260416
DTEND;VALUE=DATE:20260421
X-MICROSOFT-CDO-ALLDAYEVENT:TRUE
X-MICROSOFT-MSNCALENDAR-ALLDAYEVENT:TRUE
SUMMARY:Spring Vacation
DESCRIPTION:Spring Vacation - No school
STATUS:CONFIRMED
END:VEVENT
BEGIN:VEVENT
UID:f2507168-2363-4282-b485-3454a46df351
SEQUENCE:0
DTSTAMP:20260424T195940Z
DTSTART;VALUE=DATE:20250904
X-MICROSOFT-CDO-ALLDAYEVENT:TRUE
X-MICROSOFT-MSNCALENDAR-ALLDAYEVENT:TRUE
SUMMARY:Labor Day
DESCRIPTION:Labor Day - No school
STATUS:CONFIRMED
END:VEVENT
BEGIN:VEVENT
UID:ce153e83-c8a0-4b5b-af32-20aeb72da425
SEQUENCE:0
DTSTAMP:20260424T195940Z
DTSTART;VALUE=DATE:20251009
X-MICROSOFT-CDO-ALLDAYEVENT:TRUE
X-MICROSOFT-MSNCALENDAR-ALLDAYEVENT:TRUE
SUMMARY:Columbus Day
DESCRIPTION:Columbus Day - No school
STATUS:CONFIRMED
END:VEVENT
BEGIN:VEVENT
UID:f0a7f6e6-7c00-4897-ac47-47b9abc75fb8
SEQUENCE:0
DTSTAMP:20260424T195940Z
DTSTART;VALUE=DATE:20251110
X-MICROSOFT-CDO-ALLDAYEVENT:TRUE
X-MICROSOFT-MSNCALENDAR-ALLDAYEVENT:TRUE
SUMMARY:Veterans Day Obs.
DESCRIPTION:Veterans Day Obs. - No school
STATUS:CONFIRMED
END:VEVENT
BEGIN:VEVENT
UID:3aa904ae-ceab-4e4e-8565-95bc58b6e965
SEQUENCE:0
DTSTAMP:20260424T195940Z
DTSTART;VALUE=DATE:20260115
X-MICROSOFT-CDO-ALLDAYEVENT:TRUE
X-MICROSOFT-MSNCALENDAR-ALLDAYEVENT:TRUE
SUMMARY:M.L.King Jr. Day Obs.
DESCRIPTION:M.L.King Jr. Day Obs. - No school
STATUS:CONFIRMED
END:VEVENT
BEGIN:VEVENT
UID:94d5fd2b-01db-48c5-999d-cce35b655652
SEQUENCE:0
DTSTAMP:20260424T195940Z
DTSTART;VALUE=DATE:20260330
X-MICROSOFT-CDO-ALLDAYEVENT:TRUE
X-MICROSOFT-MSNCALENDAR-ALLDAYEVENT:TRUE
SUMMARY:Good Friday
DESCRIPTION:Good Friday - No school
STATUS:CONFIRMED
END:VEVENT
BEGIN:VEVENT
UID:098addba-8e59-4705-98f6-b329233a64ed
SEQUENCE:0
DTSTAMP:20260424T195940Z
DTSTART;VALUE=DATE:20260528
X-MICROSOFT-CDO-ALLDAYEVENT:TRUE
X-MICROSOFT-MSNCALENDAR-ALLDAYEVENT:TRUE
SUMMARY:Memorial Day
DESCRIPTION:Memorial Day - No school
STATUS:CONFIRMED
END:VEVENT
END:VCALENDAR