BEGIN:VCALENDAR
VERSION:2.0
PRODID:-//SchoolCalendarAPI//school-calendar//EN
URL:https://api.schools-calendar.com/calendar?district_id=ma-wayland-schoo
 l-district&year=2025-26
NAME:Wayland School District School Calendar 2025-26
X-WR-CALNAME:Wayland School District School Calendar 2025-26
X-WR-CALDESC:Official school calendar for Wayland School District for the 
 2025-26 school year.
REFRESH-INTERVAL;VALUE=DURATION:P1D
X-PUBLISHED-TTL:P1D
BEGIN:VEVENT
UID:5f4f70c8-bd79-4c46-beb9-b1d755b22264
SEQUENCE:0
DTSTAMP:20260424T212108Z
DTSTART;VALUE=DATE:20250820
X-MICROSOFT-CDO-ALLDAYEVENT:TRUE
X-MICROSOFT-MSNCALENDAR-ALLDAYEVENT:TRUE
SUMMARY:First Day of School
DESCRIPTION:First day of the 2025-26 school year
STATUS:CONFIRMED
END:VEVENT
BEGIN:VEVENT
UID:db974a54-8baf-4685-9cf3-7509e67daf61
SEQUENCE:0
DTSTAMP:20260424T212108Z
DTSTART;VALUE=DATE:20260604
X-MICROSOFT-CDO-ALLDAYEVENT:TRUE
X-MICROSOFT-MSNCALENDAR-ALLDAYEVENT:TRUE
SUMMARY:Last Day of School
DESCRIPTION:Last day of the 2025-26 school year
STATUS:CONFIRMED
END:VEVENT
BEGIN:VEVENT
UID:e33aefc5-fa9c-444b-8d6e-57d532fc0bb0
SEQUENCE:0
DTSTAMP:20260424T212108Z
DTSTART;VALUE=DATE:20250829
DTEND;VALUE=DATE:20250902
X-MICROSOFT-CDO-ALLDAYEVENT:TRUE
X-MICROSOFT-MSNCALENDAR-ALLDAYEVENT:TRUE
SUMMARY:Labor Day Break
DESCRIPTION:Labor Day Break - No school
STATUS:CONFIRMED
END:VEVENT
BEGIN:VEVENT
UID:0885bcbb-67d0-445c-9e7f-3957ccabe6a8
SEQUENCE:0
DTSTAMP:20260424T212108Z
DTSTART;VALUE=DATE:20251126
DTEND;VALUE=DATE:20251129
X-MICROSOFT-CDO-ALLDAYEVENT:TRUE
X-MICROSOFT-MSNCALENDAR-ALLDAYEVENT:TRUE
SUMMARY:Thanksgiving Break
DESCRIPTION:Thanksgiving Break - No school
STATUS:CONFIRMED
END:VEVENT
BEGIN:VEVENT
UID:43a285b7-beb6-42ae-93df-62833331e956
SEQUENCE:0
DTSTAMP:20260424T212108Z
DTSTART;VALUE=DATE:20251222
DTEND;VALUE=DATE:20260103
X-MICROSOFT-CDO-ALLDAYEVENT:TRUE
X-MICROSOFT-MSNCALENDAR-ALLDAYEVENT:TRUE
SUMMARY:Winter Break
DESCRIPTION:Winter Break - No school
STATUS:CONFIRMED
END:VEVENT
BEGIN:VEVENT
UID:0b48b5c1-ca93-4807-a86c-748c9cf47fd9
SEQUENCE:0
DTSTAMP:20260424T212108Z
DTSTART;VALUE=DATE:20260213
DTEND;VALUE=DATE:20260217
X-MICROSOFT-CDO-ALLDAYEVENT:TRUE
X-MICROSOFT-MSNCALENDAR-ALLDAYEVENT:TRUE
SUMMARY:Mid-Winter Break
DESCRIPTION:Mid-Winter Break - No school
STATUS:CONFIRMED
END:VEVENT
BEGIN:VEVENT
UID:aa38b7a6-27a1-4359-b6c7-0fab8b98dccb
SEQUENCE:0
DTSTAMP:20260424T212108Z
DTSTART;VALUE=DATE:20260403
DTEND;VALUE=DATE:20260411
X-MICROSOFT-CDO-ALLDAYEVENT:TRUE
X-MICROSOFT-MSNCALENDAR-ALLDAYEVENT:TRUE
SUMMARY:Spring Break
DESCRIPTION:Spring Break - No school
STATUS:CONFIRMED
END:VEVENT
BEGIN:VEVENT
UID:72811328-b737-456b-adaa-91062024a7c6
SEQUENCE:0
DTSTAMP:20260424T212108Z
DTSTART;VALUE=DATE:20250901
X-MICROSOFT-CDO-ALLDAYEVENT:TRUE
X-MICROSOFT-MSNCALENDAR-ALLDAYEVENT:TRUE
SUMMARY:Labor Day
DESCRIPTION:Labor Day - No school
STATUS:CONFIRMED
END:VEVENT
BEGIN:VEVENT
UID:1daa9239-c955-4cf7-9977-b6ae08f3230a
SEQUENCE:0
DTSTAMP:20260424T212108Z
DTSTART;VALUE=DATE:20251010
X-MICROSOFT-CDO-ALLDAYEVENT:TRUE
X-MICROSOFT-MSNCALENDAR-ALLDAYEVENT:TRUE
SUMMARY:Fall Student Count Day
DESCRIPTION:Fall Student Count Day - No school
STATUS:CONFIRMED
END:VEVENT
BEGIN:VEVENT
UID:23196791-4e89-4c42-a7e5-b46c577cc049
SEQUENCE:0
DTSTAMP:20260424T212108Z
DTSTART;VALUE=DATE:20251013
X-MICROSOFT-CDO-ALLDAYEVENT:TRUE
X-MICROSOFT-MSNCALENDAR-ALLDAYEVENT:TRUE
SUMMARY:No Students or Staff
DESCRIPTION:No Students or Staff - No school
STATUS:CONFIRMED
END:VEVENT
BEGIN:VEVENT
UID:f70475d5-0cc6-40eb-9bd1-b33087af5ff0
SEQUENCE:0
DTSTAMP:20260424T212108Z
DTSTART;VALUE=DATE:20251103
X-MICROSOFT-CDO-ALLDAYEVENT:TRUE
X-MICROSOFT-MSNCALENDAR-ALLDAYEVENT:TRUE
SUMMARY:No School - Teacher PD Day
DESCRIPTION:No School - Teacher PD Day - No school
STATUS:CONFIRMED
END:VEVENT
BEGIN:VEVENT
UID:0d8b5e5f-16b7-4c04-88a2-b80e4e1d4261
SEQUENCE:0
DTSTAMP:20260424T212108Z
DTSTART;VALUE=DATE:20251114
X-MICROSOFT-CDO-ALLDAYEVENT:TRUE
X-MICROSOFT-MSNCALENDAR-ALLDAYEVENT:TRUE
SUMMARY:End of 1st Trimester
DESCRIPTION:End of 1st Trimester - No school
STATUS:CONFIRMED
END:VEVENT
BEGIN:VEVENT
UID:c38715cc-9a83-44fb-9f52-3f18322d1f2e
SEQUENCE:0
DTSTAMP:20260424T212108Z
DTSTART;VALUE=DATE:20251117
X-MICROSOFT-CDO-ALLDAYEVENT:TRUE
X-MICROSOFT-MSNCALENDAR-ALLDAYEVENT:TRUE
SUMMARY:Start of 2nd Trimester
DESCRIPTION:Start of 2nd Trimester - No school
STATUS:CONFIRMED
END:VEVENT
BEGIN:VEVENT
UID:55728a74-9a62-4323-ace5-b871dce2aea0
SEQUENCE:0
DTSTAMP:20260424T212108Z
DTSTART;VALUE=DATE:20260119
X-MICROSOFT-CDO-ALLDAYEVENT:TRUE
X-MICROSOFT-MSNCALENDAR-ALLDAYEVENT:TRUE
SUMMARY:No School - Teacher PD Day
DESCRIPTION:No School - Teacher PD Day - No school
STATUS:CONFIRMED
END:VEVENT
BEGIN:VEVENT
UID:12c19787-d4fb-4faa-b36b-1a8398604b7c
SEQUENCE:0
DTSTAMP:20260424T212108Z
DTSTART;VALUE=DATE:20260119
X-MICROSOFT-CDO-ALLDAYEVENT:TRUE
X-MICROSOFT-MSNCALENDAR-ALLDAYEVENT:TRUE
SUMMARY:Winter Student Count Day
DESCRIPTION:Winter Student Count Day - No school
STATUS:CONFIRMED
END:VEVENT
BEGIN:VEVENT
UID:7b9c2306-8e1b-4025-bc26-8800aeb93ff4
SEQUENCE:0
DTSTAMP:20260424T212108Z
DTSTART;VALUE=DATE:20260227
X-MICROSOFT-CDO-ALLDAYEVENT:TRUE
X-MICROSOFT-MSNCALENDAR-ALLDAYEVENT:TRUE
SUMMARY:End of 2nd Trimester
DESCRIPTION:End of 2nd Trimester - No school
STATUS:CONFIRMED
END:VEVENT
BEGIN:VEVENT
UID:b4df9a46-96d1-47f8-a08b-4ffb020a03ec
SEQUENCE:0
DTSTAMP:20260424T212108Z
DTSTART;VALUE=DATE:20260302
X-MICROSOFT-CDO-ALLDAYEVENT:TRUE
X-MICROSOFT-MSNCALENDAR-ALLDAYEVENT:TRUE
SUMMARY:Start of 3rd Trimester
DESCRIPTION:Start of 3rd Trimester - No school
STATUS:CONFIRMED
END:VEVENT
BEGIN:VEVENT
UID:3e7248ac-e68f-4785-9737-b041f8dac439
SEQUENCE:0
DTSTAMP:20260424T212108Z
DTSTART;VALUE=DATE:20260313
X-MICROSOFT-CDO-ALLDAYEVENT:TRUE
X-MICROSOFT-MSNCALENDAR-ALLDAYEVENT:TRUE
SUMMARY:No Students or Staff
DESCRIPTION:No Students or Staff - No school
STATUS:CONFIRMED
END:VEVENT
BEGIN:VEVENT
UID:9c85a35d-150e-4635-9721-9914af9585a2
SEQUENCE:0
DTSTAMP:20260424T212108Z
DTSTART;VALUE=DATE:20260316
X-MICROSOFT-CDO-ALLDAYEVENT:TRUE
X-MICROSOFT-MSNCALENDAR-ALLDAYEVENT:TRUE
SUMMARY:No School - Teacher PD Day
DESCRIPTION:No School - Teacher PD Day - No school
STATUS:CONFIRMED
END:VEVENT
BEGIN:VEVENT
UID:ed943dee-44f1-4ff7-bcbd-1e09dec982d9
SEQUENCE:0
DTSTAMP:20260424T212108Z
DTSTART;VALUE=DATE:20260521
X-MICROSOFT-CDO-ALLDAYEVENT:TRUE
X-MICROSOFT-MSNCALENDAR-ALLDAYEVENT:TRUE
SUMMARY:Graduation for the Class of 2026
DESCRIPTION:Graduation for the Class of 2026 - No school
STATUS:CONFIRMED
END:VEVENT
BEGIN:VEVENT
UID:660971f7-5474-4b87-804b-6aaa52fb478f
SEQUENCE:0
DTSTAMP:20260424T212108Z
DTSTART;VALUE=DATE:20260522
X-MICROSOFT-CDO-ALLDAYEVENT:TRUE
X-MICROSOFT-MSNCALENDAR-ALLDAYEVENT:TRUE
SUMMARY:No School/Inclement Weather Make up day
DESCRIPTION:No School/Inclement Weather Make up day - No school
STATUS:CONFIRMED
END:VEVENT
BEGIN:VEVENT
UID:099a0a97-9454-4bed-950a-096d78034f4a
SEQUENCE:0
DTSTAMP:20260424T212108Z
DTSTART;VALUE=DATE:20260525
X-MICROSOFT-CDO-ALLDAYEVENT:TRUE
X-MICROSOFT-MSNCALENDAR-ALLDAYEVENT:TRUE
SUMMARY:Memorial Day
DESCRIPTION:Memorial Day - No school
STATUS:CONFIRMED
END:VEVENT
BEGIN:VEVENT
UID:834f137d-1945-4806-9325-2e67b52341a7
SEQUENCE:0
DTSTAMP:20260424T212108Z
DTSTART;VALUE=DATE:20260604
X-MICROSOFT-CDO-ALLDAYEVENT:TRUE
X-MICROSOFT-MSNCALENDAR-ALLDAYEVENT:TRUE
SUMMARY:End of 3rd Tri/Last Half Day of School
DESCRIPTION:End of 3rd Tri/Last Half Day of School - No school
STATUS:CONFIRMED
END:VEVENT
END:VCALENDAR