BEGIN:VCALENDAR
VERSION:2.0
PRODID:-//SchoolCalendarAPI//school-calendar//EN
URL:https://api.schools-calendar.com/calendar?district_id=ma-weston-school
 -district&year=2025-26
NAME:Weston School District School Calendar 2025-26
X-WR-CALNAME:Weston School District School Calendar 2025-26
X-WR-CALDESC:Official school calendar for Weston School District for the 2
 025-26 school year.
REFRESH-INTERVAL;VALUE=DURATION:P1D
X-PUBLISHED-TTL:P1D
BEGIN:VEVENT
UID:75e04825-28d7-4fa9-87cd-bbbee7697b29
SEQUENCE:0
DTSTAMP:20260424T195326Z
DTSTART;VALUE=DATE:20250902
X-MICROSOFT-CDO-ALLDAYEVENT:TRUE
X-MICROSOFT-MSNCALENDAR-ALLDAYEVENT:TRUE
SUMMARY:First Day of School
DESCRIPTION:First day of the 2025-26 school year
STATUS:CONFIRMED
END:VEVENT
BEGIN:VEVENT
UID:9479253e-52a9-4605-9bdd-5c51a3e1473f
SEQUENCE:0
DTSTAMP:20260424T195326Z
DTSTART;VALUE=DATE:20260612
X-MICROSOFT-CDO-ALLDAYEVENT:TRUE
X-MICROSOFT-MSNCALENDAR-ALLDAYEVENT:TRUE
SUMMARY:Last Day of School
DESCRIPTION:Last day of the 2025-26 school year
STATUS:CONFIRMED
END:VEVENT
BEGIN:VEVENT
UID:48c55e12-b229-4d01-8018-8e3f7dd37336
SEQUENCE:0
DTSTAMP:20260424T195326Z
DTSTART;VALUE=DATE:20251127
DTEND;VALUE=DATE:20251129
X-MICROSOFT-CDO-ALLDAYEVENT:TRUE
X-MICROSOFT-MSNCALENDAR-ALLDAYEVENT:TRUE
SUMMARY:Thanksgiving Recess
DESCRIPTION:Thanksgiving Recess - No school
STATUS:CONFIRMED
END:VEVENT
BEGIN:VEVENT
UID:a531c419-b399-4b88-9974-d3c421ff6532
SEQUENCE:0
DTSTAMP:20260424T195326Z
DTSTART;VALUE=DATE:20251224
DTEND;VALUE=DATE:20260101
X-MICROSOFT-CDO-ALLDAYEVENT:TRUE
X-MICROSOFT-MSNCALENDAR-ALLDAYEVENT:TRUE
SUMMARY:December Recess
DESCRIPTION:December Recess - No school
STATUS:CONFIRMED
END:VEVENT
BEGIN:VEVENT
UID:5c381af4-170f-4557-8fea-0f0d4aeb2f63
SEQUENCE:0
DTSTAMP:20260424T195326Z
DTSTART;VALUE=DATE:20260216
DTEND;VALUE=DATE:20260221
X-MICROSOFT-CDO-ALLDAYEVENT:TRUE
X-MICROSOFT-MSNCALENDAR-ALLDAYEVENT:TRUE
SUMMARY:Winter Recess
DESCRIPTION:Winter Recess - No school
STATUS:CONFIRMED
END:VEVENT
BEGIN:VEVENT
UID:e1ddd08d-4a8f-42d0-964f-46749e722267
SEQUENCE:0
DTSTAMP:20260424T195326Z
DTSTART;VALUE=DATE:20260420
DTEND;VALUE=DATE:20260425
X-MICROSOFT-CDO-ALLDAYEVENT:TRUE
X-MICROSOFT-MSNCALENDAR-ALLDAYEVENT:TRUE
SUMMARY:Spring Recess
DESCRIPTION:Spring Recess - No school
STATUS:CONFIRMED
END:VEVENT
BEGIN:VEVENT
UID:58abb0dd-9f2c-4bb9-aa36-7fc737a93075
SEQUENCE:0
DTSTAMP:20260424T195326Z
DTSTART;VALUE=DATE:20250901
X-MICROSOFT-CDO-ALLDAYEVENT:TRUE
X-MICROSOFT-MSNCALENDAR-ALLDAYEVENT:TRUE
SUMMARY:Labor Day
DESCRIPTION:Labor Day - No school
STATUS:CONFIRMED
END:VEVENT
BEGIN:VEVENT
UID:09135521-e968-4c99-90ea-8a5f4ed5d1fd
SEQUENCE:0
DTSTAMP:20260424T195326Z
DTSTART;VALUE=DATE:20251013
X-MICROSOFT-CDO-ALLDAYEVENT:TRUE
X-MICROSOFT-MSNCALENDAR-ALLDAYEVENT:TRUE
SUMMARY:Indigenous Peoples’ Day
DESCRIPTION:Indigenous Peoples’ Day - No school
STATUS:CONFIRMED
END:VEVENT
BEGIN:VEVENT
UID:e3bc91f7-3e3f-43ce-a705-e0349a5925fe
SEQUENCE:0
DTSTAMP:20260424T195326Z
DTSTART;VALUE=DATE:20251111
X-MICROSOFT-CDO-ALLDAYEVENT:TRUE
X-MICROSOFT-MSNCALENDAR-ALLDAYEVENT:TRUE
SUMMARY:Veterans Day
DESCRIPTION:Veterans Day - No school
STATUS:CONFIRMED
END:VEVENT
BEGIN:VEVENT
UID:155a8862-1ed4-4cd2-a035-1e442b9664e6
SEQUENCE:0
DTSTAMP:20260424T195326Z
DTSTART;VALUE=DATE:20260101
X-MICROSOFT-CDO-ALLDAYEVENT:TRUE
X-MICROSOFT-MSNCALENDAR-ALLDAYEVENT:TRUE
SUMMARY:New Year’s Day
DESCRIPTION:New Year’s Day - No school
STATUS:CONFIRMED
END:VEVENT
BEGIN:VEVENT
UID:0c5a00cc-a0b1-4e31-be69-dae5387d3915
SEQUENCE:0
DTSTAMP:20260424T195326Z
DTSTART;VALUE=DATE:20260119
X-MICROSOFT-CDO-ALLDAYEVENT:TRUE
X-MICROSOFT-MSNCALENDAR-ALLDAYEVENT:TRUE
SUMMARY:Martin Luther King Jr. Day
DESCRIPTION:Martin Luther King Jr. Day - No school
STATUS:CONFIRMED
END:VEVENT
BEGIN:VEVENT
UID:2eac1178-82b3-4ec8-bcf9-a418827af76d
SEQUENCE:0
DTSTAMP:20260424T195326Z
DTSTART;VALUE=DATE:20260216
X-MICROSOFT-CDO-ALLDAYEVENT:TRUE
X-MICROSOFT-MSNCALENDAR-ALLDAYEVENT:TRUE
SUMMARY:Presidents Day
DESCRIPTION:Presidents Day - No school
STATUS:CONFIRMED
END:VEVENT
BEGIN:VEVENT
UID:f2c0e71c-cb22-499b-a127-9a5fd3ce96c4
SEQUENCE:0
DTSTAMP:20260424T195326Z
DTSTART;VALUE=DATE:20260526
X-MICROSOFT-CDO-ALLDAYEVENT:TRUE
X-MICROSOFT-MSNCALENDAR-ALLDAYEVENT:TRUE
SUMMARY:Memorial Day
DESCRIPTION:Memorial Day - No school
STATUS:CONFIRMED
END:VEVENT
BEGIN:VEVENT
UID:0949d82b-d875-4008-86ea-f71d365679c8
SEQUENCE:0
DTSTAMP:20260424T195326Z
DTSTART;VALUE=DATE:20260619
X-MICROSOFT-CDO-ALLDAYEVENT:TRUE
X-MICROSOFT-MSNCALENDAR-ALLDAYEVENT:TRUE
SUMMARY:Juneteenth
DESCRIPTION:Juneteenth - No school
STATUS:CONFIRMED
END:VEVENT
END:VCALENDAR