BEGIN:VCALENDAR
VERSION:2.0
PRODID:-//SchoolCalendarAPI//school-calendar//EN
URL:https://api.schools-calendar.com/calendar?district_id=mi-alba-public-s
 chools&year=2025-26
NAME:Alba Public Schools School Calendar 2025-26
X-WR-CALNAME:Alba Public Schools School Calendar 2025-26
X-WR-CALDESC:Official school calendar for Alba Public Schools for the 2025
 -26 school year.
REFRESH-INTERVAL;VALUE=DURATION:P1D
X-PUBLISHED-TTL:P1D
BEGIN:VEVENT
UID:8b28bac3-7222-43f2-b80f-8a72be0cb092
SEQUENCE:0
DTSTAMP:20260422T184029Z
DTSTART;VALUE=DATE:20250922
X-MICROSOFT-CDO-ALLDAYEVENT:TRUE
X-MICROSOFT-MSNCALENDAR-ALLDAYEVENT:TRUE
SUMMARY:First Day of School
DESCRIPTION:First day of the 2025-26 school year
STATUS:CONFIRMED
END:VEVENT
BEGIN:VEVENT
UID:d59fca42-3f1e-4480-a62b-0c9fddde9a07
SEQUENCE:0
DTSTAMP:20260422T184029Z
DTSTART;VALUE=DATE:20260710
X-MICROSOFT-CDO-ALLDAYEVENT:TRUE
X-MICROSOFT-MSNCALENDAR-ALLDAYEVENT:TRUE
SUMMARY:Last Day of School
DESCRIPTION:Last day of the 2025-26 school year
STATUS:CONFIRMED
END:VEVENT
BEGIN:VEVENT
UID:3ce70f74-3bf6-4132-81eb-89eddeabcc2e
SEQUENCE:0
DTSTAMP:20260422T184029Z
DTSTART;VALUE=DATE:20251127
DTEND;VALUE=DATE:20251129
X-MICROSOFT-CDO-ALLDAYEVENT:TRUE
X-MICROSOFT-MSNCALENDAR-ALLDAYEVENT:TRUE
SUMMARY:Thanksgiving Holiday
DESCRIPTION:Thanksgiving Holiday - No school
STATUS:CONFIRMED
END:VEVENT
BEGIN:VEVENT
UID:c9360ffb-11c9-49da-930b-d5bbd77bceb4
SEQUENCE:0
DTSTAMP:20260422T184029Z
DTSTART;VALUE=DATE:20260405
DTEND;VALUE=DATE:20260420
X-MICROSOFT-CDO-ALLDAYEVENT:TRUE
X-MICROSOFT-MSNCALENDAR-ALLDAYEVENT:TRUE
SUMMARY:Easter Recess
DESCRIPTION:Easter Recess - No school
STATUS:CONFIRMED
END:VEVENT
BEGIN:VEVENT
UID:28aa1475-b645-41ae-94de-426e2d43c2c2
SEQUENCE:0
DTSTAMP:20260422T184029Z
DTSTART;VALUE=DATE:20251028
X-MICROSOFT-CDO-ALLDAYEVENT:TRUE
X-MICROSOFT-MSNCALENDAR-ALLDAYEVENT:TRUE
SUMMARY:Greek National Holiday
DESCRIPTION:Greek National Holiday - No school
STATUS:CONFIRMED
END:VEVENT
BEGIN:VEVENT
UID:d5a3e229-2b44-44f1-a810-01063fb98819
SEQUENCE:0
DTSTAMP:20260422T184029Z
DTSTART;VALUE=DATE:20251117
X-MICROSOFT-CDO-ALLDAYEVENT:TRUE
X-MICROSOFT-MSNCALENDAR-ALLDAYEVENT:TRUE
SUMMARY:Politechnio School Holiday
DESCRIPTION:Politechnio School Holiday - No school
STATUS:CONFIRMED
END:VEVENT
BEGIN:VEVENT
UID:446ee1a3-5172-4fd4-9045-ebe8096d18cc
SEQUENCE:0
DTSTAMP:20260422T184029Z
DTSTART;VALUE=DATE:20260106
X-MICROSOFT-CDO-ALLDAYEVENT:TRUE
X-MICROSOFT-MSNCALENDAR-ALLDAYEVENT:TRUE
SUMMARY:Public holiday - Epiphany
DESCRIPTION:Public holiday - Epiphany - No school
STATUS:CONFIRMED
END:VEVENT
BEGIN:VEVENT
UID:de1072eb-90af-4e2e-adb0-0810aa1bd181
SEQUENCE:0
DTSTAMP:20260422T184029Z
DTSTART;VALUE=DATE:20260223
X-MICROSOFT-CDO-ALLDAYEVENT:TRUE
X-MICROSOFT-MSNCALENDAR-ALLDAYEVENT:TRUE
SUMMARY:Ash Monday Holiday
DESCRIPTION:Ash Monday Holiday - No school
STATUS:CONFIRMED
END:VEVENT
BEGIN:VEVENT
UID:354c41a7-11d2-45bc-a5b2-3fbc6315bd3c
SEQUENCE:0
DTSTAMP:20260422T184029Z
DTSTART;VALUE=DATE:20260325
X-MICROSOFT-CDO-ALLDAYEVENT:TRUE
X-MICROSOFT-MSNCALENDAR-ALLDAYEVENT:TRUE
SUMMARY:Greek National Holiday
DESCRIPTION:Greek National Holiday - No school
STATUS:CONFIRMED
END:VEVENT
BEGIN:VEVENT
UID:2c5cb957-dd67-4c16-b2ba-fd3162c3180f
SEQUENCE:0
DTSTAMP:20260422T184029Z
DTSTART;VALUE=DATE:20260501
X-MICROSOFT-CDO-ALLDAYEVENT:TRUE
X-MICROSOFT-MSNCALENDAR-ALLDAYEVENT:TRUE
SUMMARY:Labor Day Holiday
DESCRIPTION:Labor Day Holiday - No school
STATUS:CONFIRMED
END:VEVENT
BEGIN:VEVENT
UID:46a7a73b-c51c-4835-85e3-9029196c88ba
SEQUENCE:0
DTSTAMP:20260422T184029Z
DTSTART;VALUE=DATE:20260601
X-MICROSOFT-CDO-ALLDAYEVENT:TRUE
X-MICROSOFT-MSNCALENDAR-ALLDAYEVENT:TRUE
SUMMARY:Feast of the Holy Spirit - Holiday
DESCRIPTION:Feast of the Holy Spirit - Holiday - No school
STATUS:CONFIRMED
END:VEVENT
BEGIN:VEVENT
UID:b792d724-5184-4860-a59b-8316eafa6d4b
SEQUENCE:0
DTSTAMP:20260422T184029Z
DTSTART;VALUE=DATE:20260704
X-MICROSOFT-CDO-ALLDAYEVENT:TRUE
X-MICROSOFT-MSNCALENDAR-ALLDAYEVENT:TRUE
SUMMARY:American Independence Day Holiday
DESCRIPTION:American Independence Day Holiday - No school
STATUS:CONFIRMED
END:VEVENT
END:VCALENDAR