BEGIN:VCALENDAR
VERSION:2.0
PRODID:-//SchoolCalendarAPI//school-calendar//EN
URL:https://api.schools-calendar.com/calendar?district_id=mi-alcona-commun
 ity-schools&year=2025-26
NAME:Alcona Community Schools School Calendar 2025-26
X-WR-CALNAME:Alcona Community Schools School Calendar 2025-26
X-WR-CALDESC:Official school calendar for Alcona Community Schools for the
  2025-26 school year.
REFRESH-INTERVAL;VALUE=DURATION:P1D
X-PUBLISHED-TTL:P1D
BEGIN:VEVENT
UID:d6361217-1b76-4e99-b344-1b0d6f7195c2
SEQUENCE:0
DTSTAMP:20260422T195047Z
DTSTART;VALUE=DATE:20250825
X-MICROSOFT-CDO-ALLDAYEVENT:TRUE
X-MICROSOFT-MSNCALENDAR-ALLDAYEVENT:TRUE
SUMMARY:First Day of School
DESCRIPTION:First day of the 2025-26 school year
STATUS:CONFIRMED
END:VEVENT
BEGIN:VEVENT
UID:1584a3d1-c75d-4711-b81d-d2794a0ee845
SEQUENCE:0
DTSTAMP:20260422T195047Z
DTSTART;VALUE=DATE:20260604
X-MICROSOFT-CDO-ALLDAYEVENT:TRUE
X-MICROSOFT-MSNCALENDAR-ALLDAYEVENT:TRUE
SUMMARY:Last Day of School
DESCRIPTION:Last day of the 2025-26 school year
STATUS:CONFIRMED
END:VEVENT
BEGIN:VEVENT
UID:96c1e6a4-6796-4361-9a66-95271b9a4e94
SEQUENCE:0
DTSTAMP:20260422T195047Z
DTSTART;VALUE=DATE:20251127
DTEND;VALUE=DATE:20251129
X-MICROSOFT-CDO-ALLDAYEVENT:TRUE
X-MICROSOFT-MSNCALENDAR-ALLDAYEVENT:TRUE
SUMMARY:Thanksgiving Break
DESCRIPTION:Thanksgiving Break - No school
STATUS:CONFIRMED
END:VEVENT
BEGIN:VEVENT
UID:73868676-07f6-499f-8530-33123db50d43
SEQUENCE:0
DTSTAMP:20260422T195047Z
DTSTART;VALUE=DATE:20251222
DTEND;VALUE=DATE:20260105
X-MICROSOFT-CDO-ALLDAYEVENT:TRUE
X-MICROSOFT-MSNCALENDAR-ALLDAYEVENT:TRUE
SUMMARY:Winter Break
DESCRIPTION:Winter Break - No school
STATUS:CONFIRMED
END:VEVENT
BEGIN:VEVENT
UID:709b500b-94e2-48c5-b7de-f73832b472a8
SEQUENCE:0
DTSTAMP:20260422T195047Z
DTSTART;VALUE=DATE:20260330
DTEND;VALUE=DATE:20260407
X-MICROSOFT-CDO-ALLDAYEVENT:TRUE
X-MICROSOFT-MSNCALENDAR-ALLDAYEVENT:TRUE
SUMMARY:Spring Break
DESCRIPTION:Spring Break - No school
STATUS:CONFIRMED
END:VEVENT
BEGIN:VEVENT
UID:029df17b-fbc9-4210-a809-338e3e0b31ca
SEQUENCE:0
DTSTAMP:20260422T195047Z
DTSTART;VALUE=DATE:20250829
X-MICROSOFT-CDO-ALLDAYEVENT:TRUE
X-MICROSOFT-MSNCALENDAR-ALLDAYEVENT:TRUE
SUMMARY:No School - No Students/No Staff
DESCRIPTION:No School - No Students/No Staff - No school
STATUS:CONFIRMED
END:VEVENT
BEGIN:VEVENT
UID:521274f0-e177-419e-808d-7434a505ae05
SEQUENCE:0
DTSTAMP:20260422T195047Z
DTSTART;VALUE=DATE:20250901
X-MICROSOFT-CDO-ALLDAYEVENT:TRUE
X-MICROSOFT-MSNCALENDAR-ALLDAYEVENT:TRUE
SUMMARY:No School - No Students/No Staff
DESCRIPTION:No School - No Students/No Staff - No school
STATUS:CONFIRMED
END:VEVENT
BEGIN:VEVENT
UID:3323fd5a-6cd6-48aa-8640-6fd9fc2b136c
SEQUENCE:0
DTSTAMP:20260422T195047Z
DTSTART;VALUE=DATE:20251013
X-MICROSOFT-CDO-ALLDAYEVENT:TRUE
X-MICROSOFT-MSNCALENDAR-ALLDAYEVENT:TRUE
SUMMARY:Professional Development - No Students
DESCRIPTION:Professional Development - No Students - No school
STATUS:CONFIRMED
END:VEVENT
BEGIN:VEVENT
UID:b977d521-7695-4c8a-a7d1-a05ba19a9e38
SEQUENCE:0
DTSTAMP:20260422T195047Z
DTSTART;VALUE=DATE:20251117
X-MICROSOFT-CDO-ALLDAYEVENT:TRUE
X-MICROSOFT-MSNCALENDAR-ALLDAYEVENT:TRUE
SUMMARY:Safety Day - No Students/No Staff
DESCRIPTION:Safety Day - No Students/No Staff - No school
STATUS:CONFIRMED
END:VEVENT
BEGIN:VEVENT
UID:5476d02f-0448-463a-8f2a-4f262c2e438f
SEQUENCE:0
DTSTAMP:20260422T195047Z
DTSTART;VALUE=DATE:20260403
X-MICROSOFT-CDO-ALLDAYEVENT:TRUE
X-MICROSOFT-MSNCALENDAR-ALLDAYEVENT:TRUE
SUMMARY:Good Friday - No School
DESCRIPTION:Good Friday - No School - No school
STATUS:CONFIRMED
END:VEVENT
BEGIN:VEVENT
UID:d075e2cf-66c5-4f05-bf63-85a192236311
SEQUENCE:0
DTSTAMP:20260422T195047Z
DTSTART;VALUE=DATE:20260406
X-MICROSOFT-CDO-ALLDAYEVENT:TRUE
X-MICROSOFT-MSNCALENDAR-ALLDAYEVENT:TRUE
SUMMARY:Easter Monday - No School
DESCRIPTION:Easter Monday - No School - No school
STATUS:CONFIRMED
END:VEVENT
BEGIN:VEVENT
UID:c351da4d-d0da-40ba-9b01-20b1d4243996
SEQUENCE:0
DTSTAMP:20260422T195047Z
DTSTART;VALUE=DATE:20260525
X-MICROSOFT-CDO-ALLDAYEVENT:TRUE
X-MICROSOFT-MSNCALENDAR-ALLDAYEVENT:TRUE
SUMMARY:Memorial Day - No School
DESCRIPTION:Memorial Day - No School - No school
STATUS:CONFIRMED
END:VEVENT
END:VCALENDAR