BEGIN:VCALENDAR
VERSION:2.0
PRODID:-//SchoolCalendarAPI//school-calendar//EN
URL:https://api.schools-calendar.com/calendar?district_id=mi-cedar-springs
 -public-schools&year=2025-26
NAME:Cedar Springs Public Schools School Calendar 2025-26
X-WR-CALNAME:Cedar Springs Public Schools School Calendar 2025-26
X-WR-CALDESC:Official school calendar for Cedar Springs Public Schools for
  the 2025-26 school year.
REFRESH-INTERVAL;VALUE=DURATION:P1D
X-PUBLISHED-TTL:P1D
BEGIN:VEVENT
UID:4ead8c6f-b52b-4d3f-8520-89a404e93fb8
SEQUENCE:0
DTSTAMP:20260422T195159Z
DTSTART;VALUE=DATE:20250820
X-MICROSOFT-CDO-ALLDAYEVENT:TRUE
X-MICROSOFT-MSNCALENDAR-ALLDAYEVENT:TRUE
SUMMARY:First Day of School
DESCRIPTION:First day of the 2025-26 school year
STATUS:CONFIRMED
END:VEVENT
BEGIN:VEVENT
UID:5cdb5118-12e5-4b58-9482-e6f704a26db8
SEQUENCE:0
DTSTAMP:20260422T195159Z
DTSTART;VALUE=DATE:20260604
X-MICROSOFT-CDO-ALLDAYEVENT:TRUE
X-MICROSOFT-MSNCALENDAR-ALLDAYEVENT:TRUE
SUMMARY:Last Day of School
DESCRIPTION:Last day of the 2025-26 school year
STATUS:CONFIRMED
END:VEVENT
BEGIN:VEVENT
UID:17104a5b-bc62-42fa-bf68-13113663fb1a
SEQUENCE:0
DTSTAMP:20260422T195159Z
DTSTART;VALUE=DATE:20250829
DTEND;VALUE=DATE:20250902
X-MICROSOFT-CDO-ALLDAYEVENT:TRUE
X-MICROSOFT-MSNCALENDAR-ALLDAYEVENT:TRUE
SUMMARY:Labor Day Recess
DESCRIPTION:Labor Day Recess - No school
STATUS:CONFIRMED
END:VEVENT
BEGIN:VEVENT
UID:b2e563cc-bae7-4774-b724-d8ee79211718
SEQUENCE:0
DTSTAMP:20260422T195159Z
DTSTART;VALUE=DATE:20251030
DTEND;VALUE=DATE:20251101
X-MICROSOFT-CDO-ALLDAYEVENT:TRUE
X-MICROSOFT-MSNCALENDAR-ALLDAYEVENT:TRUE
SUMMARY:Fall Break
DESCRIPTION:Fall Break - No school
STATUS:CONFIRMED
END:VEVENT
BEGIN:VEVENT
UID:12cf74aa-3912-4e58-8d02-914646b0aa26
SEQUENCE:0
DTSTAMP:20260422T195159Z
DTSTART;VALUE=DATE:20251126
DTEND;VALUE=DATE:20251129
X-MICROSOFT-CDO-ALLDAYEVENT:TRUE
X-MICROSOFT-MSNCALENDAR-ALLDAYEVENT:TRUE
SUMMARY:Thanksgiving Break
DESCRIPTION:Thanksgiving Break - No school
STATUS:CONFIRMED
END:VEVENT
BEGIN:VEVENT
UID:e8e6238b-bc76-475b-9419-27e88fc2e0c0
SEQUENCE:0
DTSTAMP:20260422T195159Z
DTSTART;VALUE=DATE:20251219
DTEND;VALUE=DATE:20260103
X-MICROSOFT-CDO-ALLDAYEVENT:TRUE
X-MICROSOFT-MSNCALENDAR-ALLDAYEVENT:TRUE
SUMMARY:Winter Break
DESCRIPTION:Winter Break - No school
STATUS:CONFIRMED
END:VEVENT
BEGIN:VEVENT
UID:4b6b8f5f-7f3c-4eac-aa2c-47914e2743c1
SEQUENCE:0
DTSTAMP:20260422T195159Z
DTSTART;VALUE=DATE:20260213
DTEND;VALUE=DATE:20260217
X-MICROSOFT-CDO-ALLDAYEVENT:TRUE
X-MICROSOFT-MSNCALENDAR-ALLDAYEVENT:TRUE
SUMMARY:Mid-Winter Break
DESCRIPTION:Mid-Winter Break - No school
STATUS:CONFIRMED
END:VEVENT
BEGIN:VEVENT
UID:87224727-90c6-42f0-9b98-4b50bacd2019
SEQUENCE:0
DTSTAMP:20260422T195159Z
DTSTART;VALUE=DATE:20260402
DTEND;VALUE=DATE:20260411
X-MICROSOFT-CDO-ALLDAYEVENT:TRUE
X-MICROSOFT-MSNCALENDAR-ALLDAYEVENT:TRUE
SUMMARY:Spring Break
DESCRIPTION:Spring Break - No school
STATUS:CONFIRMED
END:VEVENT
BEGIN:VEVENT
UID:c14fc328-9aa0-4222-898b-37c10f28c258
SEQUENCE:0
DTSTAMP:20260422T195159Z
DTSTART;VALUE=DATE:20260522
DTEND;VALUE=DATE:20260526
X-MICROSOFT-CDO-ALLDAYEVENT:TRUE
X-MICROSOFT-MSNCALENDAR-ALLDAYEVENT:TRUE
SUMMARY:Memorial Break
DESCRIPTION:Memorial Break - No school
STATUS:CONFIRMED
END:VEVENT
BEGIN:VEVENT
UID:46c86da6-e911-4696-a291-adf2e1e9ad1b
SEQUENCE:0
DTSTAMP:20260422T195159Z
DTSTART;VALUE=DATE:20250901
X-MICROSOFT-CDO-ALLDAYEVENT:TRUE
X-MICROSOFT-MSNCALENDAR-ALLDAYEVENT:TRUE
SUMMARY:Labor Day
DESCRIPTION:Labor Day - No school
STATUS:CONFIRMED
END:VEVENT
BEGIN:VEVENT
UID:f75a16f1-a6e7-4dd6-97fb-727aec87fa3f
SEQUENCE:0
DTSTAMP:20260422T195159Z
DTSTART;VALUE=DATE:20250818
X-MICROSOFT-CDO-ALLDAYEVENT:TRUE
X-MICROSOFT-MSNCALENDAR-ALLDAYEVENT:TRUE
SUMMARY:Staff Professional Day
DESCRIPTION:Staff Professional Day - No school
STATUS:CONFIRMED
END:VEVENT
BEGIN:VEVENT
UID:0b90275f-8904-407d-aafa-07191f3357c5
SEQUENCE:0
DTSTAMP:20260422T195159Z
DTSTART;VALUE=DATE:20250819
X-MICROSOFT-CDO-ALLDAYEVENT:TRUE
X-MICROSOFT-MSNCALENDAR-ALLDAYEVENT:TRUE
SUMMARY:Staff Professional Day
DESCRIPTION:Staff Professional Day - No school
STATUS:CONFIRMED
END:VEVENT
BEGIN:VEVENT
UID:a5318d3a-99de-43aa-b192-5c972b999b91
SEQUENCE:0
DTSTAMP:20260422T195159Z
DTSTART;VALUE=DATE:20251030
X-MICROSOFT-CDO-ALLDAYEVENT:TRUE
X-MICROSOFT-MSNCALENDAR-ALLDAYEVENT:TRUE
SUMMARY:Staff Professional Day
DESCRIPTION:Staff Professional Day - No school
STATUS:CONFIRMED
END:VEVENT
BEGIN:VEVENT
UID:413ffb59-2b8b-4f56-a7d1-446104535cf1
SEQUENCE:0
DTSTAMP:20260422T195159Z
DTSTART;VALUE=DATE:20260216
X-MICROSOFT-CDO-ALLDAYEVENT:TRUE
X-MICROSOFT-MSNCALENDAR-ALLDAYEVENT:TRUE
SUMMARY:Staff Professional Day
DESCRIPTION:Staff Professional Day - No school
STATUS:CONFIRMED
END:VEVENT
BEGIN:VEVENT
UID:82e6856e-5102-46a3-a9b1-71cd68583a73
SEQUENCE:0
DTSTAMP:20260422T195159Z
DTSTART;VALUE=DATE:20250919
X-MICROSOFT-CDO-ALLDAYEVENT:TRUE
X-MICROSOFT-MSNCALENDAR-ALLDAYEVENT:TRUE
SUMMARY:Half Day
DESCRIPTION:Half Day - No school
STATUS:CONFIRMED
END:VEVENT
BEGIN:VEVENT
UID:e2467810-b724-4464-9b87-c6c0a0c40d82
SEQUENCE:0
DTSTAMP:20260422T195159Z
DTSTART;VALUE=DATE:20251114
X-MICROSOFT-CDO-ALLDAYEVENT:TRUE
X-MICROSOFT-MSNCALENDAR-ALLDAYEVENT:TRUE
SUMMARY:Half Day
DESCRIPTION:Half Day - No school
STATUS:CONFIRMED
END:VEVENT
BEGIN:VEVENT
UID:34b9ac62-85eb-4a7e-93fc-c26af3f86c30
SEQUENCE:0
DTSTAMP:20260422T195159Z
DTSTART;VALUE=DATE:20251212
X-MICROSOFT-CDO-ALLDAYEVENT:TRUE
X-MICROSOFT-MSNCALENDAR-ALLDAYEVENT:TRUE
SUMMARY:Half Day
DESCRIPTION:Half Day - No school
STATUS:CONFIRMED
END:VEVENT
BEGIN:VEVENT
UID:e25b33d0-e62b-4973-86f0-459e9b0628db
SEQUENCE:0
DTSTAMP:20260422T195159Z
DTSTART;VALUE=DATE:20260116
X-MICROSOFT-CDO-ALLDAYEVENT:TRUE
X-MICROSOFT-MSNCALENDAR-ALLDAYEVENT:TRUE
SUMMARY:Half Day
DESCRIPTION:Half Day - No school
STATUS:CONFIRMED
END:VEVENT
BEGIN:VEVENT
UID:c387fde7-6411-4750-9e80-b780be50a6af
SEQUENCE:0
DTSTAMP:20260422T195159Z
DTSTART;VALUE=DATE:20260313
X-MICROSOFT-CDO-ALLDAYEVENT:TRUE
X-MICROSOFT-MSNCALENDAR-ALLDAYEVENT:TRUE
SUMMARY:Half Day
DESCRIPTION:Half Day - No school
STATUS:CONFIRMED
END:VEVENT
BEGIN:VEVENT
UID:b61f4d64-c836-47e2-9fd4-2441eed14955
SEQUENCE:0
DTSTAMP:20260422T195159Z
DTSTART;VALUE=DATE:20260424
X-MICROSOFT-CDO-ALLDAYEVENT:TRUE
X-MICROSOFT-MSNCALENDAR-ALLDAYEVENT:TRUE
SUMMARY:Half Day
DESCRIPTION:Half Day - No school
STATUS:CONFIRMED
END:VEVENT
BEGIN:VEVENT
UID:1c6a61c4-5b4b-4048-86b8-4ea927ed1f2c
SEQUENCE:0
DTSTAMP:20260422T195159Z
DTSTART;VALUE=DATE:20260515
X-MICROSOFT-CDO-ALLDAYEVENT:TRUE
X-MICROSOFT-MSNCALENDAR-ALLDAYEVENT:TRUE
SUMMARY:Half Day
DESCRIPTION:Half Day - No school
STATUS:CONFIRMED
END:VEVENT
BEGIN:VEVENT
UID:e55a551f-31b3-4dd1-af99-411e54d9ee7d
SEQUENCE:0
DTSTAMP:20260422T195159Z
DTSTART;VALUE=DATE:20260604
X-MICROSOFT-CDO-ALLDAYEVENT:TRUE
X-MICROSOFT-MSNCALENDAR-ALLDAYEVENT:TRUE
SUMMARY:Half Day
DESCRIPTION:Half Day - No school
STATUS:CONFIRMED
END:VEVENT
END:VCALENDAR