BEGIN:VCALENDAR
VERSION:2.0
PRODID:-//SchoolCalendarAPI//school-calendar//EN
URL:https://api.schools-calendar.com/calendar?district_id=mi-east-jackson-
 community-schools&year=2025-26
NAME:East Jackson Community Schools School Calendar 2025-26
X-WR-CALNAME:East Jackson Community Schools School Calendar 2025-26
X-WR-CALDESC:Official school calendar for East Jackson Community Schools f
 or the 2025-26 school year.
REFRESH-INTERVAL;VALUE=DURATION:P1D
X-PUBLISHED-TTL:P1D
BEGIN:VEVENT
UID:375ce774-d6ba-4762-85c8-ddb884b8494f
SEQUENCE:0
DTSTAMP:20260422T195744Z
DTSTART;VALUE=DATE:20250813
X-MICROSOFT-CDO-ALLDAYEVENT:TRUE
X-MICROSOFT-MSNCALENDAR-ALLDAYEVENT:TRUE
SUMMARY:First Day of School
DESCRIPTION:First day of the 2025-26 school year
STATUS:CONFIRMED
END:VEVENT
BEGIN:VEVENT
UID:91c36e8f-e793-48de-a715-1b4492dfeab4
SEQUENCE:0
DTSTAMP:20260422T195744Z
DTSTART;VALUE=DATE:20260612
X-MICROSOFT-CDO-ALLDAYEVENT:TRUE
X-MICROSOFT-MSNCALENDAR-ALLDAYEVENT:TRUE
SUMMARY:Last Day of School
DESCRIPTION:Last day of the 2025-26 school year
STATUS:CONFIRMED
END:VEVENT
BEGIN:VEVENT
UID:e32f877d-ac6d-41b9-ac39-ca71c0abd3f5
SEQUENCE:0
DTSTAMP:20260422T195744Z
DTSTART;VALUE=DATE:20251127
DTEND;VALUE=DATE:20251129
X-MICROSOFT-CDO-ALLDAYEVENT:TRUE
X-MICROSOFT-MSNCALENDAR-ALLDAYEVENT:TRUE
SUMMARY:Thanksgiving Break
DESCRIPTION:Thanksgiving Break - No school
STATUS:CONFIRMED
END:VEVENT
BEGIN:VEVENT
UID:82334620-1b51-4750-a3ab-5f3e26cc421a
SEQUENCE:0
DTSTAMP:20260422T195744Z
DTSTART;VALUE=DATE:20251222
DTEND;VALUE=DATE:20260103
X-MICROSOFT-CDO-ALLDAYEVENT:TRUE
X-MICROSOFT-MSNCALENDAR-ALLDAYEVENT:TRUE
SUMMARY:Winter Break
DESCRIPTION:Winter Break - No school
STATUS:CONFIRMED
END:VEVENT
BEGIN:VEVENT
UID:4d39be47-08b2-4d52-baf3-9c47b0147d27
SEQUENCE:0
DTSTAMP:20260422T195744Z
DTSTART;VALUE=DATE:20260330
DTEND;VALUE=DATE:20260404
X-MICROSOFT-CDO-ALLDAYEVENT:TRUE
X-MICROSOFT-MSNCALENDAR-ALLDAYEVENT:TRUE
SUMMARY:Spring Break
DESCRIPTION:Spring Break - No school
STATUS:CONFIRMED
END:VEVENT
BEGIN:VEVENT
UID:89ca1766-ddd1-470c-9eab-78de09d57d98
SEQUENCE:0
DTSTAMP:20260422T195744Z
DTSTART;VALUE=DATE:20250813
X-MICROSOFT-CDO-ALLDAYEVENT:TRUE
X-MICROSOFT-MSNCALENDAR-ALLDAYEVENT:TRUE
SUMMARY:Professional Development Day
DESCRIPTION:Professional Development Day - No school
STATUS:CONFIRMED
END:VEVENT
BEGIN:VEVENT
UID:fe6aa106-fa89-47c1-abe7-d20827a2a426
SEQUENCE:0
DTSTAMP:20260422T195744Z
DTSTART;VALUE=DATE:20250829
X-MICROSOFT-CDO-ALLDAYEVENT:TRUE
X-MICROSOFT-MSNCALENDAR-ALLDAYEVENT:TRUE
SUMMARY:Holiday/Vacation
DESCRIPTION:Holiday/Vacation - No school
STATUS:CONFIRMED
END:VEVENT
BEGIN:VEVENT
UID:49f2739c-bd92-45c5-8a8c-52a4a3834874
SEQUENCE:0
DTSTAMP:20260422T195744Z
DTSTART;VALUE=DATE:20250901
X-MICROSOFT-CDO-ALLDAYEVENT:TRUE
X-MICROSOFT-MSNCALENDAR-ALLDAYEVENT:TRUE
SUMMARY:Labor Day
DESCRIPTION:Labor Day - No school
STATUS:CONFIRMED
END:VEVENT
BEGIN:VEVENT
UID:5b60a526-1a66-49ab-b1bc-b2aaad0f4a8e
SEQUENCE:0
DTSTAMP:20260422T195744Z
DTSTART;VALUE=DATE:20250902
X-MICROSOFT-CDO-ALLDAYEVENT:TRUE
X-MICROSOFT-MSNCALENDAR-ALLDAYEVENT:TRUE
SUMMARY:Professional Development Day
DESCRIPTION:Professional Development Day - No school
STATUS:CONFIRMED
END:VEVENT
BEGIN:VEVENT
UID:02b070a7-f601-4b21-901e-d770755e88bc
SEQUENCE:0
DTSTAMP:20260422T195744Z
DTSTART;VALUE=DATE:20251001
X-MICROSOFT-CDO-ALLDAYEVENT:TRUE
X-MICROSOFT-MSNCALENDAR-ALLDAYEVENT:TRUE
SUMMARY:Conference Day
DESCRIPTION:Conference Day - No school
STATUS:CONFIRMED
END:VEVENT
BEGIN:VEVENT
UID:2c25a32f-8e82-48d4-a519-2ebaa04af6d4
SEQUENCE:0
DTSTAMP:20260422T195744Z
DTSTART;VALUE=DATE:20251020
X-MICROSOFT-CDO-ALLDAYEVENT:TRUE
X-MICROSOFT-MSNCALENDAR-ALLDAYEVENT:TRUE
SUMMARY:Professional Development Day
DESCRIPTION:Professional Development Day - No school
STATUS:CONFIRMED
END:VEVENT
BEGIN:VEVENT
UID:70caab32-cdf5-49c0-89cd-7663ff926c6c
SEQUENCE:0
DTSTAMP:20260422T195744Z
DTSTART;VALUE=DATE:20251127
X-MICROSOFT-CDO-ALLDAYEVENT:TRUE
X-MICROSOFT-MSNCALENDAR-ALLDAYEVENT:TRUE
SUMMARY:Thanksgiving Holiday
DESCRIPTION:Thanksgiving Holiday - No school
STATUS:CONFIRMED
END:VEVENT
BEGIN:VEVENT
UID:76ca03ad-72a6-42ca-8cbb-ffa5a83271a2
SEQUENCE:0
DTSTAMP:20260422T195744Z
DTSTART;VALUE=DATE:20251128
X-MICROSOFT-CDO-ALLDAYEVENT:TRUE
X-MICROSOFT-MSNCALENDAR-ALLDAYEVENT:TRUE
SUMMARY:Thanksgiving Holiday
DESCRIPTION:Thanksgiving Holiday - No school
STATUS:CONFIRMED
END:VEVENT
BEGIN:VEVENT
UID:3a4e86f1-1942-490d-8a3c-60f8d7498e93
SEQUENCE:0
DTSTAMP:20260422T195744Z
DTSTART;VALUE=DATE:20251222
X-MICROSOFT-CDO-ALLDAYEVENT:TRUE
X-MICROSOFT-MSNCALENDAR-ALLDAYEVENT:TRUE
SUMMARY:Holiday/Vacation
DESCRIPTION:Holiday/Vacation - No school
STATUS:CONFIRMED
END:VEVENT
BEGIN:VEVENT
UID:3bc1dc35-cc16-4524-9e02-9c0059bbb8ea
SEQUENCE:0
DTSTAMP:20260422T195744Z
DTSTART;VALUE=DATE:20251223
X-MICROSOFT-CDO-ALLDAYEVENT:TRUE
X-MICROSOFT-MSNCALENDAR-ALLDAYEVENT:TRUE
SUMMARY:Holiday/Vacation
DESCRIPTION:Holiday/Vacation - No school
STATUS:CONFIRMED
END:VEVENT
BEGIN:VEVENT
UID:58d0a6a4-cbf4-44fb-b4b3-194e861a7ae4
SEQUENCE:0
DTSTAMP:20260422T195744Z
DTSTART;VALUE=DATE:20251224
X-MICROSOFT-CDO-ALLDAYEVENT:TRUE
X-MICROSOFT-MSNCALENDAR-ALLDAYEVENT:TRUE
SUMMARY:Holiday/Vacation
DESCRIPTION:Holiday/Vacation - No school
STATUS:CONFIRMED
END:VEVENT
BEGIN:VEVENT
UID:7149cc9a-4345-4025-a429-3bfa14124420
SEQUENCE:0
DTSTAMP:20260422T195744Z
DTSTART;VALUE=DATE:20251225
X-MICROSOFT-CDO-ALLDAYEVENT:TRUE
X-MICROSOFT-MSNCALENDAR-ALLDAYEVENT:TRUE
SUMMARY:Christmas Day
DESCRIPTION:Christmas Day - No school
STATUS:CONFIRMED
END:VEVENT
BEGIN:VEVENT
UID:589a1f74-2a50-4707-99bc-c10b59968ee2
SEQUENCE:0
DTSTAMP:20260422T195744Z
DTSTART;VALUE=DATE:20251226
X-MICROSOFT-CDO-ALLDAYEVENT:TRUE
X-MICROSOFT-MSNCALENDAR-ALLDAYEVENT:TRUE
SUMMARY:Holiday/Vacation
DESCRIPTION:Holiday/Vacation - No school
STATUS:CONFIRMED
END:VEVENT
BEGIN:VEVENT
UID:8ffd2f10-b721-4e5f-a9c3-527abee1b7ef
SEQUENCE:0
DTSTAMP:20260422T195744Z
DTSTART;VALUE=DATE:20251229
X-MICROSOFT-CDO-ALLDAYEVENT:TRUE
X-MICROSOFT-MSNCALENDAR-ALLDAYEVENT:TRUE
SUMMARY:Holiday/Vacation
DESCRIPTION:Holiday/Vacation - No school
STATUS:CONFIRMED
END:VEVENT
BEGIN:VEVENT
UID:40d7d3b8-d688-483f-8e34-7b04e6fb3dcf
SEQUENCE:0
DTSTAMP:20260422T195744Z
DTSTART;VALUE=DATE:20251230
X-MICROSOFT-CDO-ALLDAYEVENT:TRUE
X-MICROSOFT-MSNCALENDAR-ALLDAYEVENT:TRUE
SUMMARY:Holiday/Vacation
DESCRIPTION:Holiday/Vacation - No school
STATUS:CONFIRMED
END:VEVENT
BEGIN:VEVENT
UID:07d706e3-463e-4483-9bd4-8cd5b8c988cf
SEQUENCE:0
DTSTAMP:20260422T195744Z
DTSTART;VALUE=DATE:20251231
X-MICROSOFT-CDO-ALLDAYEVENT:TRUE
X-MICROSOFT-MSNCALENDAR-ALLDAYEVENT:TRUE
SUMMARY:Holiday/Vacation
DESCRIPTION:Holiday/Vacation - No school
STATUS:CONFIRMED
END:VEVENT
BEGIN:VEVENT
UID:0af02115-8d14-492a-87bd-eb851175e42b
SEQUENCE:0
DTSTAMP:20260422T195744Z
DTSTART;VALUE=DATE:20260101
X-MICROSOFT-CDO-ALLDAYEVENT:TRUE
X-MICROSOFT-MSNCALENDAR-ALLDAYEVENT:TRUE
SUMMARY:New Year's Day
DESCRIPTION:New Year's Day - No school
STATUS:CONFIRMED
END:VEVENT
BEGIN:VEVENT
UID:048adfbb-fb46-4d06-bc81-4c4b0a202ddb
SEQUENCE:0
DTSTAMP:20260422T195744Z
DTSTART;VALUE=DATE:20260102
X-MICROSOFT-CDO-ALLDAYEVENT:TRUE
X-MICROSOFT-MSNCALENDAR-ALLDAYEVENT:TRUE
SUMMARY:Holiday/Vacation
DESCRIPTION:Holiday/Vacation - No school
STATUS:CONFIRMED
END:VEVENT
BEGIN:VEVENT
UID:dacdb2cd-6b8c-41f5-88fe-a2e30bdda8d0
SEQUENCE:0
DTSTAMP:20260422T195744Z
DTSTART;VALUE=DATE:20260119
X-MICROSOFT-CDO-ALLDAYEVENT:TRUE
X-MICROSOFT-MSNCALENDAR-ALLDAYEVENT:TRUE
SUMMARY:MLK Day / Professional Development
DESCRIPTION:MLK Day / Professional Development - No school
STATUS:CONFIRMED
END:VEVENT
BEGIN:VEVENT
UID:83a72f80-b91a-47b7-9a5c-29769c4a909e
SEQUENCE:0
DTSTAMP:20260422T195744Z
DTSTART;VALUE=DATE:20260216
X-MICROSOFT-CDO-ALLDAYEVENT:TRUE
X-MICROSOFT-MSNCALENDAR-ALLDAYEVENT:TRUE
SUMMARY:Presidents Day
DESCRIPTION:Presidents Day - No school
STATUS:CONFIRMED
END:VEVENT
BEGIN:VEVENT
UID:604efdee-f01d-4a8a-87d6-aae9be7704c3
SEQUENCE:0
DTSTAMP:20260422T195744Z
DTSTART;VALUE=DATE:20260330
X-MICROSOFT-CDO-ALLDAYEVENT:TRUE
X-MICROSOFT-MSNCALENDAR-ALLDAYEVENT:TRUE
SUMMARY:Holiday/Vacation
DESCRIPTION:Holiday/Vacation - No school
STATUS:CONFIRMED
END:VEVENT
BEGIN:VEVENT
UID:a6cf54e4-41dc-4eae-9194-b2776fedfdda
SEQUENCE:0
DTSTAMP:20260422T195744Z
DTSTART;VALUE=DATE:20260331
X-MICROSOFT-CDO-ALLDAYEVENT:TRUE
X-MICROSOFT-MSNCALENDAR-ALLDAYEVENT:TRUE
SUMMARY:Holiday/Vacation
DESCRIPTION:Holiday/Vacation - No school
STATUS:CONFIRMED
END:VEVENT
BEGIN:VEVENT
UID:c05355be-7364-4cd5-9dcb-603969541c4b
SEQUENCE:0
DTSTAMP:20260422T195744Z
DTSTART;VALUE=DATE:20260401
X-MICROSOFT-CDO-ALLDAYEVENT:TRUE
X-MICROSOFT-MSNCALENDAR-ALLDAYEVENT:TRUE
SUMMARY:Holiday/Vacation
DESCRIPTION:Holiday/Vacation - No school
STATUS:CONFIRMED
END:VEVENT
BEGIN:VEVENT
UID:7befd5c3-b51b-4f4c-a9b0-73e742b3be62
SEQUENCE:0
DTSTAMP:20260422T195744Z
DTSTART;VALUE=DATE:20260402
X-MICROSOFT-CDO-ALLDAYEVENT:TRUE
X-MICROSOFT-MSNCALENDAR-ALLDAYEVENT:TRUE
SUMMARY:Holiday/Vacation
DESCRIPTION:Holiday/Vacation - No school
STATUS:CONFIRMED
END:VEVENT
BEGIN:VEVENT
UID:d68259b7-9ae4-4d87-9c40-d9b907b43b8f
SEQUENCE:0
DTSTAMP:20260422T195744Z
DTSTART;VALUE=DATE:20260403
X-MICROSOFT-CDO-ALLDAYEVENT:TRUE
X-MICROSOFT-MSNCALENDAR-ALLDAYEVENT:TRUE
SUMMARY:Good Friday
DESCRIPTION:Good Friday - No school
STATUS:CONFIRMED
END:VEVENT
BEGIN:VEVENT
UID:55ca1769-0753-4066-9e76-860e64e25a09
SEQUENCE:0
DTSTAMP:20260422T195744Z
DTSTART;VALUE=DATE:20260525
X-MICROSOFT-CDO-ALLDAYEVENT:TRUE
X-MICROSOFT-MSNCALENDAR-ALLDAYEVENT:TRUE
SUMMARY:Memorial Day
DESCRIPTION:Memorial Day - No school
STATUS:CONFIRMED
END:VEVENT
END:VCALENDAR