BEGIN:VCALENDAR
VERSION:2.0
PRODID:-//SchoolCalendarAPI//school-calendar//EN
URL:https://api.schools-calendar.com/calendar?district_id=mi-east-jordan-p
 ublic-schools&year=2025-26
NAME:East Jordan Public Schools School Calendar 2025-26
X-WR-CALNAME:East Jordan Public Schools School Calendar 2025-26
X-WR-CALDESC:Official school calendar for East Jordan Public Schools for t
 he 2025-26 school year.
REFRESH-INTERVAL;VALUE=DURATION:P1D
X-PUBLISHED-TTL:P1D
BEGIN:VEVENT
UID:0f25db21-94f2-4a57-961e-7cb371df0f88
SEQUENCE:0
DTSTAMP:20260422T195235Z
DTSTART;VALUE=DATE:20250902
X-MICROSOFT-CDO-ALLDAYEVENT:TRUE
X-MICROSOFT-MSNCALENDAR-ALLDAYEVENT:TRUE
SUMMARY:First Day of School
DESCRIPTION:First day of the 2025-26 school year
STATUS:CONFIRMED
END:VEVENT
BEGIN:VEVENT
UID:4a184acd-6482-46c3-baba-5b90f36a0861
SEQUENCE:0
DTSTAMP:20260422T195235Z
DTSTART;VALUE=DATE:20260611
X-MICROSOFT-CDO-ALLDAYEVENT:TRUE
X-MICROSOFT-MSNCALENDAR-ALLDAYEVENT:TRUE
SUMMARY:Last Day of School
DESCRIPTION:Last day of the 2025-26 school year
STATUS:CONFIRMED
END:VEVENT
BEGIN:VEVENT
UID:4a420fad-8805-4804-8778-45b5ea73f1de
SEQUENCE:0
DTSTAMP:20260422T195235Z
DTSTART;VALUE=DATE:20251126
DTEND;VALUE=DATE:20251129
X-MICROSOFT-CDO-ALLDAYEVENT:TRUE
X-MICROSOFT-MSNCALENDAR-ALLDAYEVENT:TRUE
SUMMARY:Thanksgiving Break
DESCRIPTION:Thanksgiving Break - No school
STATUS:CONFIRMED
END:VEVENT
BEGIN:VEVENT
UID:ea05abee-5b96-4982-9d34-a327b74632b2
SEQUENCE:0
DTSTAMP:20260422T195235Z
DTSTART;VALUE=DATE:20251222
DTEND;VALUE=DATE:20260103
X-MICROSOFT-CDO-ALLDAYEVENT:TRUE
X-MICROSOFT-MSNCALENDAR-ALLDAYEVENT:TRUE
SUMMARY:Holiday / New Year’s Break
DESCRIPTION:Holiday / New Year’s Break - No school
STATUS:CONFIRMED
END:VEVENT
BEGIN:VEVENT
UID:b5b3da70-4cd6-4b03-8f5b-58c8103be0ca
SEQUENCE:0
DTSTAMP:20260422T195235Z
DTSTART;VALUE=DATE:20260216
DTEND;VALUE=DATE:20260217
X-MICROSOFT-CDO-ALLDAYEVENT:TRUE
X-MICROSOFT-MSNCALENDAR-ALLDAYEVENT:TRUE
SUMMARY:Mid-Winter Break
DESCRIPTION:Mid-Winter Break - No school
STATUS:CONFIRMED
END:VEVENT
BEGIN:VEVENT
UID:a3d6dad0-95a2-42d7-a2b6-bce12158d324
SEQUENCE:0
DTSTAMP:20260422T195235Z
DTSTART;VALUE=DATE:20260327
DTEND;VALUE=DATE:20260407
X-MICROSOFT-CDO-ALLDAYEVENT:TRUE
X-MICROSOFT-MSNCALENDAR-ALLDAYEVENT:TRUE
SUMMARY:Spring Break
DESCRIPTION:Spring Break - No school
STATUS:CONFIRMED
END:VEVENT
BEGIN:VEVENT
UID:6a7026b6-c512-41e5-bad4-b5fa50ee655b
SEQUENCE:0
DTSTAMP:20260422T195235Z
DTSTART;VALUE=DATE:20260525
X-MICROSOFT-CDO-ALLDAYEVENT:TRUE
X-MICROSOFT-MSNCALENDAR-ALLDAYEVENT:TRUE
SUMMARY:Memorial Day
DESCRIPTION:Memorial Day - No school
STATUS:CONFIRMED
END:VEVENT
BEGIN:VEVENT
UID:ad259f41-bceb-4c54-858d-879c745f39a0
SEQUENCE:0
DTSTAMP:20260422T195235Z
DTSTART;VALUE=DATE:20251105
X-MICROSOFT-CDO-ALLDAYEVENT:TRUE
X-MICROSOFT-MSNCALENDAR-ALLDAYEVENT:TRUE
SUMMARY:No School for Students - Staff PD
DESCRIPTION:No School for Students - Staff PD - No school
STATUS:CONFIRMED
END:VEVENT
BEGIN:VEVENT
UID:09985a45-d520-43f0-beda-244397642590
SEQUENCE:0
DTSTAMP:20260422T195235Z
DTSTART;VALUE=DATE:20260213
X-MICROSOFT-CDO-ALLDAYEVENT:TRUE
X-MICROSOFT-MSNCALENDAR-ALLDAYEVENT:TRUE
SUMMARY:No School for Students - Staff PD
DESCRIPTION:No School for Students - Staff PD - No school
STATUS:CONFIRMED
END:VEVENT
BEGIN:VEVENT
UID:0a0732a8-bda3-4d0f-b34a-951c9fe26825
SEQUENCE:0
DTSTAMP:20260422T195235Z
DTSTART;VALUE=DATE:20260522
X-MICROSOFT-CDO-ALLDAYEVENT:TRUE
X-MICROSOFT-MSNCALENDAR-ALLDAYEVENT:TRUE
SUMMARY:No School for Students - Staff PD
DESCRIPTION:No School for Students - Staff PD - No school
STATUS:CONFIRMED
END:VEVENT
BEGIN:VEVENT
UID:75efdda2-10b8-4b04-8b3f-410ef4ac0a35
SEQUENCE:0
DTSTAMP:20260422T195235Z
DTSTART;VALUE=DATE:20251003
X-MICROSOFT-CDO-ALLDAYEVENT:TRUE
X-MICROSOFT-MSNCALENDAR-ALLDAYEVENT:TRUE
SUMMARY:½ Day for Students - Afternoon PD
DESCRIPTION:½ Day for Students - Afternoon PD - No school
STATUS:CONFIRMED
END:VEVENT
BEGIN:VEVENT
UID:cbcf6066-246a-47f5-88a6-7d3b9034fbb7
SEQUENCE:0
DTSTAMP:20260422T195235Z
DTSTART;VALUE=DATE:20251016
X-MICROSOFT-CDO-ALLDAYEVENT:TRUE
X-MICROSOFT-MSNCALENDAR-ALLDAYEVENT:TRUE
SUMMARY:½ Day for Students - Parent Teacher Conferences
DESCRIPTION:½ Day for Students - Parent Teacher Conferences - No school
STATUS:CONFIRMED
END:VEVENT
BEGIN:VEVENT
UID:d05bc0a5-2271-40c1-8fb0-0b7f05b18369
SEQUENCE:0
DTSTAMP:20260422T195235Z
DTSTART;VALUE=DATE:20251219
X-MICROSOFT-CDO-ALLDAYEVENT:TRUE
X-MICROSOFT-MSNCALENDAR-ALLDAYEVENT:TRUE
SUMMARY:½ Day for Students & Staff
DESCRIPTION:½ Day for Students & Staff - No school
STATUS:CONFIRMED
END:VEVENT
BEGIN:VEVENT
UID:c1960542-bcde-480d-bad0-253d39e8f4b7
SEQUENCE:0
DTSTAMP:20260422T195235Z
DTSTART;VALUE=DATE:20260123
X-MICROSOFT-CDO-ALLDAYEVENT:TRUE
X-MICROSOFT-MSNCALENDAR-ALLDAYEVENT:TRUE
SUMMARY:½ Day Students - Work Day PM
DESCRIPTION:½ Day Students - Work Day PM - No school
STATUS:CONFIRMED
END:VEVENT
BEGIN:VEVENT
UID:eee3e2da-4dd8-4c6f-b4ac-1a6a10275f89
SEQUENCE:0
DTSTAMP:20260422T195235Z
DTSTART;VALUE=DATE:20260306
X-MICROSOFT-CDO-ALLDAYEVENT:TRUE
X-MICROSOFT-MSNCALENDAR-ALLDAYEVENT:TRUE
SUMMARY:½ Day for Students & Staff
DESCRIPTION:½ Day for Students & Staff - No school
STATUS:CONFIRMED
END:VEVENT
BEGIN:VEVENT
UID:570b8194-a4ea-42ed-aba6-220e8c0d79a2
SEQUENCE:0
DTSTAMP:20260422T195235Z
DTSTART;VALUE=DATE:20260417
X-MICROSOFT-CDO-ALLDAYEVENT:TRUE
X-MICROSOFT-MSNCALENDAR-ALLDAYEVENT:TRUE
SUMMARY:½ Day for Students - Afternoon PD
DESCRIPTION:½ Day for Students - Afternoon PD - No school
STATUS:CONFIRMED
END:VEVENT
BEGIN:VEVENT
UID:d486ab75-fe49-47c5-9520-717f7eb8e6f4
SEQUENCE:0
DTSTAMP:20260422T195235Z
DTSTART;VALUE=DATE:20260610
X-MICROSOFT-CDO-ALLDAYEVENT:TRUE
X-MICROSOFT-MSNCALENDAR-ALLDAYEVENT:TRUE
SUMMARY:½ day for Students - Afternoon PD
DESCRIPTION:½ day for Students - Afternoon PD - No school
STATUS:CONFIRMED
END:VEVENT
BEGIN:VEVENT
UID:9a316a2f-12dd-4ca5-84e7-612babe1ee5f
SEQUENCE:0
DTSTAMP:20260422T195235Z
DTSTART;VALUE=DATE:20260611
X-MICROSOFT-CDO-ALLDAYEVENT:TRUE
X-MICROSOFT-MSNCALENDAR-ALLDAYEVENT:TRUE
SUMMARY:½ Day for Students – Last Day
DESCRIPTION:½ Day for Students – Last Day - No school
STATUS:CONFIRMED
END:VEVENT
END:VCALENDAR