BEGIN:VCALENDAR
VERSION:2.0
PRODID:-//SchoolCalendarAPI//school-calendar//EN
URL:https://api.schools-calendar.com/calendar?district_id=mi-forest-park-s
 chool-district&year=2025-26
NAME:Forest Park School District School Calendar 2025-26
X-WR-CALNAME:Forest Park School District School Calendar 2025-26
X-WR-CALDESC:Official school calendar for Forest Park School District for 
 the 2025-26 school year.
REFRESH-INTERVAL;VALUE=DURATION:P1D
X-PUBLISHED-TTL:P1D
BEGIN:VEVENT
UID:e7ce0caa-42a2-4770-8152-5cffd8bf7d61
SEQUENCE:0
DTSTAMP:20260422T212219Z
DTSTART;VALUE=DATE:20250825
X-MICROSOFT-CDO-ALLDAYEVENT:TRUE
X-MICROSOFT-MSNCALENDAR-ALLDAYEVENT:TRUE
SUMMARY:First Day of School
DESCRIPTION:First day of the 2025-26 school year
STATUS:CONFIRMED
END:VEVENT
BEGIN:VEVENT
UID:c9a261e3-9418-436b-a4a9-024b0ca44539
SEQUENCE:0
DTSTAMP:20260422T212219Z
DTSTART;VALUE=DATE:20260604
X-MICROSOFT-CDO-ALLDAYEVENT:TRUE
X-MICROSOFT-MSNCALENDAR-ALLDAYEVENT:TRUE
SUMMARY:Last Day of School
DESCRIPTION:Last day of the 2025-26 school year
STATUS:CONFIRMED
END:VEVENT
BEGIN:VEVENT
UID:d0bd8c77-a262-4abe-b673-b82e4b1967f4
SEQUENCE:0
DTSTAMP:20260422T212219Z
DTSTART;VALUE=DATE:20251124
DTEND;VALUE=DATE:20251129
X-MICROSOFT-CDO-ALLDAYEVENT:TRUE
X-MICROSOFT-MSNCALENDAR-ALLDAYEVENT:TRUE
SUMMARY:Thanksgiving Break
DESCRIPTION:Thanksgiving Break - No school
STATUS:CONFIRMED
END:VEVENT
BEGIN:VEVENT
UID:2e18cb6a-ecd8-4544-b562-d268787b9296
SEQUENCE:0
DTSTAMP:20260422T212219Z
DTSTART;VALUE=DATE:20251222
DTEND;VALUE=DATE:20260103
X-MICROSOFT-CDO-ALLDAYEVENT:TRUE
X-MICROSOFT-MSNCALENDAR-ALLDAYEVENT:TRUE
SUMMARY:Winter Break
DESCRIPTION:Winter Break - No school
STATUS:CONFIRMED
END:VEVENT
BEGIN:VEVENT
UID:ef0511e7-355d-43d0-9094-f295d0703876
SEQUENCE:0
DTSTAMP:20260422T212219Z
DTSTART;VALUE=DATE:20260330
DTEND;VALUE=DATE:20260407
X-MICROSOFT-CDO-ALLDAYEVENT:TRUE
X-MICROSOFT-MSNCALENDAR-ALLDAYEVENT:TRUE
SUMMARY:Spring Break
DESCRIPTION:Spring Break - No school
STATUS:CONFIRMED
END:VEVENT
BEGIN:VEVENT
UID:9f751356-b90a-4f59-8d9c-c785a1bf6d6f
SEQUENCE:0
DTSTAMP:20260422T212219Z
DTSTART;VALUE=DATE:20250901
X-MICROSOFT-CDO-ALLDAYEVENT:TRUE
X-MICROSOFT-MSNCALENDAR-ALLDAYEVENT:TRUE
SUMMARY:Labor Day
DESCRIPTION:Labor Day - No school
STATUS:CONFIRMED
END:VEVENT
BEGIN:VEVENT
UID:b0e1c4ef-0665-407b-8ada-0cb0387374a3
SEQUENCE:0
DTSTAMP:20260422T212219Z
DTSTART;VALUE=DATE:20250908
X-MICROSOFT-CDO-ALLDAYEVENT:TRUE
X-MICROSOFT-MSNCALENDAR-ALLDAYEVENT:TRUE
SUMMARY:Professional Development Day
DESCRIPTION:Professional Development Day - No school
STATUS:CONFIRMED
END:VEVENT
BEGIN:VEVENT
UID:1677fbd9-00e8-4a70-83f3-8b66b2df1fb4
SEQUENCE:0
DTSTAMP:20260422T212219Z
DTSTART;VALUE=DATE:20251114
X-MICROSOFT-CDO-ALLDAYEVENT:TRUE
X-MICROSOFT-MSNCALENDAR-ALLDAYEVENT:TRUE
SUMMARY:Professional Development Day
DESCRIPTION:Professional Development Day - No school
STATUS:CONFIRMED
END:VEVENT
BEGIN:VEVENT
UID:9a334920-eb62-4a8b-88f7-d00f9f99047f
SEQUENCE:0
DTSTAMP:20260422T212219Z
DTSTART;VALUE=DATE:20260209
X-MICROSOFT-CDO-ALLDAYEVENT:TRUE
X-MICROSOFT-MSNCALENDAR-ALLDAYEVENT:TRUE
SUMMARY:Winter Break Day
DESCRIPTION:Winter Break Day - No school
STATUS:CONFIRMED
END:VEVENT
BEGIN:VEVENT
UID:c6743a35-8520-423d-872c-c1e517e32fb7
SEQUENCE:0
DTSTAMP:20260422T212219Z
DTSTART;VALUE=DATE:20260216
X-MICROSOFT-CDO-ALLDAYEVENT:TRUE
X-MICROSOFT-MSNCALENDAR-ALLDAYEVENT:TRUE
SUMMARY:Professional Development Day
DESCRIPTION:Professional Development Day - No school
STATUS:CONFIRMED
END:VEVENT
BEGIN:VEVENT
UID:f770a92c-820c-46c6-a7c4-a3db7174b8f3
SEQUENCE:0
DTSTAMP:20260422T212219Z
DTSTART;VALUE=DATE:20260518
X-MICROSOFT-CDO-ALLDAYEVENT:TRUE
X-MICROSOFT-MSNCALENDAR-ALLDAYEVENT:TRUE
SUMMARY:Professional Development Day
DESCRIPTION:Professional Development Day - No school
STATUS:CONFIRMED
END:VEVENT
BEGIN:VEVENT
UID:a3fdb6de-fd59-48c2-849b-2248d4fc87da
SEQUENCE:0
DTSTAMP:20260422T212219Z
DTSTART;VALUE=DATE:20260525
X-MICROSOFT-CDO-ALLDAYEVENT:TRUE
X-MICROSOFT-MSNCALENDAR-ALLDAYEVENT:TRUE
SUMMARY:Memorial Day
DESCRIPTION:Memorial Day - No school
STATUS:CONFIRMED
END:VEVENT
END:VCALENDAR