BEGIN:VCALENDAR
VERSION:2.0
PRODID:-//SchoolCalendarAPI//school-calendar//EN
URL:https://api.schools-calendar.com/calendar?district_id=mi-hale-area-sch
 ools&year=2025-26
NAME:Hale Area Schools School Calendar 2025-26
X-WR-CALNAME:Hale Area Schools School Calendar 2025-26
X-WR-CALDESC:Official school calendar for Hale Area Schools for the 2025-2
 6 school year.
REFRESH-INTERVAL;VALUE=DURATION:P1D
X-PUBLISHED-TTL:P1D
BEGIN:VEVENT
UID:b3dcc351-8509-4d90-9bcf-de2930368fef
SEQUENCE:0
DTSTAMP:20260422T195201Z
DTSTART;VALUE=DATE:20250807
X-MICROSOFT-CDO-ALLDAYEVENT:TRUE
X-MICROSOFT-MSNCALENDAR-ALLDAYEVENT:TRUE
SUMMARY:First Day of School
DESCRIPTION:First day of the 2025-26 school year
STATUS:CONFIRMED
END:VEVENT
BEGIN:VEVENT
UID:c9034080-8ce1-44ac-8ce2-236d4f02967b
SEQUENCE:0
DTSTAMP:20260422T195201Z
DTSTART;VALUE=DATE:20260521
X-MICROSOFT-CDO-ALLDAYEVENT:TRUE
X-MICROSOFT-MSNCALENDAR-ALLDAYEVENT:TRUE
SUMMARY:Last Day of School
DESCRIPTION:Last day of the 2025-26 school year
STATUS:CONFIRMED
END:VEVENT
BEGIN:VEVENT
UID:a59b9c7c-a582-4123-b614-9dbe9481e061
SEQUENCE:0
DTSTAMP:20260422T195201Z
DTSTART;VALUE=DATE:20251013
DTEND;VALUE=DATE:20251014
X-MICROSOFT-CDO-ALLDAYEVENT:TRUE
X-MICROSOFT-MSNCALENDAR-ALLDAYEVENT:TRUE
SUMMARY:Fall Break
DESCRIPTION:Fall Break - No school
STATUS:CONFIRMED
END:VEVENT
BEGIN:VEVENT
UID:656f51ef-bd10-4734-beb8-b52b82995b8f
SEQUENCE:0
DTSTAMP:20260422T195201Z
DTSTART;VALUE=DATE:20251124
DTEND;VALUE=DATE:20251129
X-MICROSOFT-CDO-ALLDAYEVENT:TRUE
X-MICROSOFT-MSNCALENDAR-ALLDAYEVENT:TRUE
SUMMARY:Thanksgiving Holidays
DESCRIPTION:Thanksgiving Holidays - No school
STATUS:CONFIRMED
END:VEVENT
BEGIN:VEVENT
UID:f835e223-30c2-4c55-b8f0-d01bf1850d16
SEQUENCE:0
DTSTAMP:20260422T195201Z
DTSTART;VALUE=DATE:20251222
DTEND;VALUE=DATE:20260103
X-MICROSOFT-CDO-ALLDAYEVENT:TRUE
X-MICROSOFT-MSNCALENDAR-ALLDAYEVENT:TRUE
SUMMARY:Winter Break
DESCRIPTION:Winter Break - No school
STATUS:CONFIRMED
END:VEVENT
BEGIN:VEVENT
UID:3abaf7a1-31a6-415f-aa81-e04a3839acd3
SEQUENCE:0
DTSTAMP:20260422T195201Z
DTSTART;VALUE=DATE:20260316
DTEND;VALUE=DATE:20260321
X-MICROSOFT-CDO-ALLDAYEVENT:TRUE
X-MICROSOFT-MSNCALENDAR-ALLDAYEVENT:TRUE
SUMMARY:Spring Break
DESCRIPTION:Spring Break - No school
STATUS:CONFIRMED
END:VEVENT
BEGIN:VEVENT
UID:d584a691-94e7-416c-b1c9-8b9ad9eeebe0
SEQUENCE:0
DTSTAMP:20260422T195201Z
DTSTART;VALUE=DATE:20250901
X-MICROSOFT-CDO-ALLDAYEVENT:TRUE
X-MICROSOFT-MSNCALENDAR-ALLDAYEVENT:TRUE
SUMMARY:Labor Day
DESCRIPTION:Labor Day - No school
STATUS:CONFIRMED
END:VEVENT
BEGIN:VEVENT
UID:93d9f4ed-07ce-469b-928e-078cf679ff2f
SEQUENCE:0
DTSTAMP:20260422T195201Z
DTSTART;VALUE=DATE:20251111
X-MICROSOFT-CDO-ALLDAYEVENT:TRUE
X-MICROSOFT-MSNCALENDAR-ALLDAYEVENT:TRUE
SUMMARY:Veteran's Day
DESCRIPTION:Veteran's Day - No school
STATUS:CONFIRMED
END:VEVENT
BEGIN:VEVENT
UID:b30a7b61-12b9-4250-ab18-f4355c07cdac
SEQUENCE:0
DTSTAMP:20260422T195201Z
DTSTART;VALUE=DATE:20260119
X-MICROSOFT-CDO-ALLDAYEVENT:TRUE
X-MICROSOFT-MSNCALENDAR-ALLDAYEVENT:TRUE
SUMMARY:Martin Luther King Holiday
DESCRIPTION:Martin Luther King Holiday - No school
STATUS:CONFIRMED
END:VEVENT
BEGIN:VEVENT
UID:a9e63e33-9fb0-4363-b82f-35a02f429412
SEQUENCE:0
DTSTAMP:20260422T195201Z
DTSTART;VALUE=DATE:20260216
X-MICROSOFT-CDO-ALLDAYEVENT:TRUE
X-MICROSOFT-MSNCALENDAR-ALLDAYEVENT:TRUE
SUMMARY:School Holiday
DESCRIPTION:School Holiday - No school
STATUS:CONFIRMED
END:VEVENT
BEGIN:VEVENT
UID:982191db-7b1c-4485-a0c7-3263d727a48f
SEQUENCE:0
DTSTAMP:20260422T195201Z
DTSTART;VALUE=DATE:20260417
X-MICROSOFT-CDO-ALLDAYEVENT:TRUE
X-MICROSOFT-MSNCALENDAR-ALLDAYEVENT:TRUE
SUMMARY:School Holiday
DESCRIPTION:School Holiday - No school
STATUS:CONFIRMED
END:VEVENT
END:VCALENDAR