BEGIN:VCALENDAR
VERSION:2.0
PRODID:-//SchoolCalendarAPI//school-calendar//EN
URL:https://api.schools-calendar.com/calendar?district_id=mi-jonesville-co
 mmunity-schools&year=2025-26
NAME:Jonesville Community Schools School Calendar 2025-26
X-WR-CALNAME:Jonesville Community Schools School Calendar 2025-26
X-WR-CALDESC:Official school calendar for Jonesville Community Schools for
  the 2025-26 school year.
REFRESH-INTERVAL;VALUE=DURATION:P1D
X-PUBLISHED-TTL:P1D
BEGIN:VEVENT
UID:4af9a2d8-0506-4b18-a1d9-b18335372e00
SEQUENCE:0
DTSTAMP:20260422T200140Z
DTSTART;VALUE=DATE:20250819
X-MICROSOFT-CDO-ALLDAYEVENT:TRUE
X-MICROSOFT-MSNCALENDAR-ALLDAYEVENT:TRUE
SUMMARY:First Day of School
DESCRIPTION:First day of the 2025-26 school year
STATUS:CONFIRMED
END:VEVENT
BEGIN:VEVENT
UID:b68539fe-b6d2-4eef-ab03-3ec549fae36b
SEQUENCE:0
DTSTAMP:20260422T200140Z
DTSTART;VALUE=DATE:20260529
X-MICROSOFT-CDO-ALLDAYEVENT:TRUE
X-MICROSOFT-MSNCALENDAR-ALLDAYEVENT:TRUE
SUMMARY:Last Day of School
DESCRIPTION:Last day of the 2025-26 school year
STATUS:CONFIRMED
END:VEVENT
BEGIN:VEVENT
UID:c03d6c6a-bdba-4abf-b64e-278df3c237f7
SEQUENCE:0
DTSTAMP:20260422T200140Z
DTSTART;VALUE=DATE:20251126
DTEND;VALUE=DATE:20251129
X-MICROSOFT-CDO-ALLDAYEVENT:TRUE
X-MICROSOFT-MSNCALENDAR-ALLDAYEVENT:TRUE
SUMMARY:Thanksgiving Break
DESCRIPTION:Thanksgiving Break - No school
STATUS:CONFIRMED
END:VEVENT
BEGIN:VEVENT
UID:dd18df56-072f-4fe9-a322-3ad46ce975c4
SEQUENCE:0
DTSTAMP:20260422T200140Z
DTSTART;VALUE=DATE:20251222
DTEND;VALUE=DATE:20260103
X-MICROSOFT-CDO-ALLDAYEVENT:TRUE
X-MICROSOFT-MSNCALENDAR-ALLDAYEVENT:TRUE
SUMMARY:Christmas/Winter Break
DESCRIPTION:Christmas/Winter Break - No school
STATUS:CONFIRMED
END:VEVENT
BEGIN:VEVENT
UID:dc80fd2f-2b33-4a18-af97-2ddd860e7d3f
SEQUENCE:0
DTSTAMP:20260422T200140Z
DTSTART;VALUE=DATE:20260216
DTEND;VALUE=DATE:20260217
X-MICROSOFT-CDO-ALLDAYEVENT:TRUE
X-MICROSOFT-MSNCALENDAR-ALLDAYEVENT:TRUE
SUMMARY:Mid-Winter Break
DESCRIPTION:Mid-Winter Break - No school
STATUS:CONFIRMED
END:VEVENT
BEGIN:VEVENT
UID:364db5b4-2d52-43fd-bbc2-78a2dd719700
SEQUENCE:0
DTSTAMP:20260422T200140Z
DTSTART;VALUE=DATE:20260323
DTEND;VALUE=DATE:20260328
X-MICROSOFT-CDO-ALLDAYEVENT:TRUE
X-MICROSOFT-MSNCALENDAR-ALLDAYEVENT:TRUE
SUMMARY:Spring Break
DESCRIPTION:Spring Break - No school
STATUS:CONFIRMED
END:VEVENT
BEGIN:VEVENT
UID:e37fa61c-466f-4c24-adeb-d3a81948f707
SEQUENCE:0
DTSTAMP:20260422T200140Z
DTSTART;VALUE=DATE:20250901
X-MICROSOFT-CDO-ALLDAYEVENT:TRUE
X-MICROSOFT-MSNCALENDAR-ALLDAYEVENT:TRUE
SUMMARY:Labor Day
DESCRIPTION:Labor Day - No school
STATUS:CONFIRMED
END:VEVENT
BEGIN:VEVENT
UID:d29b7487-006e-48e7-be9f-9b2ab07f7403
SEQUENCE:0
DTSTAMP:20260422T200140Z
DTSTART;VALUE=DATE:20250922
X-MICROSOFT-CDO-ALLDAYEVENT:TRUE
X-MICROSOFT-MSNCALENDAR-ALLDAYEVENT:TRUE
SUMMARY:Fair Day
DESCRIPTION:Fair Day - No school
STATUS:CONFIRMED
END:VEVENT
BEGIN:VEVENT
UID:69a49ba6-16f3-4adf-a87b-db9e5fc94a1a
SEQUENCE:0
DTSTAMP:20260422T200140Z
DTSTART;VALUE=DATE:20251111
X-MICROSOFT-CDO-ALLDAYEVENT:TRUE
X-MICROSOFT-MSNCALENDAR-ALLDAYEVENT:TRUE
SUMMARY:Veterans Day
DESCRIPTION:Veterans Day - No school
STATUS:CONFIRMED
END:VEVENT
BEGIN:VEVENT
UID:69dba0da-c93e-4701-bbd3-234cf2142857
SEQUENCE:0
DTSTAMP:20260422T200140Z
DTSTART;VALUE=DATE:20260119
X-MICROSOFT-CDO-ALLDAYEVENT:TRUE
X-MICROSOFT-MSNCALENDAR-ALLDAYEVENT:TRUE
SUMMARY:MLK Day
DESCRIPTION:MLK Day - No school
STATUS:CONFIRMED
END:VEVENT
BEGIN:VEVENT
UID:a9753243-a59d-4c1b-bf4c-86087dbe731b
SEQUENCE:0
DTSTAMP:20260422T200140Z
DTSTART;VALUE=DATE:20260216
X-MICROSOFT-CDO-ALLDAYEVENT:TRUE
X-MICROSOFT-MSNCALENDAR-ALLDAYEVENT:TRUE
SUMMARY:Presidents Day
DESCRIPTION:Presidents Day - No school
STATUS:CONFIRMED
END:VEVENT
BEGIN:VEVENT
UID:daad198c-fa52-41a8-a041-6b7a06528034
SEQUENCE:0
DTSTAMP:20260422T200140Z
DTSTART;VALUE=DATE:20260403
X-MICROSOFT-CDO-ALLDAYEVENT:TRUE
X-MICROSOFT-MSNCALENDAR-ALLDAYEVENT:TRUE
SUMMARY:Good Friday
DESCRIPTION:Good Friday - No school
STATUS:CONFIRMED
END:VEVENT
BEGIN:VEVENT
UID:68382e13-6235-4a68-96e4-a1ab3e3b451c
SEQUENCE:0
DTSTAMP:20260422T200140Z
DTSTART;VALUE=DATE:20260525
X-MICROSOFT-CDO-ALLDAYEVENT:TRUE
X-MICROSOFT-MSNCALENDAR-ALLDAYEVENT:TRUE
SUMMARY:Memorial Day
DESCRIPTION:Memorial Day - No school
STATUS:CONFIRMED
END:VEVENT
END:VCALENDAR