BEGIN:VCALENDAR
VERSION:2.0
PRODID:-//SchoolCalendarAPI//school-calendar//EN
URL:https://api.schools-calendar.com/calendar?district_id=mi-lake-city-are
 a-school-district&year=2025-26
NAME:Lake City Area School District School Calendar 2025-26
X-WR-CALNAME:Lake City Area School District School Calendar 2025-26
X-WR-CALDESC:Official school calendar for Lake City Area School District f
 or the 2025-26 school year.
REFRESH-INTERVAL;VALUE=DURATION:P1D
X-PUBLISHED-TTL:P1D
BEGIN:VEVENT
UID:bae1739e-313a-4e62-a492-04e16d518038
SEQUENCE:0
DTSTAMP:20260422T200946Z
DTSTART;VALUE=DATE:20250818
X-MICROSOFT-CDO-ALLDAYEVENT:TRUE
X-MICROSOFT-MSNCALENDAR-ALLDAYEVENT:TRUE
SUMMARY:First Day of School
DESCRIPTION:First day of the 2025-26 school year
STATUS:CONFIRMED
END:VEVENT
BEGIN:VEVENT
UID:7e5e0bb4-9c66-4048-91c5-c39d0a9da08a
SEQUENCE:0
DTSTAMP:20260422T200946Z
DTSTART;VALUE=DATE:20260605
X-MICROSOFT-CDO-ALLDAYEVENT:TRUE
X-MICROSOFT-MSNCALENDAR-ALLDAYEVENT:TRUE
SUMMARY:Last Day of School
DESCRIPTION:Last day of the 2025-26 school year
STATUS:CONFIRMED
END:VEVENT
BEGIN:VEVENT
UID:f0186df4-107f-487f-b957-722079b1a149
SEQUENCE:0
DTSTAMP:20260422T200946Z
DTSTART;VALUE=DATE:20251124
DTEND;VALUE=DATE:20251129
X-MICROSOFT-CDO-ALLDAYEVENT:TRUE
X-MICROSOFT-MSNCALENDAR-ALLDAYEVENT:TRUE
SUMMARY:Thanksgiving Break
DESCRIPTION:Thanksgiving Break - No school
STATUS:CONFIRMED
END:VEVENT
BEGIN:VEVENT
UID:83d95818-6ea0-456e-8194-24d4be56d46f
SEQUENCE:0
DTSTAMP:20260422T200946Z
DTSTART;VALUE=DATE:20251222
DTEND;VALUE=DATE:20260103
X-MICROSOFT-CDO-ALLDAYEVENT:TRUE
X-MICROSOFT-MSNCALENDAR-ALLDAYEVENT:TRUE
SUMMARY:Christmas Break
DESCRIPTION:Christmas Break - No school
STATUS:CONFIRMED
END:VEVENT
BEGIN:VEVENT
UID:ae812010-94f1-4272-8c1b-22db2990ec03
SEQUENCE:0
DTSTAMP:20260422T200946Z
DTSTART;VALUE=DATE:20260212
DTEND;VALUE=DATE:20260217
X-MICROSOFT-CDO-ALLDAYEVENT:TRUE
X-MICROSOFT-MSNCALENDAR-ALLDAYEVENT:TRUE
SUMMARY:Winter Break
DESCRIPTION:Winter Break - No school
STATUS:CONFIRMED
END:VEVENT
BEGIN:VEVENT
UID:dd467441-1157-4eb4-90e8-4ca7b03707ad
SEQUENCE:0
DTSTAMP:20260422T200946Z
DTSTART;VALUE=DATE:20260330
DTEND;VALUE=DATE:20260404
X-MICROSOFT-CDO-ALLDAYEVENT:TRUE
X-MICROSOFT-MSNCALENDAR-ALLDAYEVENT:TRUE
SUMMARY:Spring Break
DESCRIPTION:Spring Break - No school
STATUS:CONFIRMED
END:VEVENT
BEGIN:VEVENT
UID:14270ff8-c7d4-4270-b81d-caa17efee4cc
SEQUENCE:0
DTSTAMP:20260422T200946Z
DTSTART;VALUE=DATE:20250822
X-MICROSOFT-CDO-ALLDAYEVENT:TRUE
X-MICROSOFT-MSNCALENDAR-ALLDAYEVENT:TRUE
SUMMARY:No School Students/Staff
DESCRIPTION:No School Students/Staff - No school
STATUS:CONFIRMED
END:VEVENT
BEGIN:VEVENT
UID:29357dd1-e093-45f1-b851-687bf1351f73
SEQUENCE:0
DTSTAMP:20260422T200946Z
DTSTART;VALUE=DATE:20250829
X-MICROSOFT-CDO-ALLDAYEVENT:TRUE
X-MICROSOFT-MSNCALENDAR-ALLDAYEVENT:TRUE
SUMMARY:No School Students/Staff
DESCRIPTION:No School Students/Staff - No school
STATUS:CONFIRMED
END:VEVENT
BEGIN:VEVENT
UID:84530f9a-bf9c-477b-b683-070882be2d81
SEQUENCE:0
DTSTAMP:20260422T200946Z
DTSTART;VALUE=DATE:20250830
X-MICROSOFT-CDO-ALLDAYEVENT:TRUE
X-MICROSOFT-MSNCALENDAR-ALLDAYEVENT:TRUE
SUMMARY:No School Students/Staff
DESCRIPTION:No School Students/Staff - No school
STATUS:CONFIRMED
END:VEVENT
BEGIN:VEVENT
UID:6ac35e1e-d44d-4786-9a81-202bd275873d
SEQUENCE:0
DTSTAMP:20260422T200946Z
DTSTART;VALUE=DATE:20250831
X-MICROSOFT-CDO-ALLDAYEVENT:TRUE
X-MICROSOFT-MSNCALENDAR-ALLDAYEVENT:TRUE
SUMMARY:No School Students/Staff
DESCRIPTION:No School Students/Staff - No school
STATUS:CONFIRMED
END:VEVENT
BEGIN:VEVENT
UID:c118fa98-c70b-43ba-b930-3570741726a1
SEQUENCE:0
DTSTAMP:20260422T200946Z
DTSTART;VALUE=DATE:20250901
X-MICROSOFT-CDO-ALLDAYEVENT:TRUE
X-MICROSOFT-MSNCALENDAR-ALLDAYEVENT:TRUE
SUMMARY:No School Students/Staff
DESCRIPTION:No School Students/Staff - No school
STATUS:CONFIRMED
END:VEVENT
BEGIN:VEVENT
UID:c3269829-9b30-4196-aabb-51953882d80b
SEQUENCE:0
DTSTAMP:20260422T200946Z
DTSTART;VALUE=DATE:20251107
X-MICROSOFT-CDO-ALLDAYEVENT:TRUE
X-MICROSOFT-MSNCALENDAR-ALLDAYEVENT:TRUE
SUMMARY:No School
DESCRIPTION:No School - No school
STATUS:CONFIRMED
END:VEVENT
BEGIN:VEVENT
UID:98ca9dc1-8d89-460b-9eb7-417c12a69cb8
SEQUENCE:0
DTSTAMP:20260422T200946Z
DTSTART;VALUE=DATE:20260119
X-MICROSOFT-CDO-ALLDAYEVENT:TRUE
X-MICROSOFT-MSNCALENDAR-ALLDAYEVENT:TRUE
SUMMARY:MLK Jr. Day
DESCRIPTION:MLK Jr. Day - No school
STATUS:CONFIRMED
END:VEVENT
BEGIN:VEVENT
UID:bcdd196c-534e-4fb0-9baf-c4c97de4304d
SEQUENCE:0
DTSTAMP:20260422T200946Z
DTSTART;VALUE=DATE:20260424
X-MICROSOFT-CDO-ALLDAYEVENT:TRUE
X-MICROSOFT-MSNCALENDAR-ALLDAYEVENT:TRUE
SUMMARY:No School
DESCRIPTION:No School - No school
STATUS:CONFIRMED
END:VEVENT
BEGIN:VEVENT
UID:35755be0-7697-424d-9f28-25b1faaec267
SEQUENCE:0
DTSTAMP:20260422T200946Z
DTSTART;VALUE=DATE:20260525
X-MICROSOFT-CDO-ALLDAYEVENT:TRUE
X-MICROSOFT-MSNCALENDAR-ALLDAYEVENT:TRUE
SUMMARY:Memorial Day
DESCRIPTION:Memorial Day - No school
STATUS:CONFIRMED
END:VEVENT
END:VCALENDAR