BEGIN:VCALENDAR
VERSION:2.0
PRODID:-//SchoolCalendarAPI//school-calendar//EN
URL:https://api.schools-calendar.com/calendar?district_id=mi-lake-linden-h
 ubbell-school-district&year=2025-26
NAME:Lake Linden-Hubbell School District School Calendar 2025-26
X-WR-CALNAME:Lake Linden-Hubbell School District School Calendar 2025-26
X-WR-CALDESC:Official school calendar for Lake Linden-Hubbell School Distr
 ict for the 2025-26 school year.
REFRESH-INTERVAL;VALUE=DURATION:P1D
X-PUBLISHED-TTL:P1D
BEGIN:VEVENT
UID:5e513503-60a3-4179-9c4f-d48b9b9d651c
SEQUENCE:0
DTSTAMP:20260422T200825Z
DTSTART;VALUE=DATE:20251010
X-MICROSOFT-CDO-ALLDAYEVENT:TRUE
X-MICROSOFT-MSNCALENDAR-ALLDAYEVENT:TRUE
SUMMARY:First Day of School
DESCRIPTION:First day of the 2025-26 school year
STATUS:CONFIRMED
END:VEVENT
BEGIN:VEVENT
UID:7d59f050-7b6f-4eb0-8a82-74f49f961f37
SEQUENCE:0
DTSTAMP:20260422T200825Z
DTSTART;VALUE=DATE:20260605
X-MICROSOFT-CDO-ALLDAYEVENT:TRUE
X-MICROSOFT-MSNCALENDAR-ALLDAYEVENT:TRUE
SUMMARY:Last Day of School
DESCRIPTION:Last day of the 2025-26 school year
STATUS:CONFIRMED
END:VEVENT
BEGIN:VEVENT
UID:3ed3d822-53ad-4974-9f4c-a4edf4c3a3dc
SEQUENCE:0
DTSTAMP:20260422T200825Z
DTSTART;VALUE=DATE:20251126
DTEND;VALUE=DATE:20251129
X-MICROSOFT-CDO-ALLDAYEVENT:TRUE
X-MICROSOFT-MSNCALENDAR-ALLDAYEVENT:TRUE
SUMMARY:Thanksgiving Break
DESCRIPTION:Thanksgiving Break - No school
STATUS:CONFIRMED
END:VEVENT
BEGIN:VEVENT
UID:1815ebef-88c4-446b-977f-534b2dea669b
SEQUENCE:0
DTSTAMP:20260422T200825Z
DTSTART;VALUE=DATE:20251222
DTEND;VALUE=DATE:20260103
X-MICROSOFT-CDO-ALLDAYEVENT:TRUE
X-MICROSOFT-MSNCALENDAR-ALLDAYEVENT:TRUE
SUMMARY:Christmas Break
DESCRIPTION:Christmas Break - No school
STATUS:CONFIRMED
END:VEVENT
BEGIN:VEVENT
UID:ba7568bc-7049-4c0a-a52c-471ac99bb97d
SEQUENCE:0
DTSTAMP:20260422T200825Z
DTSTART;VALUE=DATE:20260216
DTEND;VALUE=DATE:20260217
X-MICROSOFT-CDO-ALLDAYEVENT:TRUE
X-MICROSOFT-MSNCALENDAR-ALLDAYEVENT:TRUE
SUMMARY:Winter Break
DESCRIPTION:Winter Break - No school
STATUS:CONFIRMED
END:VEVENT
BEGIN:VEVENT
UID:95fb975d-d2ce-4723-a966-fb4541b6e40a
SEQUENCE:0
DTSTAMP:20260422T200825Z
DTSTART;VALUE=DATE:20260323
DTEND;VALUE=DATE:20260328
X-MICROSOFT-CDO-ALLDAYEVENT:TRUE
X-MICROSOFT-MSNCALENDAR-ALLDAYEVENT:TRUE
SUMMARY:Spring Break
DESCRIPTION:Spring Break - No school
STATUS:CONFIRMED
END:VEVENT
BEGIN:VEVENT
UID:8a5dde33-3e5b-45bf-b5ad-746c7ca488c5
SEQUENCE:0
DTSTAMP:20260422T200825Z
DTSTART;VALUE=DATE:20250902
X-MICROSOFT-CDO-ALLDAYEVENT:TRUE
X-MICROSOFT-MSNCALENDAR-ALLDAYEVENT:TRUE
SUMMARY:Meet Your Teacher Night
DESCRIPTION:Meet Your Teacher Night - No school
STATUS:CONFIRMED
END:VEVENT
BEGIN:VEVENT
UID:7a382a64-59b4-4184-9cf6-edb600744599
SEQUENCE:0
DTSTAMP:20260422T200825Z
DTSTART;VALUE=DATE:20251106
X-MICROSOFT-CDO-ALLDAYEVENT:TRUE
X-MICROSOFT-MSNCALENDAR-ALLDAYEVENT:TRUE
SUMMARY:Teacher In-Service (Area Wide)
DESCRIPTION:Teacher In-Service (Area Wide) - No school
STATUS:CONFIRMED
END:VEVENT
BEGIN:VEVENT
UID:e0c57a80-9e6b-45e8-ad0d-885de251b4d3
SEQUENCE:0
DTSTAMP:20260422T200825Z
DTSTART;VALUE=DATE:20251126
X-MICROSOFT-CDO-ALLDAYEVENT:TRUE
X-MICROSOFT-MSNCALENDAR-ALLDAYEVENT:TRUE
SUMMARY:½ Day Parent-Teacher Conferences
DESCRIPTION:½ Day Parent-Teacher Conferences - No school
STATUS:CONFIRMED
END:VEVENT
BEGIN:VEVENT
UID:117c1daa-9120-4692-91bd-0a1bf70bf3f9
SEQUENCE:0
DTSTAMP:20260422T200825Z
DTSTART;VALUE=DATE:20260123
X-MICROSOFT-CDO-ALLDAYEVENT:TRUE
X-MICROSOFT-MSNCALENDAR-ALLDAYEVENT:TRUE
SUMMARY:½ Day Students\, ½ Day In-Service
DESCRIPTION:½ Day Students\, ½ Day In-Service - No school
STATUS:CONFIRMED
END:VEVENT
BEGIN:VEVENT
UID:4799c832-f573-4ab7-ad1d-6b4261fe72b2
SEQUENCE:0
DTSTAMP:20260422T200825Z
DTSTART;VALUE=DATE:20260212
X-MICROSOFT-CDO-ALLDAYEVENT:TRUE
X-MICROSOFT-MSNCALENDAR-ALLDAYEVENT:TRUE
SUMMARY:½ Day Students\, ½ Day Records Day
DESCRIPTION:½ Day Students\, ½ Day Records Day - No school
STATUS:CONFIRMED
END:VEVENT
BEGIN:VEVENT
UID:82fbaa17-3d96-497e-800d-c74f8d8e2a26
SEQUENCE:0
DTSTAMP:20260422T200825Z
DTSTART;VALUE=DATE:20260213
X-MICROSOFT-CDO-ALLDAYEVENT:TRUE
X-MICROSOFT-MSNCALENDAR-ALLDAYEVENT:TRUE
SUMMARY:½ Day Students\, ½ Day In-Service
DESCRIPTION:½ Day Students\, ½ Day In-Service - No school
STATUS:CONFIRMED
END:VEVENT
BEGIN:VEVENT
UID:15004eaf-8006-4fbf-9c0c-10a32b82a6ae
SEQUENCE:0
DTSTAMP:20260422T200825Z
DTSTART;VALUE=DATE:20260216
X-MICROSOFT-CDO-ALLDAYEVENT:TRUE
X-MICROSOFT-MSNCALENDAR-ALLDAYEVENT:TRUE
SUMMARY:Teacher In-Service (Area Wide)
DESCRIPTION:Teacher In-Service (Area Wide) - No school
STATUS:CONFIRMED
END:VEVENT
BEGIN:VEVENT
UID:d10d56d9-b78a-430c-b195-44f1bbc4839c
SEQUENCE:0
DTSTAMP:20260422T200825Z
DTSTART;VALUE=DATE:20260306
X-MICROSOFT-CDO-ALLDAYEVENT:TRUE
X-MICROSOFT-MSNCALENDAR-ALLDAYEVENT:TRUE
SUMMARY:½ Day Students\, ½ Day In-Service
DESCRIPTION:½ Day Students\, ½ Day In-Service - No school
STATUS:CONFIRMED
END:VEVENT
BEGIN:VEVENT
UID:14c3193c-fd27-4a45-9ade-ab3bfc6711af
SEQUENCE:0
DTSTAMP:20260422T200825Z
DTSTART;VALUE=DATE:20260403
X-MICROSOFT-CDO-ALLDAYEVENT:TRUE
X-MICROSOFT-MSNCALENDAR-ALLDAYEVENT:TRUE
SUMMARY:Good Friday
DESCRIPTION:Good Friday - No school
STATUS:CONFIRMED
END:VEVENT
BEGIN:VEVENT
UID:f642ff52-b030-447e-aa62-2dab3a105644
SEQUENCE:0
DTSTAMP:20260422T200825Z
DTSTART;VALUE=DATE:20260506
X-MICROSOFT-CDO-ALLDAYEVENT:TRUE
X-MICROSOFT-MSNCALENDAR-ALLDAYEVENT:TRUE
SUMMARY:Open House
DESCRIPTION:Open House - No school
STATUS:CONFIRMED
END:VEVENT
BEGIN:VEVENT
UID:5c9a1726-4e94-45ea-9007-f071e66b5761
SEQUENCE:0
DTSTAMP:20260422T200825Z
DTSTART;VALUE=DATE:20260525
X-MICROSOFT-CDO-ALLDAYEVENT:TRUE
X-MICROSOFT-MSNCALENDAR-ALLDAYEVENT:TRUE
SUMMARY:Memorial Day
DESCRIPTION:Memorial Day - No school
STATUS:CONFIRMED
END:VEVENT
BEGIN:VEVENT
UID:d8a6f765-566d-4d62-bd0e-534029e950ae
SEQUENCE:0
DTSTAMP:20260422T200825Z
DTSTART;VALUE=DATE:20260604
X-MICROSOFT-CDO-ALLDAYEVENT:TRUE
X-MICROSOFT-MSNCALENDAR-ALLDAYEVENT:TRUE
SUMMARY:½ Day Students\, ½ Day In-Service
DESCRIPTION:½ Day Students\, ½ Day In-Service - No school
STATUS:CONFIRMED
END:VEVENT
BEGIN:VEVENT
UID:8acdb2fd-943d-4e10-838f-018c295473da
SEQUENCE:0
DTSTAMP:20260422T200825Z
DTSTART;VALUE=DATE:20260605
X-MICROSOFT-CDO-ALLDAYEVENT:TRUE
X-MICROSOFT-MSNCALENDAR-ALLDAYEVENT:TRUE
SUMMARY:½ Day Students\, ½ Day Records
DESCRIPTION:½ Day Students\, ½ Day Records - No school
STATUS:CONFIRMED
END:VEVENT
END:VCALENDAR