BEGIN:VCALENDAR
VERSION:2.0
PRODID:-//SchoolCalendarAPI//school-calendar//EN
URL:https://api.schools-calendar.com/calendar?district_id=mi-lowell-area-s
 chools&year=2025-26
NAME:Lowell Area Schools School Calendar 2025-26
X-WR-CALNAME:Lowell Area Schools School Calendar 2025-26
X-WR-CALDESC:Official school calendar for Lowell Area Schools for the 2025
 -26 school year.
REFRESH-INTERVAL;VALUE=DURATION:P1D
X-PUBLISHED-TTL:P1D
BEGIN:VEVENT
UID:b3a42890-637a-40f5-8b0d-27d9b6e59048
SEQUENCE:0
DTSTAMP:20260422T195201Z
DTSTART;VALUE=DATE:20250819
X-MICROSOFT-CDO-ALLDAYEVENT:TRUE
X-MICROSOFT-MSNCALENDAR-ALLDAYEVENT:TRUE
SUMMARY:First Day of School
DESCRIPTION:First day of the 2025-26 school year
STATUS:CONFIRMED
END:VEVENT
BEGIN:VEVENT
UID:94bd3dd3-f46b-4228-9da9-699c35333e06
SEQUENCE:0
DTSTAMP:20260422T195201Z
DTSTART;VALUE=DATE:20260603
X-MICROSOFT-CDO-ALLDAYEVENT:TRUE
X-MICROSOFT-MSNCALENDAR-ALLDAYEVENT:TRUE
SUMMARY:Last Day of School
DESCRIPTION:Last day of the 2025-26 school year
STATUS:CONFIRMED
END:VEVENT
BEGIN:VEVENT
UID:4362c0b1-4109-47c5-a916-5ca402ed172c
SEQUENCE:0
DTSTAMP:20260422T195201Z
DTSTART;VALUE=DATE:20251126
DTEND;VALUE=DATE:20251129
X-MICROSOFT-CDO-ALLDAYEVENT:TRUE
X-MICROSOFT-MSNCALENDAR-ALLDAYEVENT:TRUE
SUMMARY:Thanksgiving Break
DESCRIPTION:Thanksgiving Break - No school
STATUS:CONFIRMED
END:VEVENT
BEGIN:VEVENT
UID:eb845d7a-ff8b-473e-bb90-b6f2175ceaae
SEQUENCE:0
DTSTAMP:20260422T195201Z
DTSTART;VALUE=DATE:20251222
DTEND;VALUE=DATE:20260101
X-MICROSOFT-CDO-ALLDAYEVENT:TRUE
X-MICROSOFT-MSNCALENDAR-ALLDAYEVENT:TRUE
SUMMARY:Winter Break
DESCRIPTION:Winter Break - No school
STATUS:CONFIRMED
END:VEVENT
BEGIN:VEVENT
UID:eb622384-c7cb-4745-bedf-9da6c535ab71
SEQUENCE:0
DTSTAMP:20260422T195201Z
DTSTART;VALUE=DATE:20260402
DTEND;VALUE=DATE:20260411
X-MICROSOFT-CDO-ALLDAYEVENT:TRUE
X-MICROSOFT-MSNCALENDAR-ALLDAYEVENT:TRUE
SUMMARY:Spring Break
DESCRIPTION:Spring Break - No school
STATUS:CONFIRMED
END:VEVENT
BEGIN:VEVENT
UID:f8148537-8657-4ad3-a0f0-320b649aac51
SEQUENCE:0
DTSTAMP:20260422T195201Z
DTSTART;VALUE=DATE:20250801
X-MICROSOFT-CDO-ALLDAYEVENT:TRUE
X-MICROSOFT-MSNCALENDAR-ALLDAYEVENT:TRUE
SUMMARY:No School for Students and Staff
DESCRIPTION:No School for Students and Staff - No school
STATUS:CONFIRMED
END:VEVENT
BEGIN:VEVENT
UID:398c18ba-ec0e-438c-92e2-ffe079004b7e
SEQUENCE:0
DTSTAMP:20260422T195201Z
DTSTART;VALUE=DATE:20250802
X-MICROSOFT-CDO-ALLDAYEVENT:TRUE
X-MICROSOFT-MSNCALENDAR-ALLDAYEVENT:TRUE
SUMMARY:No School for Students and Staff
DESCRIPTION:No School for Students and Staff - No school
STATUS:CONFIRMED
END:VEVENT
BEGIN:VEVENT
UID:a2902bed-dca2-4f7c-aede-7bc3ffa584ff
SEQUENCE:0
DTSTAMP:20260422T195201Z
DTSTART;VALUE=DATE:20250822
X-MICROSOFT-CDO-ALLDAYEVENT:TRUE
X-MICROSOFT-MSNCALENDAR-ALLDAYEVENT:TRUE
SUMMARY:No School Students\, Full Day Staff
DESCRIPTION:No School Students\, Full Day Staff - No school
STATUS:CONFIRMED
END:VEVENT
BEGIN:VEVENT
UID:c9466174-882d-4a7e-91d7-57e5818c3690
SEQUENCE:0
DTSTAMP:20260422T195201Z
DTSTART;VALUE=DATE:20250829
X-MICROSOFT-CDO-ALLDAYEVENT:TRUE
X-MICROSOFT-MSNCALENDAR-ALLDAYEVENT:TRUE
SUMMARY:No School for Students and Staff
DESCRIPTION:No School for Students and Staff - No school
STATUS:CONFIRMED
END:VEVENT
BEGIN:VEVENT
UID:ec9330b9-cf6b-4279-bae9-90456b0f1591
SEQUENCE:0
DTSTAMP:20260422T195201Z
DTSTART;VALUE=DATE:20250901
X-MICROSOFT-CDO-ALLDAYEVENT:TRUE
X-MICROSOFT-MSNCALENDAR-ALLDAYEVENT:TRUE
SUMMARY:No School for Students and Staff
DESCRIPTION:No School for Students and Staff - No school
STATUS:CONFIRMED
END:VEVENT
BEGIN:VEVENT
UID:cad65a0b-b259-4e74-8271-0fafb2dfc57f
SEQUENCE:0
DTSTAMP:20260422T195201Z
DTSTART;VALUE=DATE:20250916
X-MICROSOFT-CDO-ALLDAYEVENT:TRUE
X-MICROSOFT-MSNCALENDAR-ALLDAYEVENT:TRUE
SUMMARY:Half Day Students\, Full Day Staff
DESCRIPTION:Half Day Students\, Full Day Staff - No school
STATUS:CONFIRMED
END:VEVENT
BEGIN:VEVENT
UID:6e68d1e3-cb5c-4d15-868a-f4706813707e
SEQUENCE:0
DTSTAMP:20260422T195201Z
DTSTART;VALUE=DATE:20250917
X-MICROSOFT-CDO-ALLDAYEVENT:TRUE
X-MICROSOFT-MSNCALENDAR-ALLDAYEVENT:TRUE
SUMMARY:Half Day Students\, Full Day Staff
DESCRIPTION:Half Day Students\, Full Day Staff - No school
STATUS:CONFIRMED
END:VEVENT
BEGIN:VEVENT
UID:ba8e7a8a-13d2-45d2-8410-ec53822772c2
SEQUENCE:0
DTSTAMP:20260422T195201Z
DTSTART;VALUE=DATE:20251013
X-MICROSOFT-CDO-ALLDAYEVENT:TRUE
X-MICROSOFT-MSNCALENDAR-ALLDAYEVENT:TRUE
SUMMARY:No School for Students and Staff
DESCRIPTION:No School for Students and Staff - No school
STATUS:CONFIRMED
END:VEVENT
BEGIN:VEVENT
UID:4f18a6f5-d102-464e-b990-54595a5c4990
SEQUENCE:0
DTSTAMP:20260422T195201Z
DTSTART;VALUE=DATE:20251020
X-MICROSOFT-CDO-ALLDAYEVENT:TRUE
X-MICROSOFT-MSNCALENDAR-ALLDAYEVENT:TRUE
SUMMARY:No School for Students and Staff
DESCRIPTION:No School for Students and Staff - No school
STATUS:CONFIRMED
END:VEVENT
BEGIN:VEVENT
UID:69d676d3-564a-46d7-bc52-25a4cd32c20d
SEQUENCE:0
DTSTAMP:20260422T195201Z
DTSTART;VALUE=DATE:20251031
X-MICROSOFT-CDO-ALLDAYEVENT:TRUE
X-MICROSOFT-MSNCALENDAR-ALLDAYEVENT:TRUE
SUMMARY:Half Day Students\, Full Day Staff
DESCRIPTION:Half Day Students\, Full Day Staff - No school
STATUS:CONFIRMED
END:VEVENT
BEGIN:VEVENT
UID:200b5691-fb39-4d41-b27a-a2d8e1ad8e29
SEQUENCE:0
DTSTAMP:20260422T195201Z
DTSTART;VALUE=DATE:20251114
X-MICROSOFT-CDO-ALLDAYEVENT:TRUE
X-MICROSOFT-MSNCALENDAR-ALLDAYEVENT:TRUE
SUMMARY:Half Day Students\, Full Day Staff
DESCRIPTION:Half Day Students\, Full Day Staff - No school
STATUS:CONFIRMED
END:VEVENT
BEGIN:VEVENT
UID:806c214f-16bb-4f16-8907-12422e2287af
SEQUENCE:0
DTSTAMP:20260422T195201Z
DTSTART;VALUE=DATE:20251126
X-MICROSOFT-CDO-ALLDAYEVENT:TRUE
X-MICROSOFT-MSNCALENDAR-ALLDAYEVENT:TRUE
SUMMARY:End of Trimester 1
DESCRIPTION:End of Trimester 1 - No school
STATUS:CONFIRMED
END:VEVENT
BEGIN:VEVENT
UID:abc0e255-5b24-47ae-bc3d-c0c4053de509
SEQUENCE:0
DTSTAMP:20260422T195201Z
DTSTART;VALUE=DATE:20260122
X-MICROSOFT-CDO-ALLDAYEVENT:TRUE
X-MICROSOFT-MSNCALENDAR-ALLDAYEVENT:TRUE
SUMMARY:Half Day Students\, Full Day Staff
DESCRIPTION:Half Day Students\, Full Day Staff - No school
STATUS:CONFIRMED
END:VEVENT
BEGIN:VEVENT
UID:18a86732-5c19-4a0c-8320-8d188616e974
SEQUENCE:0
DTSTAMP:20260422T195201Z
DTSTART;VALUE=DATE:20260125
X-MICROSOFT-CDO-ALLDAYEVENT:TRUE
X-MICROSOFT-MSNCALENDAR-ALLDAYEVENT:TRUE
SUMMARY:No School for Students and Staff
DESCRIPTION:No School for Students and Staff - No school
STATUS:CONFIRMED
END:VEVENT
BEGIN:VEVENT
UID:419728e7-003a-45c6-8d57-263d101c14ee
SEQUENCE:0
DTSTAMP:20260422T195201Z
DTSTART;VALUE=DATE:20260306
X-MICROSOFT-CDO-ALLDAYEVENT:TRUE
X-MICROSOFT-MSNCALENDAR-ALLDAYEVENT:TRUE
SUMMARY:Half Day Students\, Full Day Staff
DESCRIPTION:Half Day Students\, Full Day Staff - No school
STATUS:CONFIRMED
END:VEVENT
BEGIN:VEVENT
UID:dd1585ca-b6d3-4cac-89cd-b2d7148f4393
SEQUENCE:0
DTSTAMP:20260422T195201Z
DTSTART;VALUE=DATE:20260306
X-MICROSOFT-CDO-ALLDAYEVENT:TRUE
X-MICROSOFT-MSNCALENDAR-ALLDAYEVENT:TRUE
SUMMARY:End of Trimester 2
DESCRIPTION:End of Trimester 2 - No school
STATUS:CONFIRMED
END:VEVENT
BEGIN:VEVENT
UID:5bf13d5c-b53c-4361-88f1-53598274f78f
SEQUENCE:0
DTSTAMP:20260422T195201Z
DTSTART;VALUE=DATE:20260522
X-MICROSOFT-CDO-ALLDAYEVENT:TRUE
X-MICROSOFT-MSNCALENDAR-ALLDAYEVENT:TRUE
SUMMARY:Half Day Students\, Full Day Staff
DESCRIPTION:Half Day Students\, Full Day Staff - No school
STATUS:CONFIRMED
END:VEVENT
BEGIN:VEVENT
UID:47f10959-0280-4c4f-a2d7-8bebafcecdb9
SEQUENCE:0
DTSTAMP:20260422T195201Z
DTSTART;VALUE=DATE:20260525
X-MICROSOFT-CDO-ALLDAYEVENT:TRUE
X-MICROSOFT-MSNCALENDAR-ALLDAYEVENT:TRUE
SUMMARY:No School for Students and Staff
DESCRIPTION:No School for Students and Staff - No school
STATUS:CONFIRMED
END:VEVENT
BEGIN:VEVENT
UID:307978a6-8442-4731-894e-cdb250488dab
SEQUENCE:0
DTSTAMP:20260422T195201Z
DTSTART;VALUE=DATE:20260521
X-MICROSOFT-CDO-ALLDAYEVENT:TRUE
X-MICROSOFT-MSNCALENDAR-ALLDAYEVENT:TRUE
SUMMARY:GRADUATION
DESCRIPTION:GRADUATION - No school
STATUS:CONFIRMED
END:VEVENT
END:VCALENDAR