BEGIN:VCALENDAR
VERSION:2.0
PRODID:-//SchoolCalendarAPI//school-calendar//EN
URL:https://api.schools-calendar.com/calendar?district_id=mi-midland-publi
 c-schools&year=2025-26
NAME:Midland Public Schools School Calendar 2025-26
X-WR-CALNAME:Midland Public Schools School Calendar 2025-26
X-WR-CALDESC:Official school calendar for Midland Public Schools for the 2
 025-26 school year.
REFRESH-INTERVAL;VALUE=DURATION:P1D
X-PUBLISHED-TTL:P1D
BEGIN:VEVENT
UID:2d988b0f-f2f5-4e0a-9f57-93ea3987cb3e
SEQUENCE:0
DTSTAMP:20260422T195108Z
DTSTART;VALUE=DATE:20250901
X-MICROSOFT-CDO-ALLDAYEVENT:TRUE
X-MICROSOFT-MSNCALENDAR-ALLDAYEVENT:TRUE
SUMMARY:First Day of School
DESCRIPTION:First day of the 2025-26 school year
STATUS:CONFIRMED
END:VEVENT
BEGIN:VEVENT
UID:090faf93-3d6d-4df9-98c1-2473239c8c08
SEQUENCE:0
DTSTAMP:20260422T195108Z
DTSTART;VALUE=DATE:20260530
X-MICROSOFT-CDO-ALLDAYEVENT:TRUE
X-MICROSOFT-MSNCALENDAR-ALLDAYEVENT:TRUE
SUMMARY:Last Day of School
DESCRIPTION:Last day of the 2025-26 school year
STATUS:CONFIRMED
END:VEVENT
BEGIN:VEVENT
UID:7fd042bb-0159-40c6-bcdf-2009561bdcc8
SEQUENCE:0
DTSTAMP:20260422T195108Z
DTSTART;VALUE=DATE:20251010
DTEND;VALUE=DATE:20251019
X-MICROSOFT-CDO-ALLDAYEVENT:TRUE
X-MICROSOFT-MSNCALENDAR-ALLDAYEVENT:TRUE
SUMMARY:Fall Break
DESCRIPTION:Fall Break - No school
STATUS:CONFIRMED
END:VEVENT
BEGIN:VEVENT
UID:fd51c6de-d31c-4ff3-94da-a194f871ede2
SEQUENCE:0
DTSTAMP:20260422T195108Z
DTSTART;VALUE=DATE:20251212
DTEND;VALUE=DATE:20260105
X-MICROSOFT-CDO-ALLDAYEVENT:TRUE
X-MICROSOFT-MSNCALENDAR-ALLDAYEVENT:TRUE
SUMMARY:Holiday Break
DESCRIPTION:Holiday Break - No school
STATUS:CONFIRMED
END:VEVENT
BEGIN:VEVENT
UID:52bd300b-5335-43e8-b8fa-6bd1dc5f8e8b
SEQUENCE:0
DTSTAMP:20260422T195108Z
DTSTART;VALUE=DATE:20260213
DTEND;VALUE=DATE:20260222
X-MICROSOFT-CDO-ALLDAYEVENT:TRUE
X-MICROSOFT-MSNCALENDAR-ALLDAYEVENT:TRUE
SUMMARY:Winter Break
DESCRIPTION:Winter Break - No school
STATUS:CONFIRMED
END:VEVENT
BEGIN:VEVENT
UID:4a41c8f2-1efe-44f4-b6af-4e1e5f851e33
SEQUENCE:0
DTSTAMP:20260422T195108Z
DTSTART;VALUE=DATE:20260403
DTEND;VALUE=DATE:20260412
X-MICROSOFT-CDO-ALLDAYEVENT:TRUE
X-MICROSOFT-MSNCALENDAR-ALLDAYEVENT:TRUE
SUMMARY:Spring Break
DESCRIPTION:Spring Break - No school
STATUS:CONFIRMED
END:VEVENT
BEGIN:VEVENT
UID:55b31615-9695-4f61-974a-248c750e7efb
SEQUENCE:0
DTSTAMP:20260422T195108Z
DTSTART;VALUE=DATE:20250813
X-MICROSOFT-CDO-ALLDAYEVENT:TRUE
X-MICROSOFT-MSNCALENDAR-ALLDAYEVENT:TRUE
SUMMARY:New Faculty Orientation
DESCRIPTION:New Faculty Orientation - No school
STATUS:CONFIRMED
END:VEVENT
BEGIN:VEVENT
UID:abde9317-4356-430c-81f3-3fcfc5e2ca5d
SEQUENCE:0
DTSTAMP:20260422T195108Z
DTSTART;VALUE=DATE:20250815
X-MICROSOFT-CDO-ALLDAYEVENT:TRUE
X-MICROSOFT-MSNCALENDAR-ALLDAYEVENT:TRUE
SUMMARY:All Faculty Orientation
DESCRIPTION:All Faculty Orientation - No school
STATUS:CONFIRMED
END:VEVENT
BEGIN:VEVENT
UID:b2369ff0-f08b-4f4d-9249-ea9a773e3320
SEQUENCE:0
DTSTAMP:20260422T195108Z
DTSTART;VALUE=DATE:20250825
X-MICROSOFT-CDO-ALLDAYEVENT:TRUE
X-MICROSOFT-MSNCALENDAR-ALLDAYEVENT:TRUE
SUMMARY:Seniors Arrival
DESCRIPTION:Seniors Arrival - No school
STATUS:CONFIRMED
END:VEVENT
BEGIN:VEVENT
UID:0e2d6bfc-0d4f-45c1-b171-fcc5859f5a95
SEQUENCE:0
DTSTAMP:20260422T195108Z
DTSTART;VALUE=DATE:20250828
X-MICROSOFT-CDO-ALLDAYEVENT:TRUE
X-MICROSOFT-MSNCALENDAR-ALLDAYEVENT:TRUE
SUMMARY:New Students Arrival
DESCRIPTION:New Students Arrival - No school
STATUS:CONFIRMED
END:VEVENT
BEGIN:VEVENT
UID:09282ef8-029c-44eb-98d7-be76fcc142fa
SEQUENCE:0
DTSTAMP:20260422T195108Z
DTSTART;VALUE=DATE:20250830
X-MICROSOFT-CDO-ALLDAYEVENT:TRUE
X-MICROSOFT-MSNCALENDAR-ALLDAYEVENT:TRUE
SUMMARY:Returning Students Arrival
DESCRIPTION:Returning Students Arrival - No school
STATUS:CONFIRMED
END:VEVENT
BEGIN:VEVENT
UID:8f0ff5d6-a103-4952-8c19-2ac922b3b72c
SEQUENCE:0
DTSTAMP:20260422T195108Z
DTSTART;VALUE=DATE:20250920
X-MICROSOFT-CDO-ALLDAYEVENT:TRUE
X-MICROSOFT-MSNCALENDAR-ALLDAYEVENT:TRUE
SUMMARY:New Parent Luncheon
DESCRIPTION:New Parent Luncheon - No school
STATUS:CONFIRMED
END:VEVENT
BEGIN:VEVENT
UID:ce7c50a6-71f8-4b90-8be6-6f5a265e69c6
SEQUENCE:0
DTSTAMP:20260422T195108Z
DTSTART;VALUE=DATE:20251127
X-MICROSOFT-CDO-ALLDAYEVENT:TRUE
X-MICROSOFT-MSNCALENDAR-ALLDAYEVENT:TRUE
SUMMARY:Thanksgiving
DESCRIPTION:Thanksgiving - No school
STATUS:CONFIRMED
END:VEVENT
BEGIN:VEVENT
UID:f9b5b0cd-d44f-4a03-9383-5185220852fe
SEQUENCE:0
DTSTAMP:20260422T195108Z
DTSTART;VALUE=DATE:20251128
X-MICROSOFT-CDO-ALLDAYEVENT:TRUE
X-MICROSOFT-MSNCALENDAR-ALLDAYEVENT:TRUE
SUMMARY:Family Weekend
DESCRIPTION:Family Weekend - No school
STATUS:CONFIRMED
END:VEVENT
BEGIN:VEVENT
UID:6a0b4d91-d9d0-4dcc-9825-6b5cc897a3f5
SEQUENCE:0
DTSTAMP:20260422T195108Z
DTSTART;VALUE=DATE:20251129
X-MICROSOFT-CDO-ALLDAYEVENT:TRUE
X-MICROSOFT-MSNCALENDAR-ALLDAYEVENT:TRUE
SUMMARY:Family Weekend
DESCRIPTION:Family Weekend - No school
STATUS:CONFIRMED
END:VEVENT
BEGIN:VEVENT
UID:4ec028b6-f78d-400a-92a2-c27ab69bab25
SEQUENCE:0
DTSTAMP:20260422T195108Z
DTSTART;VALUE=DATE:20251130
X-MICROSOFT-CDO-ALLDAYEVENT:TRUE
X-MICROSOFT-MSNCALENDAR-ALLDAYEVENT:TRUE
SUMMARY:Family Weekend
DESCRIPTION:Family Weekend - No school
STATUS:CONFIRMED
END:VEVENT
BEGIN:VEVENT
UID:25aad4dc-4784-4247-8f35-c49a388cd238
SEQUENCE:0
DTSTAMP:20260422T195108Z
DTSTART;VALUE=DATE:20260207
X-MICROSOFT-CDO-ALLDAYEVENT:TRUE
X-MICROSOFT-MSNCALENDAR-ALLDAYEVENT:TRUE
SUMMARY:MIDterm Week
DESCRIPTION:MIDterm Week - No school
STATUS:CONFIRMED
END:VEVENT
BEGIN:VEVENT
UID:994e75f0-d08d-4b02-8e90-90fb011beac1
SEQUENCE:0
DTSTAMP:20260422T195108Z
DTSTART;VALUE=DATE:20260329
X-MICROSOFT-CDO-ALLDAYEVENT:TRUE
X-MICROSOFT-MSNCALENDAR-ALLDAYEVENT:TRUE
SUMMARY:Experiential Week
DESCRIPTION:Experiential Week - No school
STATUS:CONFIRMED
END:VEVENT
BEGIN:VEVENT
UID:379abe84-9da4-4901-831d-b02f375f2a7f
SEQUENCE:0
DTSTAMP:20260422T195108Z
DTSTART;VALUE=DATE:20260425
X-MICROSOFT-CDO-ALLDAYEVENT:TRUE
X-MICROSOFT-MSNCALENDAR-ALLDAYEVENT:TRUE
SUMMARY:Alums\, Parents & Friends Day
DESCRIPTION:Alums\, Parents & Friends Day - No school
STATUS:CONFIRMED
END:VEVENT
BEGIN:VEVENT
UID:c89c29fa-97f3-4c66-8d3e-d10e67f3d70c
SEQUENCE:0
DTSTAMP:20260422T195108Z
DTSTART;VALUE=DATE:20260525
X-MICROSOFT-CDO-ALLDAYEVENT:TRUE
X-MICROSOFT-MSNCALENDAR-ALLDAYEVENT:TRUE
SUMMARY:Exam Week
DESCRIPTION:Exam Week - No school
STATUS:CONFIRMED
END:VEVENT
BEGIN:VEVENT
UID:66932512-b263-44b2-959f-34473ac528f4
SEQUENCE:0
DTSTAMP:20260422T195108Z
DTSTART;VALUE=DATE:20260530
X-MICROSOFT-CDO-ALLDAYEVENT:TRUE
X-MICROSOFT-MSNCALENDAR-ALLDAYEVENT:TRUE
SUMMARY:Graduation
DESCRIPTION:Graduation - No school
STATUS:CONFIRMED
END:VEVENT
END:VCALENDAR