BEGIN:VCALENDAR
VERSION:2.0
PRODID:-//SchoolCalendarAPI//school-calendar//EN
URL:https://api.schools-calendar.com/calendar?district_id=mi-oakridge-publ
 ic-schools&year=2025-26
NAME:Oakridge Public Schools School Calendar 2025-26
X-WR-CALNAME:Oakridge Public Schools School Calendar 2025-26
X-WR-CALDESC:Official school calendar for Oakridge Public Schools for the 
 2025-26 school year.
REFRESH-INTERVAL;VALUE=DURATION:P1D
X-PUBLISHED-TTL:P1D
BEGIN:VEVENT
UID:b4fd410e-c1be-4060-8fb9-fed4c4e002e9
SEQUENCE:0
DTSTAMP:20260422T195201Z
DTSTART;VALUE=DATE:20250826
X-MICROSOFT-CDO-ALLDAYEVENT:TRUE
X-MICROSOFT-MSNCALENDAR-ALLDAYEVENT:TRUE
SUMMARY:First Day of School
DESCRIPTION:First day of the 2025-26 school year
STATUS:CONFIRMED
END:VEVENT
BEGIN:VEVENT
UID:5fb5935a-2f7a-4df9-a783-69dd322e0f61
SEQUENCE:0
DTSTAMP:20260422T195201Z
DTSTART;VALUE=DATE:20260610
X-MICROSOFT-CDO-ALLDAYEVENT:TRUE
X-MICROSOFT-MSNCALENDAR-ALLDAYEVENT:TRUE
SUMMARY:Last Day of School
DESCRIPTION:Last day of the 2025-26 school year
STATUS:CONFIRMED
END:VEVENT
BEGIN:VEVENT
UID:2ac47f76-eaec-4f35-8fc4-394a9533a4fa
SEQUENCE:0
DTSTAMP:20260422T195201Z
DTSTART;VALUE=DATE:20251013
DTEND;VALUE=DATE:20251015
X-MICROSOFT-CDO-ALLDAYEVENT:TRUE
X-MICROSOFT-MSNCALENDAR-ALLDAYEVENT:TRUE
SUMMARY:Fall Break
DESCRIPTION:Fall Break - No school
STATUS:CONFIRMED
END:VEVENT
BEGIN:VEVENT
UID:8400bb26-f4f6-44f4-9da0-abedad2dcbac
SEQUENCE:0
DTSTAMP:20260422T195201Z
DTSTART;VALUE=DATE:20251126
DTEND;VALUE=DATE:20251129
X-MICROSOFT-CDO-ALLDAYEVENT:TRUE
X-MICROSOFT-MSNCALENDAR-ALLDAYEVENT:TRUE
SUMMARY:Thanksgiving Break
DESCRIPTION:Thanksgiving Break - No school
STATUS:CONFIRMED
END:VEVENT
BEGIN:VEVENT
UID:48a82888-c50b-4bc4-a5f1-c3f791d309f9
SEQUENCE:0
DTSTAMP:20260422T195201Z
DTSTART;VALUE=DATE:20251222
DTEND;VALUE=DATE:20260103
X-MICROSOFT-CDO-ALLDAYEVENT:TRUE
X-MICROSOFT-MSNCALENDAR-ALLDAYEVENT:TRUE
SUMMARY:Christmas Break
DESCRIPTION:Christmas Break - No school
STATUS:CONFIRMED
END:VEVENT
BEGIN:VEVENT
UID:376a3e79-fd2b-4593-b22d-21dd2e13f448
SEQUENCE:0
DTSTAMP:20260422T195201Z
DTSTART;VALUE=DATE:20260216
DTEND;VALUE=DATE:20260221
X-MICROSOFT-CDO-ALLDAYEVENT:TRUE
X-MICROSOFT-MSNCALENDAR-ALLDAYEVENT:TRUE
SUMMARY:Mid-winter Break
DESCRIPTION:Mid-winter Break - No school
STATUS:CONFIRMED
END:VEVENT
BEGIN:VEVENT
UID:e49949a9-7714-4121-bb0b-a2b203945853
SEQUENCE:0
DTSTAMP:20260422T195201Z
DTSTART;VALUE=DATE:20260406
DTEND;VALUE=DATE:20260411
X-MICROSOFT-CDO-ALLDAYEVENT:TRUE
X-MICROSOFT-MSNCALENDAR-ALLDAYEVENT:TRUE
SUMMARY:Spring Break
DESCRIPTION:Spring Break - No school
STATUS:CONFIRMED
END:VEVENT
BEGIN:VEVENT
UID:de0ef56d-ea08-4e08-8bb4-f684073583aa
SEQUENCE:0
DTSTAMP:20260422T195201Z
DTSTART;VALUE=DATE:20250901
X-MICROSOFT-CDO-ALLDAYEVENT:TRUE
X-MICROSOFT-MSNCALENDAR-ALLDAYEVENT:TRUE
SUMMARY:Labor Day
DESCRIPTION:Labor Day - No school
STATUS:CONFIRMED
END:VEVENT
BEGIN:VEVENT
UID:b122ca8e-7680-4ac5-be44-d2b97012f4f9
SEQUENCE:0
DTSTAMP:20260422T195201Z
DTSTART;VALUE=DATE:20250926
X-MICROSOFT-CDO-ALLDAYEVENT:TRUE
X-MICROSOFT-MSNCALENDAR-ALLDAYEVENT:TRUE
SUMMARY:Teacher Professional Development Day (No students)
DESCRIPTION:Teacher Professional Development Day (No students) - No school
STATUS:CONFIRMED
END:VEVENT
BEGIN:VEVENT
UID:28a20f6d-510f-48f9-947c-809823dd1077
SEQUENCE:0
DTSTAMP:20260422T195201Z
DTSTART;VALUE=DATE:20260119
X-MICROSOFT-CDO-ALLDAYEVENT:TRUE
X-MICROSOFT-MSNCALENDAR-ALLDAYEVENT:TRUE
SUMMARY:Teacher Professional Development Day (No students)
DESCRIPTION:Teacher Professional Development Day (No students) - No school
STATUS:CONFIRMED
END:VEVENT
BEGIN:VEVENT
UID:740154ce-733f-4991-957e-f56de6e11393
SEQUENCE:0
DTSTAMP:20260422T195201Z
DTSTART;VALUE=DATE:20260316
X-MICROSOFT-CDO-ALLDAYEVENT:TRUE
X-MICROSOFT-MSNCALENDAR-ALLDAYEVENT:TRUE
SUMMARY:Teacher Professional Development Day (No students)
DESCRIPTION:Teacher Professional Development Day (No students) - No school
STATUS:CONFIRMED
END:VEVENT
BEGIN:VEVENT
UID:2a85b7dc-17d0-42ff-9dce-e1e78166fbe7
SEQUENCE:0
DTSTAMP:20260422T195201Z
DTSTART;VALUE=DATE:20260525
X-MICROSOFT-CDO-ALLDAYEVENT:TRUE
X-MICROSOFT-MSNCALENDAR-ALLDAYEVENT:TRUE
SUMMARY:Memorial Day
DESCRIPTION:Memorial Day - No school
STATUS:CONFIRMED
END:VEVENT
END:VCALENDAR