BEGIN:VCALENDAR
VERSION:2.0
PRODID:-//SchoolCalendarAPI//school-calendar//EN
URL:https://api.schools-calendar.com/calendar?district_id=mi-paw-paw-publi
 c-school-district&year=2025-26
NAME:Paw Paw Public School District School Calendar 2025-26
X-WR-CALNAME:Paw Paw Public School District School Calendar 2025-26
X-WR-CALDESC:Official school calendar for Paw Paw Public School District f
 or the 2025-26 school year.
REFRESH-INTERVAL;VALUE=DURATION:P1D
X-PUBLISHED-TTL:P1D
BEGIN:VEVENT
UID:3270c003-eeb8-4861-adc9-2553ef828a02
SEQUENCE:0
DTSTAMP:20260424T085015Z
DTSTART;VALUE=DATE:20250828
X-MICROSOFT-CDO-ALLDAYEVENT:TRUE
X-MICROSOFT-MSNCALENDAR-ALLDAYEVENT:TRUE
SUMMARY:First Day of School
DESCRIPTION:First day of the 2025-26 school year
STATUS:CONFIRMED
END:VEVENT
BEGIN:VEVENT
UID:4b6ad1ca-8992-43cc-a6d0-5a702ce4fbca
SEQUENCE:0
DTSTAMP:20260424T085015Z
DTSTART;VALUE=DATE:20260606
X-MICROSOFT-CDO-ALLDAYEVENT:TRUE
X-MICROSOFT-MSNCALENDAR-ALLDAYEVENT:TRUE
SUMMARY:Last Day of School
DESCRIPTION:Last day of the 2025-26 school year
STATUS:CONFIRMED
END:VEVENT
BEGIN:VEVENT
UID:37e3bd7c-fc23-4b72-9d3b-9afa6b84f6dd
SEQUENCE:0
DTSTAMP:20260424T085015Z
DTSTART;VALUE=DATE:20251123
DTEND;VALUE=DATE:20251125
X-MICROSOFT-CDO-ALLDAYEVENT:TRUE
X-MICROSOFT-MSNCALENDAR-ALLDAYEVENT:TRUE
SUMMARY:Thanksgiving Break
DESCRIPTION:Thanksgiving Break - No school
STATUS:CONFIRMED
END:VEVENT
BEGIN:VEVENT
UID:ab10863e-91f9-429f-a3fd-8b357b048e30
SEQUENCE:0
DTSTAMP:20260424T085015Z
DTSTART;VALUE=DATE:20251225
DTEND;VALUE=DATE:20260106
X-MICROSOFT-CDO-ALLDAYEVENT:TRUE
X-MICROSOFT-MSNCALENDAR-ALLDAYEVENT:TRUE
SUMMARY:Winter Break
DESCRIPTION:Winter Break - No school
STATUS:CONFIRMED
END:VEVENT
BEGIN:VEVENT
UID:ab75bc4c-b7ee-4c66-861d-7208a0e500a3
SEQUENCE:0
DTSTAMP:20260424T085015Z
DTSTART;VALUE=DATE:20260209
DTEND;VALUE=DATE:20260213
X-MICROSOFT-CDO-ALLDAYEVENT:TRUE
X-MICROSOFT-MSNCALENDAR-ALLDAYEVENT:TRUE
SUMMARY:Mid-Winter Break
DESCRIPTION:Mid-Winter Break - No school
STATUS:CONFIRMED
END:VEVENT
BEGIN:VEVENT
UID:97d97f9c-3e93-49c3-b1dd-eb88b797ce00
SEQUENCE:0
DTSTAMP:20260424T085015Z
DTSTART;VALUE=DATE:20260401
DTEND;VALUE=DATE:20260406
X-MICROSOFT-CDO-ALLDAYEVENT:TRUE
X-MICROSOFT-MSNCALENDAR-ALLDAYEVENT:TRUE
SUMMARY:Spring Break
DESCRIPTION:Spring Break - No school
STATUS:CONFIRMED
END:VEVENT
BEGIN:VEVENT
UID:b8b854ee-9a75-4677-881a-74ac0672698b
SEQUENCE:0
DTSTAMP:20260424T085015Z
DTSTART;VALUE=DATE:20250901
X-MICROSOFT-CDO-ALLDAYEVENT:TRUE
X-MICROSOFT-MSNCALENDAR-ALLDAYEVENT:TRUE
SUMMARY:Labor Day
DESCRIPTION:Labor Day - No school
STATUS:CONFIRMED
END:VEVENT
BEGIN:VEVENT
UID:0c944b3d-5b2f-4e99-a6be-dafbb740b7ae
SEQUENCE:0
DTSTAMP:20260424T085015Z
DTSTART;VALUE=DATE:20250904
X-MICROSOFT-CDO-ALLDAYEVENT:TRUE
X-MICROSOFT-MSNCALENDAR-ALLDAYEVENT:TRUE
SUMMARY:No School
DESCRIPTION:No School - No school
STATUS:CONFIRMED
END:VEVENT
BEGIN:VEVENT
UID:0bca458b-2d4f-4b4f-a528-73c31e46ce55
SEQUENCE:0
DTSTAMP:20260424T085015Z
DTSTART;VALUE=DATE:20251122
X-MICROSOFT-CDO-ALLDAYEVENT:TRUE
X-MICROSOFT-MSNCALENDAR-ALLDAYEVENT:TRUE
SUMMARY:No School
DESCRIPTION:No School - No school
STATUS:CONFIRMED
END:VEVENT
BEGIN:VEVENT
UID:12dd227c-75b0-40a5-bccd-dfa205b717c0
SEQUENCE:0
DTSTAMP:20260424T085015Z
DTSTART;VALUE=DATE:20260329
X-MICROSOFT-CDO-ALLDAYEVENT:TRUE
X-MICROSOFT-MSNCALENDAR-ALLDAYEVENT:TRUE
SUMMARY:No School
DESCRIPTION:No School - No school
STATUS:CONFIRMED
END:VEVENT
BEGIN:VEVENT
UID:deda1e45-c65a-4331-834a-7f14041702d0
SEQUENCE:0
DTSTAMP:20260424T085015Z
DTSTART;VALUE=DATE:20260527
X-MICROSOFT-CDO-ALLDAYEVENT:TRUE
X-MICROSOFT-MSNCALENDAR-ALLDAYEVENT:TRUE
SUMMARY:Memorial Day
DESCRIPTION:Memorial Day - No school
STATUS:CONFIRMED
END:VEVENT
END:VCALENDAR