BEGIN:VCALENDAR
VERSION:2.0
PRODID:-//SchoolCalendarAPI//school-calendar//EN
URL:https://api.schools-calendar.com/calendar?district_id=mi-portland-publ
 ic-school-district&year=2025-26
NAME:Portland Public School District School Calendar 2025-26
X-WR-CALNAME:Portland Public School District School Calendar 2025-26
X-WR-CALDESC:Official school calendar for Portland Public School District 
 for the 2025-26 school year.
REFRESH-INTERVAL;VALUE=DURATION:P1D
X-PUBLISHED-TTL:P1D
BEGIN:VEVENT
UID:3a8bacfe-3ecc-42b0-8cb4-657fa5e24c8c
SEQUENCE:0
DTSTAMP:20260422T195235Z
DTSTART;VALUE=DATE:20250818
X-MICROSOFT-CDO-ALLDAYEVENT:TRUE
X-MICROSOFT-MSNCALENDAR-ALLDAYEVENT:TRUE
SUMMARY:First Day of School
DESCRIPTION:First day of the 2025-26 school year
STATUS:CONFIRMED
END:VEVENT
BEGIN:VEVENT
UID:4e709991-be93-4bce-be32-b282355ad105
SEQUENCE:0
DTSTAMP:20260422T195235Z
DTSTART;VALUE=DATE:20260527
X-MICROSOFT-CDO-ALLDAYEVENT:TRUE
X-MICROSOFT-MSNCALENDAR-ALLDAYEVENT:TRUE
SUMMARY:Last Day of School
DESCRIPTION:Last day of the 2025-26 school year
STATUS:CONFIRMED
END:VEVENT
BEGIN:VEVENT
UID:b1d4d4bb-5144-4e3c-940d-071a5892cbde
SEQUENCE:0
DTSTAMP:20260422T195235Z
DTSTART;VALUE=DATE:20251222
DTEND;VALUE=DATE:20260103
X-MICROSOFT-CDO-ALLDAYEVENT:TRUE
X-MICROSOFT-MSNCALENDAR-ALLDAYEVENT:TRUE
SUMMARY:Winter Break
DESCRIPTION:Winter Break - No school
STATUS:CONFIRMED
END:VEVENT
BEGIN:VEVENT
UID:19cf5ad2-43b6-4be1-a6be-4b3ea321e656
SEQUENCE:0
DTSTAMP:20260422T195235Z
DTSTART;VALUE=DATE:20251210
X-MICROSOFT-CDO-ALLDAYEVENT:TRUE
X-MICROSOFT-MSNCALENDAR-ALLDAYEVENT:TRUE
SUMMARY:Snow Day
DESCRIPTION:Snow Day - No school
STATUS:CONFIRMED
END:VEVENT
BEGIN:VEVENT
UID:d232de1c-f0d6-4c70-8f75-94f14f069a34
SEQUENCE:0
DTSTAMP:20260422T195235Z
DTSTART;VALUE=DATE:20251222
X-MICROSOFT-CDO-ALLDAYEVENT:TRUE
X-MICROSOFT-MSNCALENDAR-ALLDAYEVENT:TRUE
SUMMARY:No School - Winter Break
DESCRIPTION:No School - Winter Break - No school
STATUS:CONFIRMED
END:VEVENT
BEGIN:VEVENT
UID:1f2904b8-27b7-4df7-a8b2-e4caf552ed4d
SEQUENCE:0
DTSTAMP:20260422T195235Z
DTSTART;VALUE=DATE:20251223
X-MICROSOFT-CDO-ALLDAYEVENT:TRUE
X-MICROSOFT-MSNCALENDAR-ALLDAYEVENT:TRUE
SUMMARY:No School - Winter Break
DESCRIPTION:No School - Winter Break - No school
STATUS:CONFIRMED
END:VEVENT
BEGIN:VEVENT
UID:076a1e4d-f85e-47d6-b5b9-c3da66d901a7
SEQUENCE:0
DTSTAMP:20260422T195235Z
DTSTART;VALUE=DATE:20251224
X-MICROSOFT-CDO-ALLDAYEVENT:TRUE
X-MICROSOFT-MSNCALENDAR-ALLDAYEVENT:TRUE
SUMMARY:No School - Winter Break
DESCRIPTION:No School - Winter Break - No school
STATUS:CONFIRMED
END:VEVENT
BEGIN:VEVENT
UID:8885da1b-a37a-4265-afc1-58d777852120
SEQUENCE:0
DTSTAMP:20260422T195235Z
DTSTART;VALUE=DATE:20251225
X-MICROSOFT-CDO-ALLDAYEVENT:TRUE
X-MICROSOFT-MSNCALENDAR-ALLDAYEVENT:TRUE
SUMMARY:No School - Winter Break
DESCRIPTION:No School - Winter Break - No school
STATUS:CONFIRMED
END:VEVENT
BEGIN:VEVENT
UID:26fefead-7827-4e9a-a169-3099106f3755
SEQUENCE:0
DTSTAMP:20260422T195235Z
DTSTART;VALUE=DATE:20251226
X-MICROSOFT-CDO-ALLDAYEVENT:TRUE
X-MICROSOFT-MSNCALENDAR-ALLDAYEVENT:TRUE
SUMMARY:No School - Winter Break
DESCRIPTION:No School - Winter Break - No school
STATUS:CONFIRMED
END:VEVENT
BEGIN:VEVENT
UID:62d55910-c5e3-4d45-8d0f-1ccac8b413c3
SEQUENCE:0
DTSTAMP:20260422T195235Z
DTSTART;VALUE=DATE:20251227
X-MICROSOFT-CDO-ALLDAYEVENT:TRUE
X-MICROSOFT-MSNCALENDAR-ALLDAYEVENT:TRUE
SUMMARY:No School - Winter Break
DESCRIPTION:No School - Winter Break - No school
STATUS:CONFIRMED
END:VEVENT
BEGIN:VEVENT
UID:a2b7e0f0-a157-4f90-9de8-796c98fb6ffd
SEQUENCE:0
DTSTAMP:20260422T195235Z
DTSTART;VALUE=DATE:20251228
X-MICROSOFT-CDO-ALLDAYEVENT:TRUE
X-MICROSOFT-MSNCALENDAR-ALLDAYEVENT:TRUE
SUMMARY:No School - Winter Break
DESCRIPTION:No School - Winter Break - No school
STATUS:CONFIRMED
END:VEVENT
BEGIN:VEVENT
UID:ac2389d1-e27d-44f8-b04f-8b7ea73ff7b1
SEQUENCE:0
DTSTAMP:20260422T195235Z
DTSTART;VALUE=DATE:20251229
X-MICROSOFT-CDO-ALLDAYEVENT:TRUE
X-MICROSOFT-MSNCALENDAR-ALLDAYEVENT:TRUE
SUMMARY:No School - Winter Break
DESCRIPTION:No School - Winter Break - No school
STATUS:CONFIRMED
END:VEVENT
BEGIN:VEVENT
UID:0ee19c34-5343-4760-b480-62599cf10b9d
SEQUENCE:0
DTSTAMP:20260422T195235Z
DTSTART;VALUE=DATE:20251230
X-MICROSOFT-CDO-ALLDAYEVENT:TRUE
X-MICROSOFT-MSNCALENDAR-ALLDAYEVENT:TRUE
SUMMARY:No School - Winter Break
DESCRIPTION:No School - Winter Break - No school
STATUS:CONFIRMED
END:VEVENT
BEGIN:VEVENT
UID:6318ba77-5eef-4e77-a34a-313160591a8e
SEQUENCE:0
DTSTAMP:20260422T195235Z
DTSTART;VALUE=DATE:20251231
X-MICROSOFT-CDO-ALLDAYEVENT:TRUE
X-MICROSOFT-MSNCALENDAR-ALLDAYEVENT:TRUE
SUMMARY:No School - Winter Break
DESCRIPTION:No School - Winter Break - No school
STATUS:CONFIRMED
END:VEVENT
BEGIN:VEVENT
UID:48954db3-10c2-4497-8977-8e645b16437e
SEQUENCE:0
DTSTAMP:20260422T195235Z
DTSTART;VALUE=DATE:20260101
X-MICROSOFT-CDO-ALLDAYEVENT:TRUE
X-MICROSOFT-MSNCALENDAR-ALLDAYEVENT:TRUE
SUMMARY:No School - Winter Break
DESCRIPTION:No School - Winter Break - No school
STATUS:CONFIRMED
END:VEVENT
BEGIN:VEVENT
UID:4527ed23-6d0e-421d-8396-a2a26cb2f1b3
SEQUENCE:0
DTSTAMP:20260422T195235Z
DTSTART;VALUE=DATE:20260102
X-MICROSOFT-CDO-ALLDAYEVENT:TRUE
X-MICROSOFT-MSNCALENDAR-ALLDAYEVENT:TRUE
SUMMARY:No School - Winter Break
DESCRIPTION:No School - Winter Break - No school
STATUS:CONFIRMED
END:VEVENT
END:VCALENDAR