BEGIN:VCALENDAR
VERSION:2.0
PRODID:-//SchoolCalendarAPI//school-calendar//EN
URL:https://api.schools-calendar.com/calendar?district_id=mi-southfield-pu
 blic-school-district&year=2025-26
NAME:Southfield Public School District School Calendar 2025-26
X-WR-CALNAME:Southfield Public School District School Calendar 2025-26
X-WR-CALDESC:Official school calendar for Southfield Public School Distric
 t for the 2025-26 school year.
REFRESH-INTERVAL;VALUE=DURATION:P1D
X-PUBLISHED-TTL:P1D
BEGIN:VEVENT
UID:1a305af6-ebca-4516-8686-5e90f5a384f1
SEQUENCE:0
DTSTAMP:20260422T195738Z
DTSTART;VALUE=DATE:20250825
X-MICROSOFT-CDO-ALLDAYEVENT:TRUE
X-MICROSOFT-MSNCALENDAR-ALLDAYEVENT:TRUE
SUMMARY:First Day of School
DESCRIPTION:First day of the 2025-26 school year
STATUS:CONFIRMED
END:VEVENT
BEGIN:VEVENT
UID:ab7a95a5-16f9-49e5-bb77-0f05966d59df
SEQUENCE:0
DTSTAMP:20260422T195738Z
DTSTART;VALUE=DATE:20260611
X-MICROSOFT-CDO-ALLDAYEVENT:TRUE
X-MICROSOFT-MSNCALENDAR-ALLDAYEVENT:TRUE
SUMMARY:Last Day of School
DESCRIPTION:Last day of the 2025-26 school year
STATUS:CONFIRMED
END:VEVENT
BEGIN:VEVENT
UID:16ce5df4-e120-4bfd-b7c0-5e069d76d608
SEQUENCE:0
DTSTAMP:20260422T195738Z
DTSTART;VALUE=DATE:20250829
DTEND;VALUE=DATE:20250902
X-MICROSOFT-CDO-ALLDAYEVENT:TRUE
X-MICROSOFT-MSNCALENDAR-ALLDAYEVENT:TRUE
SUMMARY:Labor Day Recess
DESCRIPTION:Labor Day Recess - No school
STATUS:CONFIRMED
END:VEVENT
BEGIN:VEVENT
UID:1a066998-a763-4a77-aa24-2a3d4a0ee077
SEQUENCE:0
DTSTAMP:20260422T195738Z
DTSTART;VALUE=DATE:20251126
DTEND;VALUE=DATE:20251129
X-MICROSOFT-CDO-ALLDAYEVENT:TRUE
X-MICROSOFT-MSNCALENDAR-ALLDAYEVENT:TRUE
SUMMARY:Thanksgiving Recess
DESCRIPTION:Thanksgiving Recess - No school
STATUS:CONFIRMED
END:VEVENT
BEGIN:VEVENT
UID:e83ebc01-7871-4432-980a-b9dc13f30a48
SEQUENCE:0
DTSTAMP:20260422T195738Z
DTSTART;VALUE=DATE:20251222
DTEND;VALUE=DATE:20260103
X-MICROSOFT-CDO-ALLDAYEVENT:TRUE
X-MICROSOFT-MSNCALENDAR-ALLDAYEVENT:TRUE
SUMMARY:Winter Recess
DESCRIPTION:Winter Recess - No school
STATUS:CONFIRMED
END:VEVENT
BEGIN:VEVENT
UID:1c0c0b6c-6769-4a8d-91cf-ff6c82d341aa
SEQUENCE:0
DTSTAMP:20260422T195738Z
DTSTART;VALUE=DATE:20260216
DTEND;VALUE=DATE:20260221
X-MICROSOFT-CDO-ALLDAYEVENT:TRUE
X-MICROSOFT-MSNCALENDAR-ALLDAYEVENT:TRUE
SUMMARY:Mid-winter Recess
DESCRIPTION:Mid-winter Recess - No school
STATUS:CONFIRMED
END:VEVENT
BEGIN:VEVENT
UID:525adecd-3e36-4c12-96d1-94f970c2d75d
SEQUENCE:0
DTSTAMP:20260422T195738Z
DTSTART;VALUE=DATE:20260330
DTEND;VALUE=DATE:20260404
X-MICROSOFT-CDO-ALLDAYEVENT:TRUE
X-MICROSOFT-MSNCALENDAR-ALLDAYEVENT:TRUE
SUMMARY:Spring Recess
DESCRIPTION:Spring Recess - No school
STATUS:CONFIRMED
END:VEVENT
BEGIN:VEVENT
UID:f6bfcf8c-b3d2-4226-b75e-41f1961176dd
SEQUENCE:0
DTSTAMP:20260422T195738Z
DTSTART;VALUE=DATE:20260522
DTEND;VALUE=DATE:20260526
X-MICROSOFT-CDO-ALLDAYEVENT:TRUE
X-MICROSOFT-MSNCALENDAR-ALLDAYEVENT:TRUE
SUMMARY:Memorial Day Recess
DESCRIPTION:Memorial Day Recess - No school
STATUS:CONFIRMED
END:VEVENT
BEGIN:VEVENT
UID:e0ba3fbc-88f4-4f02-b92f-460d5bde0cf3
SEQUENCE:0
DTSTAMP:20260422T195738Z
DTSTART;VALUE=DATE:20250901
X-MICROSOFT-CDO-ALLDAYEVENT:TRUE
X-MICROSOFT-MSNCALENDAR-ALLDAYEVENT:TRUE
SUMMARY:Labor Day
DESCRIPTION:Labor Day - No school
STATUS:CONFIRMED
END:VEVENT
BEGIN:VEVENT
UID:ac5718c4-bf7d-4480-a545-8a2e0c5c6bb5
SEQUENCE:0
DTSTAMP:20260422T195738Z
DTSTART;VALUE=DATE:20250917
X-MICROSOFT-CDO-ALLDAYEVENT:TRUE
X-MICROSOFT-MSNCALENDAR-ALLDAYEVENT:TRUE
SUMMARY:District Professional Learning – No School
DESCRIPTION:District Professional Learning – No School - No school
STATUS:CONFIRMED
END:VEVENT
BEGIN:VEVENT
UID:fd19991a-b335-41f0-9585-496ac54fecd3
SEQUENCE:0
DTSTAMP:20260422T195738Z
DTSTART;VALUE=DATE:20251015
X-MICROSOFT-CDO-ALLDAYEVENT:TRUE
X-MICROSOFT-MSNCALENDAR-ALLDAYEVENT:TRUE
SUMMARY:District Professional Learning – No School
DESCRIPTION:District Professional Learning – No School - No school
STATUS:CONFIRMED
END:VEVENT
BEGIN:VEVENT
UID:ab6505de-9133-400a-8da1-9575299b55ee
SEQUENCE:0
DTSTAMP:20260422T195738Z
DTSTART;VALUE=DATE:20251104
X-MICROSOFT-CDO-ALLDAYEVENT:TRUE
X-MICROSOFT-MSNCALENDAR-ALLDAYEVENT:TRUE
SUMMARY:District Professional Learning – No School
DESCRIPTION:District Professional Learning – No School - No school
STATUS:CONFIRMED
END:VEVENT
BEGIN:VEVENT
UID:e1068a36-ce4a-461e-885c-3d2c7c6bcb48
SEQUENCE:0
DTSTAMP:20260422T195738Z
DTSTART;VALUE=DATE:20260119
X-MICROSOFT-CDO-ALLDAYEVENT:TRUE
X-MICROSOFT-MSNCALENDAR-ALLDAYEVENT:TRUE
SUMMARY:Dr. Martin Luther King Jr. Day – No School
DESCRIPTION:Dr. Martin Luther King Jr. Day – No School - No school
STATUS:CONFIRMED
END:VEVENT
BEGIN:VEVENT
UID:9bd1697a-2485-41b9-9ec5-99b6ebbaed4a
SEQUENCE:0
DTSTAMP:20260422T195738Z
DTSTART;VALUE=DATE:20260120
X-MICROSOFT-CDO-ALLDAYEVENT:TRUE
X-MICROSOFT-MSNCALENDAR-ALLDAYEVENT:TRUE
SUMMARY:Records Day – No School
DESCRIPTION:Records Day – No School - No school
STATUS:CONFIRMED
END:VEVENT
BEGIN:VEVENT
UID:5a50f6a8-6fcd-466b-8a2d-77615e8ac56e
SEQUENCE:0
DTSTAMP:20260422T195738Z
DTSTART;VALUE=DATE:20260311
X-MICROSOFT-CDO-ALLDAYEVENT:TRUE
X-MICROSOFT-MSNCALENDAR-ALLDAYEVENT:TRUE
SUMMARY:District Professional Learning – No School
DESCRIPTION:District Professional Learning – No School - No school
STATUS:CONFIRMED
END:VEVENT
BEGIN:VEVENT
UID:ac36b2e8-284a-49a7-a1a1-2b089f5ce95f
SEQUENCE:0
DTSTAMP:20260422T195738Z
DTSTART;VALUE=DATE:20260417
X-MICROSOFT-CDO-ALLDAYEVENT:TRUE
X-MICROSOFT-MSNCALENDAR-ALLDAYEVENT:TRUE
SUMMARY:Good Friday – No School
DESCRIPTION:Good Friday – No School - No school
STATUS:CONFIRMED
END:VEVENT
BEGIN:VEVENT
UID:57a22e7b-ee60-452a-8f60-8798b27bb7d8
SEQUENCE:0
DTSTAMP:20260422T195738Z
DTSTART;VALUE=DATE:20260422
X-MICROSOFT-CDO-ALLDAYEVENT:TRUE
X-MICROSOFT-MSNCALENDAR-ALLDAYEVENT:TRUE
SUMMARY:District Professional Learning – No School
DESCRIPTION:District Professional Learning – No School - No school
STATUS:CONFIRMED
END:VEVENT
BEGIN:VEVENT
UID:f7bb8d36-b226-47cf-87c7-2f08af299398
SEQUENCE:0
DTSTAMP:20260422T195738Z
DTSTART;VALUE=DATE:20260619
X-MICROSOFT-CDO-ALLDAYEVENT:TRUE
X-MICROSOFT-MSNCALENDAR-ALLDAYEVENT:TRUE
SUMMARY:Juneteenth – District Closed
DESCRIPTION:Juneteenth – District Closed - No school
STATUS:CONFIRMED
END:VEVENT
END:VCALENDAR