BEGIN:VCALENDAR
VERSION:2.0
PRODID:-//SchoolCalendarAPI//school-calendar//EN
URL:https://api.schools-calendar.com/calendar?district_id=mi-stephenson-ar
 ea-public-schools&year=2025-26
NAME:Stephenson Area Public Schools School Calendar 2025-26
X-WR-CALNAME:Stephenson Area Public Schools School Calendar 2025-26
X-WR-CALDESC:Official school calendar for Stephenson Area Public Schools f
 or the 2025-26 school year.
REFRESH-INTERVAL;VALUE=DURATION:P1D
X-PUBLISHED-TTL:P1D
BEGIN:VEVENT
UID:46831667-849d-4166-b65a-89f1da2e175c
SEQUENCE:0
DTSTAMP:20260422T195133Z
DTSTART;VALUE=DATE:20250825
X-MICROSOFT-CDO-ALLDAYEVENT:TRUE
X-MICROSOFT-MSNCALENDAR-ALLDAYEVENT:TRUE
SUMMARY:First Day of School
DESCRIPTION:First day of the 2025-26 school year
STATUS:CONFIRMED
END:VEVENT
BEGIN:VEVENT
UID:d32d2699-1403-42f8-9020-5ecf2ffb54e1
SEQUENCE:0
DTSTAMP:20260422T195133Z
DTSTART;VALUE=DATE:20260529
X-MICROSOFT-CDO-ALLDAYEVENT:TRUE
X-MICROSOFT-MSNCALENDAR-ALLDAYEVENT:TRUE
SUMMARY:Last Day of School
DESCRIPTION:Last day of the 2025-26 school year
STATUS:CONFIRMED
END:VEVENT
BEGIN:VEVENT
UID:6ca25e60-6e24-4e4b-9fdd-71174b2e506f
SEQUENCE:0
DTSTAMP:20260422T195133Z
DTSTART;VALUE=DATE:20251127
DTEND;VALUE=DATE:20251129
X-MICROSOFT-CDO-ALLDAYEVENT:TRUE
X-MICROSOFT-MSNCALENDAR-ALLDAYEVENT:TRUE
SUMMARY:Thanksgiving Break
DESCRIPTION:Thanksgiving Break - No school
STATUS:CONFIRMED
END:VEVENT
BEGIN:VEVENT
UID:0825d48d-4138-42f5-81f9-ae0252434ba3
SEQUENCE:0
DTSTAMP:20260422T195133Z
DTSTART;VALUE=DATE:20251222
DTEND;VALUE=DATE:20260103
X-MICROSOFT-CDO-ALLDAYEVENT:TRUE
X-MICROSOFT-MSNCALENDAR-ALLDAYEVENT:TRUE
SUMMARY:Winter Break
DESCRIPTION:Winter Break - No school
STATUS:CONFIRMED
END:VEVENT
BEGIN:VEVENT
UID:80013d07-759e-41c7-bcdf-cf6a4738f9a6
SEQUENCE:0
DTSTAMP:20260422T195133Z
DTSTART;VALUE=DATE:20260330
DTEND;VALUE=DATE:20260404
X-MICROSOFT-CDO-ALLDAYEVENT:TRUE
X-MICROSOFT-MSNCALENDAR-ALLDAYEVENT:TRUE
SUMMARY:Spring Break
DESCRIPTION:Spring Break - No school
STATUS:CONFIRMED
END:VEVENT
BEGIN:VEVENT
UID:03d5a3e2-a500-40da-a2fc-cee58dc72ffb
SEQUENCE:0
DTSTAMP:20260422T195133Z
DTSTART;VALUE=DATE:20250901
X-MICROSOFT-CDO-ALLDAYEVENT:TRUE
X-MICROSOFT-MSNCALENDAR-ALLDAYEVENT:TRUE
SUMMARY:Labor Day
DESCRIPTION:Labor Day - No school
STATUS:CONFIRMED
END:VEVENT
BEGIN:VEVENT
UID:0bc68788-b491-49b0-bf41-2d8284b88e23
SEQUENCE:0
DTSTAMP:20260422T195133Z
DTSTART;VALUE=DATE:20251127
X-MICROSOFT-CDO-ALLDAYEVENT:TRUE
X-MICROSOFT-MSNCALENDAR-ALLDAYEVENT:TRUE
SUMMARY:Thanksgiving Break Day 1
DESCRIPTION:Thanksgiving Break Day 1 - No school
STATUS:CONFIRMED
END:VEVENT
BEGIN:VEVENT
UID:f28f8ef6-24a1-49cd-a991-a5d21803ad49
SEQUENCE:0
DTSTAMP:20260422T195133Z
DTSTART;VALUE=DATE:20251128
X-MICROSOFT-CDO-ALLDAYEVENT:TRUE
X-MICROSOFT-MSNCALENDAR-ALLDAYEVENT:TRUE
SUMMARY:Thanksgiving Break Day 2
DESCRIPTION:Thanksgiving Break Day 2 - No school
STATUS:CONFIRMED
END:VEVENT
BEGIN:VEVENT
UID:dbbec65a-0f54-4141-9a78-a5693282fc7d
SEQUENCE:0
DTSTAMP:20260422T195133Z
DTSTART;VALUE=DATE:20251222
X-MICROSOFT-CDO-ALLDAYEVENT:TRUE
X-MICROSOFT-MSNCALENDAR-ALLDAYEVENT:TRUE
SUMMARY:Winter Break Day 1
DESCRIPTION:Winter Break Day 1 - No school
STATUS:CONFIRMED
END:VEVENT
BEGIN:VEVENT
UID:66bab292-96a6-4f5c-8f97-e8f87e9b9348
SEQUENCE:0
DTSTAMP:20260422T195133Z
DTSTART;VALUE=DATE:20251223
X-MICROSOFT-CDO-ALLDAYEVENT:TRUE
X-MICROSOFT-MSNCALENDAR-ALLDAYEVENT:TRUE
SUMMARY:Winter Break Day 2
DESCRIPTION:Winter Break Day 2 - No school
STATUS:CONFIRMED
END:VEVENT
BEGIN:VEVENT
UID:2097536a-154d-4931-8c8e-d27b3782d89d
SEQUENCE:0
DTSTAMP:20260422T195133Z
DTSTART;VALUE=DATE:20251224
X-MICROSOFT-CDO-ALLDAYEVENT:TRUE
X-MICROSOFT-MSNCALENDAR-ALLDAYEVENT:TRUE
SUMMARY:Winter Break Day 3
DESCRIPTION:Winter Break Day 3 - No school
STATUS:CONFIRMED
END:VEVENT
BEGIN:VEVENT
UID:5c6de5ea-7121-42d7-8d6c-b798c3165ae9
SEQUENCE:0
DTSTAMP:20260422T195133Z
DTSTART;VALUE=DATE:20251225
X-MICROSOFT-CDO-ALLDAYEVENT:TRUE
X-MICROSOFT-MSNCALENDAR-ALLDAYEVENT:TRUE
SUMMARY:Winter Break Day 4
DESCRIPTION:Winter Break Day 4 - No school
STATUS:CONFIRMED
END:VEVENT
BEGIN:VEVENT
UID:6648fa91-f7df-4107-a9e5-0b1c1cf50e9f
SEQUENCE:0
DTSTAMP:20260422T195133Z
DTSTART;VALUE=DATE:20251226
X-MICROSOFT-CDO-ALLDAYEVENT:TRUE
X-MICROSOFT-MSNCALENDAR-ALLDAYEVENT:TRUE
SUMMARY:Winter Break Day 5
DESCRIPTION:Winter Break Day 5 - No school
STATUS:CONFIRMED
END:VEVENT
BEGIN:VEVENT
UID:405f9577-da62-4477-950a-5d002c02ab70
SEQUENCE:0
DTSTAMP:20260422T195133Z
DTSTART;VALUE=DATE:20251229
X-MICROSOFT-CDO-ALLDAYEVENT:TRUE
X-MICROSOFT-MSNCALENDAR-ALLDAYEVENT:TRUE
SUMMARY:Winter Break Day 6
DESCRIPTION:Winter Break Day 6 - No school
STATUS:CONFIRMED
END:VEVENT
BEGIN:VEVENT
UID:84b12689-b8f4-4a5e-87da-6b5d9777f33d
SEQUENCE:0
DTSTAMP:20260422T195133Z
DTSTART;VALUE=DATE:20251230
X-MICROSOFT-CDO-ALLDAYEVENT:TRUE
X-MICROSOFT-MSNCALENDAR-ALLDAYEVENT:TRUE
SUMMARY:Winter Break Day 7
DESCRIPTION:Winter Break Day 7 - No school
STATUS:CONFIRMED
END:VEVENT
BEGIN:VEVENT
UID:920cc47a-ed1f-4675-ba8c-de38a0971b26
SEQUENCE:0
DTSTAMP:20260422T195133Z
DTSTART;VALUE=DATE:20251231
X-MICROSOFT-CDO-ALLDAYEVENT:TRUE
X-MICROSOFT-MSNCALENDAR-ALLDAYEVENT:TRUE
SUMMARY:Winter Break Day 8
DESCRIPTION:Winter Break Day 8 - No school
STATUS:CONFIRMED
END:VEVENT
BEGIN:VEVENT
UID:8fd4a02b-abb9-4153-b66b-239dd964e860
SEQUENCE:0
DTSTAMP:20260422T195133Z
DTSTART;VALUE=DATE:20260101
X-MICROSOFT-CDO-ALLDAYEVENT:TRUE
X-MICROSOFT-MSNCALENDAR-ALLDAYEVENT:TRUE
SUMMARY:Winter Break Day 9
DESCRIPTION:Winter Break Day 9 - No school
STATUS:CONFIRMED
END:VEVENT
BEGIN:VEVENT
UID:636aa566-c3a4-4f30-9ffd-9626b3d7d853
SEQUENCE:0
DTSTAMP:20260422T195133Z
DTSTART;VALUE=DATE:20260102
X-MICROSOFT-CDO-ALLDAYEVENT:TRUE
X-MICROSOFT-MSNCALENDAR-ALLDAYEVENT:TRUE
SUMMARY:Winter Break Day 10
DESCRIPTION:Winter Break Day 10 - No school
STATUS:CONFIRMED
END:VEVENT
BEGIN:VEVENT
UID:4a022f20-9363-4f6c-858b-d1b599e9c16e
SEQUENCE:0
DTSTAMP:20260422T195133Z
DTSTART;VALUE=DATE:20260213
X-MICROSOFT-CDO-ALLDAYEVENT:TRUE
X-MICROSOFT-MSNCALENDAR-ALLDAYEVENT:TRUE
SUMMARY:No School
DESCRIPTION:No School - No school
STATUS:CONFIRMED
END:VEVENT
BEGIN:VEVENT
UID:4fdd0a31-9ba6-414c-a4f3-97fbd4936229
SEQUENCE:0
DTSTAMP:20260422T195133Z
DTSTART;VALUE=DATE:20260330
X-MICROSOFT-CDO-ALLDAYEVENT:TRUE
X-MICROSOFT-MSNCALENDAR-ALLDAYEVENT:TRUE
SUMMARY:Spring Break Day 1
DESCRIPTION:Spring Break Day 1 - No school
STATUS:CONFIRMED
END:VEVENT
BEGIN:VEVENT
UID:ad8b2d55-5401-4244-945a-3941f64e2e8e
SEQUENCE:0
DTSTAMP:20260422T195133Z
DTSTART;VALUE=DATE:20260331
X-MICROSOFT-CDO-ALLDAYEVENT:TRUE
X-MICROSOFT-MSNCALENDAR-ALLDAYEVENT:TRUE
SUMMARY:Spring Break Day 2
DESCRIPTION:Spring Break Day 2 - No school
STATUS:CONFIRMED
END:VEVENT
BEGIN:VEVENT
UID:7990048b-62f8-4faa-b46b-3260c42bcd24
SEQUENCE:0
DTSTAMP:20260422T195133Z
DTSTART;VALUE=DATE:20260401
X-MICROSOFT-CDO-ALLDAYEVENT:TRUE
X-MICROSOFT-MSNCALENDAR-ALLDAYEVENT:TRUE
SUMMARY:Spring Break Day 3
DESCRIPTION:Spring Break Day 3 - No school
STATUS:CONFIRMED
END:VEVENT
BEGIN:VEVENT
UID:8acd6072-80a0-40f1-a1e6-5ac7bb066e1c
SEQUENCE:0
DTSTAMP:20260422T195133Z
DTSTART;VALUE=DATE:20260402
X-MICROSOFT-CDO-ALLDAYEVENT:TRUE
X-MICROSOFT-MSNCALENDAR-ALLDAYEVENT:TRUE
SUMMARY:Spring Break Day 4
DESCRIPTION:Spring Break Day 4 - No school
STATUS:CONFIRMED
END:VEVENT
BEGIN:VEVENT
UID:5c2f0ec1-b77e-4351-9872-29387f16aee4
SEQUENCE:0
DTSTAMP:20260422T195133Z
DTSTART;VALUE=DATE:20260403
X-MICROSOFT-CDO-ALLDAYEVENT:TRUE
X-MICROSOFT-MSNCALENDAR-ALLDAYEVENT:TRUE
SUMMARY:Spring Break Day 5
DESCRIPTION:Spring Break Day 5 - No school
STATUS:CONFIRMED
END:VEVENT
BEGIN:VEVENT
UID:9cd918d4-3f0e-4bc0-a93c-24976850ff67
SEQUENCE:0
DTSTAMP:20260422T195133Z
DTSTART;VALUE=DATE:20260525
X-MICROSOFT-CDO-ALLDAYEVENT:TRUE
X-MICROSOFT-MSNCALENDAR-ALLDAYEVENT:TRUE
SUMMARY:Memorial Day
DESCRIPTION:Memorial Day - No school
STATUS:CONFIRMED
END:VEVENT
END:VCALENDAR