BEGIN:VCALENDAR
VERSION:2.0
PRODID:-//SchoolCalendarAPI//school-calendar//EN
URL:https://api.schools-calendar.com/calendar?district_id=mi-tecumseh-publ
 ic-schools&year=2025-26
NAME:Tecumseh Public Schools School Calendar 2025-26
X-WR-CALNAME:Tecumseh Public Schools School Calendar 2025-26
X-WR-CALDESC:Official school calendar for Tecumseh Public Schools for the 
 2025-26 school year.
REFRESH-INTERVAL;VALUE=DURATION:P1D
X-PUBLISHED-TTL:P1D
BEGIN:VEVENT
UID:8d5571d0-571b-4728-af2e-8dffe0bb30ba
SEQUENCE:0
DTSTAMP:20260422T195049Z
DTSTART;VALUE=DATE:20250818
X-MICROSOFT-CDO-ALLDAYEVENT:TRUE
X-MICROSOFT-MSNCALENDAR-ALLDAYEVENT:TRUE
SUMMARY:First Day of School
DESCRIPTION:First day of the 2025-26 school year
STATUS:CONFIRMED
END:VEVENT
BEGIN:VEVENT
UID:a910197b-803d-4320-bafd-5ecbcc28b0d5
SEQUENCE:0
DTSTAMP:20260422T195049Z
DTSTART;VALUE=DATE:20260529
X-MICROSOFT-CDO-ALLDAYEVENT:TRUE
X-MICROSOFT-MSNCALENDAR-ALLDAYEVENT:TRUE
SUMMARY:Last Day of School
DESCRIPTION:Last day of the 2025-26 school year
STATUS:CONFIRMED
END:VEVENT
BEGIN:VEVENT
UID:97618c60-18b5-4fa6-bf6d-08e43080e054
SEQUENCE:0
DTSTAMP:20260422T195049Z
DTSTART;VALUE=DATE:20251126
DTEND;VALUE=DATE:20251129
X-MICROSOFT-CDO-ALLDAYEVENT:TRUE
X-MICROSOFT-MSNCALENDAR-ALLDAYEVENT:TRUE
SUMMARY:Thanksgiving Holiday Break
DESCRIPTION:Thanksgiving Holiday Break - No school
STATUS:CONFIRMED
END:VEVENT
BEGIN:VEVENT
UID:85b24683-b1a4-4eaf-930e-f143f73f25e4
SEQUENCE:0
DTSTAMP:20260422T195049Z
DTSTART;VALUE=DATE:20251222
DTEND;VALUE=DATE:20260103
X-MICROSOFT-CDO-ALLDAYEVENT:TRUE
X-MICROSOFT-MSNCALENDAR-ALLDAYEVENT:TRUE
SUMMARY:Winter Break
DESCRIPTION:Winter Break - No school
STATUS:CONFIRMED
END:VEVENT
BEGIN:VEVENT
UID:650e5393-e918-4000-858e-bffaf00e8fc3
SEQUENCE:0
DTSTAMP:20260422T195049Z
DTSTART;VALUE=DATE:20260323
DTEND;VALUE=DATE:20260328
X-MICROSOFT-CDO-ALLDAYEVENT:TRUE
X-MICROSOFT-MSNCALENDAR-ALLDAYEVENT:TRUE
SUMMARY:SPRING BREAK
DESCRIPTION:SPRING BREAK - No school
STATUS:CONFIRMED
END:VEVENT
BEGIN:VEVENT
UID:64c237bd-8cfc-44de-8990-07b4eea9bf90
SEQUENCE:0
DTSTAMP:20260422T195049Z
DTSTART;VALUE=DATE:20250901
X-MICROSOFT-CDO-ALLDAYEVENT:TRUE
X-MICROSOFT-MSNCALENDAR-ALLDAYEVENT:TRUE
SUMMARY:Labor Day Holiday Break
DESCRIPTION:Labor Day Holiday Break - No school
STATUS:CONFIRMED
END:VEVENT
BEGIN:VEVENT
UID:a77f5496-5c0f-457a-b72a-aaa7cbad8727
SEQUENCE:0
DTSTAMP:20260422T195049Z
DTSTART;VALUE=DATE:20251024
X-MICROSOFT-CDO-ALLDAYEVENT:TRUE
X-MICROSOFT-MSNCALENDAR-ALLDAYEVENT:TRUE
SUMMARY:Mid Fall Break
DESCRIPTION:Mid Fall Break - No school
STATUS:CONFIRMED
END:VEVENT
BEGIN:VEVENT
UID:f72f7ed9-208a-4685-b668-6d672955623c
SEQUENCE:0
DTSTAMP:20260422T195049Z
DTSTART;VALUE=DATE:20260119
X-MICROSOFT-CDO-ALLDAYEVENT:TRUE
X-MICROSOFT-MSNCALENDAR-ALLDAYEVENT:TRUE
SUMMARY:MLK DAY Holiday Break
DESCRIPTION:MLK DAY Holiday Break - No school
STATUS:CONFIRMED
END:VEVENT
BEGIN:VEVENT
UID:d0bd9f2e-a8a8-4e27-8122-fb5966690009
SEQUENCE:0
DTSTAMP:20260422T195049Z
DTSTART;VALUE=DATE:20260216
X-MICROSOFT-CDO-ALLDAYEVENT:TRUE
X-MICROSOFT-MSNCALENDAR-ALLDAYEVENT:TRUE
SUMMARY:Presidents Day Holiday Break
DESCRIPTION:Presidents Day Holiday Break - No school
STATUS:CONFIRMED
END:VEVENT
BEGIN:VEVENT
UID:9196208f-ec33-428b-bcaf-1a6eee0b0bcf
SEQUENCE:0
DTSTAMP:20260422T195049Z
DTSTART;VALUE=DATE:20260403
X-MICROSOFT-CDO-ALLDAYEVENT:TRUE
X-MICROSOFT-MSNCALENDAR-ALLDAYEVENT:TRUE
SUMMARY:NO SCHOOL
DESCRIPTION:NO SCHOOL - No school
STATUS:CONFIRMED
END:VEVENT
BEGIN:VEVENT
UID:8998b2e1-05ef-4021-99e4-69baa2ffa62a
SEQUENCE:0
DTSTAMP:20260422T195049Z
DTSTART;VALUE=DATE:20260525
X-MICROSOFT-CDO-ALLDAYEVENT:TRUE
X-MICROSOFT-MSNCALENDAR-ALLDAYEVENT:TRUE
SUMMARY:MEMORIAL DAY Holiday Break
DESCRIPTION:MEMORIAL DAY Holiday Break - No school
STATUS:CONFIRMED
END:VEVENT
END:VCALENDAR