BEGIN:VCALENDAR
VERSION:2.0
PRODID:-//SchoolCalendarAPI//school-calendar//EN
URL:https://api.schools-calendar.com/calendar?district_id=mi-trenton-publi
 c-schools&year=2025-26
NAME:Trenton Public Schools School Calendar 2025-26
X-WR-CALNAME:Trenton Public Schools School Calendar 2025-26
X-WR-CALDESC:Official school calendar for Trenton Public Schools for the 2
 025-26 school year.
REFRESH-INTERVAL;VALUE=DURATION:P1D
X-PUBLISHED-TTL:P1D
BEGIN:VEVENT
UID:4b994359-9b8b-417c-8b23-c19b4a8065b9
SEQUENCE:0
DTSTAMP:20260422T195237Z
DTSTART;VALUE=DATE:20250904
X-MICROSOFT-CDO-ALLDAYEVENT:TRUE
X-MICROSOFT-MSNCALENDAR-ALLDAYEVENT:TRUE
SUMMARY:First Day of School
DESCRIPTION:First day of the 2025-26 school year
STATUS:CONFIRMED
END:VEVENT
BEGIN:VEVENT
UID:8592ee1a-782e-4d7b-a10b-2b776d72a3de
SEQUENCE:0
DTSTAMP:20260422T195237Z
DTSTART;VALUE=DATE:20260623
X-MICROSOFT-CDO-ALLDAYEVENT:TRUE
X-MICROSOFT-MSNCALENDAR-ALLDAYEVENT:TRUE
SUMMARY:Last Day of School
DESCRIPTION:Last day of the 2025-26 school year
STATUS:CONFIRMED
END:VEVENT
BEGIN:VEVENT
UID:8c2cfee3-a44c-4083-90f9-c85e5adee03e
SEQUENCE:0
DTSTAMP:20260422T195237Z
DTSTART;VALUE=DATE:20251127
DTEND;VALUE=DATE:20251129
X-MICROSOFT-CDO-ALLDAYEVENT:TRUE
X-MICROSOFT-MSNCALENDAR-ALLDAYEVENT:TRUE
SUMMARY:Thanksgiving Break
DESCRIPTION:Thanksgiving Break - No school
STATUS:CONFIRMED
END:VEVENT
BEGIN:VEVENT
UID:67cbb53a-155c-4c3f-8cf1-2738570669ed
SEQUENCE:0
DTSTAMP:20260422T195237Z
DTSTART;VALUE=DATE:20251222
DTEND;VALUE=DATE:20260103
X-MICROSOFT-CDO-ALLDAYEVENT:TRUE
X-MICROSOFT-MSNCALENDAR-ALLDAYEVENT:TRUE
SUMMARY:Winter Break
DESCRIPTION:Winter Break - No school
STATUS:CONFIRMED
END:VEVENT
BEGIN:VEVENT
UID:e0afa1f8-f806-41e5-84e9-0daa77474105
SEQUENCE:0
DTSTAMP:20260422T195237Z
DTSTART;VALUE=DATE:20260403
DTEND;VALUE=DATE:20260411
X-MICROSOFT-CDO-ALLDAYEVENT:TRUE
X-MICROSOFT-MSNCALENDAR-ALLDAYEVENT:TRUE
SUMMARY:Spring Break
DESCRIPTION:Spring Break - No school
STATUS:CONFIRMED
END:VEVENT
BEGIN:VEVENT
UID:21e47996-72c2-40ae-b6d2-6741773d717a
SEQUENCE:0
DTSTAMP:20260422T195237Z
DTSTART;VALUE=DATE:20250901
X-MICROSOFT-CDO-ALLDAYEVENT:TRUE
X-MICROSOFT-MSNCALENDAR-ALLDAYEVENT:TRUE
SUMMARY:Labor Day
DESCRIPTION:Labor Day - No school
STATUS:CONFIRMED
END:VEVENT
BEGIN:VEVENT
UID:5912d959-55ad-46f5-8c1a-17c4468b4fc9
SEQUENCE:0
DTSTAMP:20260422T195237Z
DTSTART;VALUE=DATE:20251104
X-MICROSOFT-CDO-ALLDAYEVENT:TRUE
X-MICROSOFT-MSNCALENDAR-ALLDAYEVENT:TRUE
SUMMARY:Election Day
DESCRIPTION:Election Day - No school
STATUS:CONFIRMED
END:VEVENT
BEGIN:VEVENT
UID:337197ad-97cb-4ea8-9049-c07d9a5375ae
SEQUENCE:0
DTSTAMP:20260422T195237Z
DTSTART;VALUE=DATE:20251105
X-MICROSOFT-CDO-ALLDAYEVENT:TRUE
X-MICROSOFT-MSNCALENDAR-ALLDAYEVENT:TRUE
SUMMARY:Veterans Day (observance)
DESCRIPTION:Veterans Day (observance) - No school
STATUS:CONFIRMED
END:VEVENT
BEGIN:VEVENT
UID:feb1a375-4a06-4121-b003-41b1c6d0de27
SEQUENCE:0
DTSTAMP:20260422T195237Z
DTSTART;VALUE=DATE:20251106
X-MICROSOFT-CDO-ALLDAYEVENT:TRUE
X-MICROSOFT-MSNCALENDAR-ALLDAYEVENT:TRUE
SUMMARY:NJEA Convention
DESCRIPTION:NJEA Convention - No school
STATUS:CONFIRMED
END:VEVENT
BEGIN:VEVENT
UID:f5e93ae4-113b-43e7-bbd3-a3cbfedd540d
SEQUENCE:0
DTSTAMP:20260422T195237Z
DTSTART;VALUE=DATE:20251107
X-MICROSOFT-CDO-ALLDAYEVENT:TRUE
X-MICROSOFT-MSNCALENDAR-ALLDAYEVENT:TRUE
SUMMARY:NJEA Convention
DESCRIPTION:NJEA Convention - No school
STATUS:CONFIRMED
END:VEVENT
BEGIN:VEVENT
UID:38bb5fa4-7b54-4aa5-88d1-3aefabf67477
SEQUENCE:0
DTSTAMP:20260422T195237Z
DTSTART;VALUE=DATE:20260119
X-MICROSOFT-CDO-ALLDAYEVENT:TRUE
X-MICROSOFT-MSNCALENDAR-ALLDAYEVENT:TRUE
SUMMARY:Dr. Martin Luther King Jr. Day
DESCRIPTION:Dr. Martin Luther King Jr. Day - No school
STATUS:CONFIRMED
END:VEVENT
BEGIN:VEVENT
UID:b8c4acd2-b00a-4e93-bde6-f3183daeb21b
SEQUENCE:0
DTSTAMP:20260422T195237Z
DTSTART;VALUE=DATE:20260216
X-MICROSOFT-CDO-ALLDAYEVENT:TRUE
X-MICROSOFT-MSNCALENDAR-ALLDAYEVENT:TRUE
SUMMARY:Emergency Closing Day #2
DESCRIPTION:Emergency Closing Day #2 - No school
STATUS:CONFIRMED
END:VEVENT
BEGIN:VEVENT
UID:e859af90-ba41-4663-85e1-2a2f1759bd39
SEQUENCE:0
DTSTAMP:20260422T195237Z
DTSTART;VALUE=DATE:20260403
X-MICROSOFT-CDO-ALLDAYEVENT:TRUE
X-MICROSOFT-MSNCALENDAR-ALLDAYEVENT:TRUE
SUMMARY:Good Friday
DESCRIPTION:Good Friday - No school
STATUS:CONFIRMED
END:VEVENT
BEGIN:VEVENT
UID:7788a512-0c7e-476d-9db8-002487cc0052
SEQUENCE:0
DTSTAMP:20260422T195237Z
DTSTART;VALUE=DATE:20260522
X-MICROSOFT-CDO-ALLDAYEVENT:TRUE
X-MICROSOFT-MSNCALENDAR-ALLDAYEVENT:TRUE
SUMMARY:Emergency Closing Day #1
DESCRIPTION:Emergency Closing Day #1 - No school
STATUS:CONFIRMED
END:VEVENT
BEGIN:VEVENT
UID:3d5a6986-7ebf-40f4-8fd7-188d946a2634
SEQUENCE:0
DTSTAMP:20260422T195237Z
DTSTART;VALUE=DATE:20260525
X-MICROSOFT-CDO-ALLDAYEVENT:TRUE
X-MICROSOFT-MSNCALENDAR-ALLDAYEVENT:TRUE
SUMMARY:Memorial Day
DESCRIPTION:Memorial Day - No school
STATUS:CONFIRMED
END:VEVENT
BEGIN:VEVENT
UID:30a4770c-58c7-4c82-a56b-1d46eacf2db8
SEQUENCE:0
DTSTAMP:20260422T195237Z
DTSTART;VALUE=DATE:20260602
X-MICROSOFT-CDO-ALLDAYEVENT:TRUE
X-MICROSOFT-MSNCALENDAR-ALLDAYEVENT:TRUE
SUMMARY:Emergency Closing Day #3 (NJ Primary)
DESCRIPTION:Emergency Closing Day #3 (NJ Primary) - No school
STATUS:CONFIRMED
END:VEVENT
BEGIN:VEVENT
UID:15be7c58-cbf0-4cc3-849b-c4b16cdc428e
SEQUENCE:0
DTSTAMP:20260422T195237Z
DTSTART;VALUE=DATE:20260619
X-MICROSOFT-CDO-ALLDAYEVENT:TRUE
X-MICROSOFT-MSNCALENDAR-ALLDAYEVENT:TRUE
SUMMARY:Juneteenth
DESCRIPTION:Juneteenth - No school
STATUS:CONFIRMED
END:VEVENT
BEGIN:VEVENT
UID:2b8ea723-6617-4299-b6d8-247927997e8a
SEQUENCE:0
DTSTAMP:20260422T195237Z
DTSTART;VALUE=DATE:20260703
X-MICROSOFT-CDO-ALLDAYEVENT:TRUE
X-MICROSOFT-MSNCALENDAR-ALLDAYEVENT:TRUE
SUMMARY:Independence Day (observance)
DESCRIPTION:Independence Day (observance) - No school
STATUS:CONFIRMED
END:VEVENT
END:VCALENDAR