BEGIN:VCALENDAR
VERSION:2.0
PRODID:-//SchoolCalendarAPI//school-calendar//EN
URL:https://api.schools-calendar.com/calendar?district_id=mi-ypsilanti-com
 munity-schools&year=2025-26
NAME:Ypsilanti Community Schools School Calendar 2025-26
X-WR-CALNAME:Ypsilanti Community Schools School Calendar 2025-26
X-WR-CALDESC:Official school calendar for Ypsilanti Community Schools for 
 the 2025-26 school year.
REFRESH-INTERVAL;VALUE=DURATION:P1D
X-PUBLISHED-TTL:P1D
BEGIN:VEVENT
UID:552bf8d5-73b2-4129-85f7-e947801a5c92
SEQUENCE:0
DTSTAMP:20260422T195900Z
DTSTART;VALUE=DATE:20250825
X-MICROSOFT-CDO-ALLDAYEVENT:TRUE
X-MICROSOFT-MSNCALENDAR-ALLDAYEVENT:TRUE
SUMMARY:First Day of School
DESCRIPTION:First day of the 2025-26 school year
STATUS:CONFIRMED
END:VEVENT
BEGIN:VEVENT
UID:9cf5e9be-181f-4804-8e55-b89658002955
SEQUENCE:0
DTSTAMP:20260422T195900Z
DTSTART;VALUE=DATE:20260605
X-MICROSOFT-CDO-ALLDAYEVENT:TRUE
X-MICROSOFT-MSNCALENDAR-ALLDAYEVENT:TRUE
SUMMARY:Last Day of School
DESCRIPTION:Last day of the 2025-26 school year
STATUS:CONFIRMED
END:VEVENT
BEGIN:VEVENT
UID:3357bc62-8607-4a4a-8133-d99fca6d0c09
SEQUENCE:0
DTSTAMP:20260422T195900Z
DTSTART;VALUE=DATE:20251031
DTEND;VALUE=DATE:20251104
X-MICROSOFT-CDO-ALLDAYEVENT:TRUE
X-MICROSOFT-MSNCALENDAR-ALLDAYEVENT:TRUE
SUMMARY:Fall Break
DESCRIPTION:Fall Break - No school
STATUS:CONFIRMED
END:VEVENT
BEGIN:VEVENT
UID:afbfb6ef-2bbc-4af8-b57f-e9418f44787e
SEQUENCE:0
DTSTAMP:20260422T195900Z
DTSTART;VALUE=DATE:20251127
DTEND;VALUE=DATE:20251129
X-MICROSOFT-CDO-ALLDAYEVENT:TRUE
X-MICROSOFT-MSNCALENDAR-ALLDAYEVENT:TRUE
SUMMARY:Thanksgiving Break
DESCRIPTION:Thanksgiving Break - No school
STATUS:CONFIRMED
END:VEVENT
BEGIN:VEVENT
UID:a8fef90a-1918-43b9-9894-02483a21acd3
SEQUENCE:0
DTSTAMP:20260422T195900Z
DTSTART;VALUE=DATE:20251222
DTEND;VALUE=DATE:20260103
X-MICROSOFT-CDO-ALLDAYEVENT:TRUE
X-MICROSOFT-MSNCALENDAR-ALLDAYEVENT:TRUE
SUMMARY:Winter Break
DESCRIPTION:Winter Break - No school
STATUS:CONFIRMED
END:VEVENT
BEGIN:VEVENT
UID:2a3da34a-9875-404a-b97f-1f1f3078b9b3
SEQUENCE:0
DTSTAMP:20260422T195900Z
DTSTART;VALUE=DATE:20260213
DTEND;VALUE=DATE:20260217
X-MICROSOFT-CDO-ALLDAYEVENT:TRUE
X-MICROSOFT-MSNCALENDAR-ALLDAYEVENT:TRUE
SUMMARY:Mid-Winter Break
DESCRIPTION:Mid-Winter Break - No school
STATUS:CONFIRMED
END:VEVENT
BEGIN:VEVENT
UID:0ad35cc9-3d47-4810-9ee1-13206e8257c5
SEQUENCE:0
DTSTAMP:20260422T195900Z
DTSTART;VALUE=DATE:20260330
DTEND;VALUE=DATE:20260404
X-MICROSOFT-CDO-ALLDAYEVENT:TRUE
X-MICROSOFT-MSNCALENDAR-ALLDAYEVENT:TRUE
SUMMARY:Spring Break
DESCRIPTION:Spring Break - No school
STATUS:CONFIRMED
END:VEVENT
BEGIN:VEVENT
UID:e6491e23-c499-4e40-a411-72d92ce1e7c4
SEQUENCE:0
DTSTAMP:20260422T195900Z
DTSTART;VALUE=DATE:20250829
X-MICROSOFT-CDO-ALLDAYEVENT:TRUE
X-MICROSOFT-MSNCALENDAR-ALLDAYEVENT:TRUE
SUMMARY:No School Students/Staff
DESCRIPTION:No School Students/Staff - No school
STATUS:CONFIRMED
END:VEVENT
BEGIN:VEVENT
UID:af15c064-3550-43e8-9bef-50c1dae32c56
SEQUENCE:0
DTSTAMP:20260422T195900Z
DTSTART;VALUE=DATE:20250901
X-MICROSOFT-CDO-ALLDAYEVENT:TRUE
X-MICROSOFT-MSNCALENDAR-ALLDAYEVENT:TRUE
SUMMARY:No School Students/Staff
DESCRIPTION:No School Students/Staff - No school
STATUS:CONFIRMED
END:VEVENT
BEGIN:VEVENT
UID:d83bc83b-9c73-4893-bb51-5a1a709da85d
SEQUENCE:0
DTSTAMP:20260422T195900Z
DTSTART;VALUE=DATE:20251031
X-MICROSOFT-CDO-ALLDAYEVENT:TRUE
X-MICROSOFT-MSNCALENDAR-ALLDAYEVENT:TRUE
SUMMARY:No School Students/Staff - Fall Break
DESCRIPTION:No School Students/Staff - Fall Break - No school
STATUS:CONFIRMED
END:VEVENT
BEGIN:VEVENT
UID:dd0d8a78-e143-4452-be37-d892e411db7e
SEQUENCE:0
DTSTAMP:20260422T195900Z
DTSTART;VALUE=DATE:20251103
X-MICROSOFT-CDO-ALLDAYEVENT:TRUE
X-MICROSOFT-MSNCALENDAR-ALLDAYEVENT:TRUE
SUMMARY:No School Students/Staff - Fall Break
DESCRIPTION:No School Students/Staff - Fall Break - No school
STATUS:CONFIRMED
END:VEVENT
BEGIN:VEVENT
UID:bfd8f526-1c38-488f-adf7-0d6d794fe54a
SEQUENCE:0
DTSTAMP:20260422T195900Z
DTSTART;VALUE=DATE:20251104
X-MICROSOFT-CDO-ALLDAYEVENT:TRUE
X-MICROSOFT-MSNCALENDAR-ALLDAYEVENT:TRUE
SUMMARY:No School - Election Day/Prof. Development
DESCRIPTION:No School - Election Day/Prof. Development - No school
STATUS:CONFIRMED
END:VEVENT
BEGIN:VEVENT
UID:c25ca203-7ee4-4f6c-9217-6d4b343e95d7
SEQUENCE:0
DTSTAMP:20260422T195900Z
DTSTART;VALUE=DATE:20251126
X-MICROSOFT-CDO-ALLDAYEVENT:TRUE
X-MICROSOFT-MSNCALENDAR-ALLDAYEVENT:TRUE
SUMMARY:No School Student/Staff - Teacher Comp. Day
DESCRIPTION:No School Student/Staff - Teacher Comp. Day - No school
STATUS:CONFIRMED
END:VEVENT
BEGIN:VEVENT
UID:542ec8d4-f95c-48eb-8763-dda8cad8da6e
SEQUENCE:0
DTSTAMP:20260422T195900Z
DTSTART;VALUE=DATE:20251127
X-MICROSOFT-CDO-ALLDAYEVENT:TRUE
X-MICROSOFT-MSNCALENDAR-ALLDAYEVENT:TRUE
SUMMARY:No School Students/Staff - Thanksgiving
DESCRIPTION:No School Students/Staff - Thanksgiving - No school
STATUS:CONFIRMED
END:VEVENT
BEGIN:VEVENT
UID:cd0fafd6-74d9-45f2-a784-8d7848e58605
SEQUENCE:0
DTSTAMP:20260422T195900Z
DTSTART;VALUE=DATE:20251128
X-MICROSOFT-CDO-ALLDAYEVENT:TRUE
X-MICROSOFT-MSNCALENDAR-ALLDAYEVENT:TRUE
SUMMARY:No School Students/Staff - Thanksgiving
DESCRIPTION:No School Students/Staff - Thanksgiving - No school
STATUS:CONFIRMED
END:VEVENT
BEGIN:VEVENT
UID:95bf3129-8294-4dc1-901b-26802e396a4c
SEQUENCE:0
DTSTAMP:20260422T195900Z
DTSTART;VALUE=DATE:20260119
X-MICROSOFT-CDO-ALLDAYEVENT:TRUE
X-MICROSOFT-MSNCALENDAR-ALLDAYEVENT:TRUE
SUMMARY:No School Students/Staff - MLK Day
DESCRIPTION:No School Students/Staff - MLK Day - No school
STATUS:CONFIRMED
END:VEVENT
BEGIN:VEVENT
UID:29818d03-5e57-407f-b962-0e580d97fe10
SEQUENCE:0
DTSTAMP:20260422T195900Z
DTSTART;VALUE=DATE:20260212
X-MICROSOFT-CDO-ALLDAYEVENT:TRUE
X-MICROSOFT-MSNCALENDAR-ALLDAYEVENT:TRUE
SUMMARY:No School - Professional Development
DESCRIPTION:No School - Professional Development - No school
STATUS:CONFIRMED
END:VEVENT
BEGIN:VEVENT
UID:29b703a5-a4b4-40dd-b750-d8fd4b9c29b5
SEQUENCE:0
DTSTAMP:20260422T195900Z
DTSTART;VALUE=DATE:20260213
X-MICROSOFT-CDO-ALLDAYEVENT:TRUE
X-MICROSOFT-MSNCALENDAR-ALLDAYEVENT:TRUE
SUMMARY:No School Students/Staff - Mid-Winter Break
DESCRIPTION:No School Students/Staff - Mid-Winter Break - No school
STATUS:CONFIRMED
END:VEVENT
BEGIN:VEVENT
UID:7f032da6-b1c8-4c8e-a43c-08e1d5e6a5d6
SEQUENCE:0
DTSTAMP:20260422T195900Z
DTSTART;VALUE=DATE:20260216
X-MICROSOFT-CDO-ALLDAYEVENT:TRUE
X-MICROSOFT-MSNCALENDAR-ALLDAYEVENT:TRUE
SUMMARY:No School Students/Staff - Mid-Winter Break
DESCRIPTION:No School Students/Staff - Mid-Winter Break - No school
STATUS:CONFIRMED
END:VEVENT
BEGIN:VEVENT
UID:848a2e3e-2687-4fb4-973d-7952f979dc79
SEQUENCE:0
DTSTAMP:20260422T195900Z
DTSTART;VALUE=DATE:20260406
X-MICROSOFT-CDO-ALLDAYEVENT:TRUE
X-MICROSOFT-MSNCALENDAR-ALLDAYEVENT:TRUE
SUMMARY:No School Students/Staff - Teacher Comp. Day
DESCRIPTION:No School Students/Staff - Teacher Comp. Day - No school
STATUS:CONFIRMED
END:VEVENT
BEGIN:VEVENT
UID:889e60c6-7d1f-4c4f-bc5c-1ff2833761eb
SEQUENCE:0
DTSTAMP:20260422T195900Z
DTSTART;VALUE=DATE:20260525
X-MICROSOFT-CDO-ALLDAYEVENT:TRUE
X-MICROSOFT-MSNCALENDAR-ALLDAYEVENT:TRUE
SUMMARY:No School Students/Staff - Memorial Day
DESCRIPTION:No School Students/Staff - Memorial Day - No school
STATUS:CONFIRMED
END:VEVENT
END:VCALENDAR