BEGIN:VCALENDAR
VERSION:2.0
PRODID:-//SchoolCalendarAPI//school-calendar//EN
URL:https://api.schools-calendar.com/calendar?district_id=mn-alexandria-pu
 blic-school-district&year=2025-26
NAME:Alexandria Public School District School Calendar 2025-26
X-WR-CALNAME:Alexandria Public School District School Calendar 2025-26
X-WR-CALDESC:Official school calendar for Alexandria Public School Distric
 t for the 2025-26 school year.
REFRESH-INTERVAL;VALUE=DURATION:P1D
X-PUBLISHED-TTL:P1D
BEGIN:VEVENT
UID:1d23a8c6-f334-4c48-9a48-e3b8a29176e1
SEQUENCE:0
DTSTAMP:20260424T201047Z
DTSTART;VALUE=DATE:20250818
X-MICROSOFT-CDO-ALLDAYEVENT:TRUE
X-MICROSOFT-MSNCALENDAR-ALLDAYEVENT:TRUE
SUMMARY:First Day of School
DESCRIPTION:First day of the 2025-26 school year
STATUS:CONFIRMED
END:VEVENT
BEGIN:VEVENT
UID:720fb8c3-a05c-48b2-89c0-2fd308a7b5ad
SEQUENCE:0
DTSTAMP:20260424T201047Z
DTSTART;VALUE=DATE:20260612
X-MICROSOFT-CDO-ALLDAYEVENT:TRUE
X-MICROSOFT-MSNCALENDAR-ALLDAYEVENT:TRUE
SUMMARY:Last Day of School
DESCRIPTION:Last day of the 2025-26 school year
STATUS:CONFIRMED
END:VEVENT
BEGIN:VEVENT
UID:8b0a2810-22ff-47be-a179-3d32f88c81d9
SEQUENCE:0
DTSTAMP:20260424T201047Z
DTSTART;VALUE=DATE:20251126
DTEND;VALUE=DATE:20251129
X-MICROSOFT-CDO-ALLDAYEVENT:TRUE
X-MICROSOFT-MSNCALENDAR-ALLDAYEVENT:TRUE
SUMMARY:Receso de otoño/Día de Acción de Gracias
DESCRIPTION:Receso de otoño/Día de Acción de Gracias - No school
STATUS:CONFIRMED
END:VEVENT
BEGIN:VEVENT
UID:41087258-7c19-494f-a32e-6f6c98273dd7
SEQUENCE:0
DTSTAMP:20260424T201047Z
DTSTART;VALUE=DATE:20260101
DTEND;VALUE=DATE:20260103
X-MICROSOFT-CDO-ALLDAYEVENT:TRUE
X-MICROSOFT-MSNCALENDAR-ALLDAYEVENT:TRUE
SUMMARY:Vacaciones de invierno
DESCRIPTION:Vacaciones de invierno - No school
STATUS:CONFIRMED
END:VEVENT
BEGIN:VEVENT
UID:57b48f2b-c9b3-4522-a23c-0b6888bcec4b
SEQUENCE:0
DTSTAMP:20260424T201047Z
DTSTART;VALUE=DATE:20260401
DTEND;VALUE=DATE:20260404
X-MICROSOFT-CDO-ALLDAYEVENT:TRUE
X-MICROSOFT-MSNCALENDAR-ALLDAYEVENT:TRUE
SUMMARY:Vacaciones de primavera
DESCRIPTION:Vacaciones de primavera - No school
STATUS:CONFIRMED
END:VEVENT
BEGIN:VEVENT
UID:fb89cfba-be5d-4c77-92c4-452a36480032
SEQUENCE:0
DTSTAMP:20260424T201047Z
DTSTART;VALUE=DATE:20250829
X-MICROSOFT-CDO-ALLDAYEVENT:TRUE
X-MICROSOFT-MSNCALENDAR-ALLDAYEVENT:TRUE
SUMMARY:Día del Trabajo
DESCRIPTION:Día del Trabajo - No school
STATUS:CONFIRMED
END:VEVENT
BEGIN:VEVENT
UID:0e1556b4-8a25-448a-9e6d-173df00c0bac
SEQUENCE:0
DTSTAMP:20260424T201047Z
DTSTART;VALUE=DATE:20250901
X-MICROSOFT-CDO-ALLDAYEVENT:TRUE
X-MICROSOFT-MSNCALENDAR-ALLDAYEVENT:TRUE
SUMMARY:Día del Trabajo
DESCRIPTION:Día del Trabajo - No school
STATUS:CONFIRMED
END:VEVENT
BEGIN:VEVENT
UID:cb2cad4c-7eea-4477-9aab-1df7bb75226b
SEQUENCE:0
DTSTAMP:20260424T201047Z
DTSTART;VALUE=DATE:20250923
X-MICROSOFT-CDO-ALLDAYEVENT:TRUE
X-MICROSOFT-MSNCALENDAR-ALLDAYEVENT:TRUE
SUMMARY:Rosh Hashana
DESCRIPTION:Rosh Hashana - No school
STATUS:CONFIRMED
END:VEVENT
BEGIN:VEVENT
UID:d0da9c93-c6fb-46cc-9b09-329b145d43db
SEQUENCE:0
DTSTAMP:20260424T201047Z
DTSTART;VALUE=DATE:20251002
X-MICROSOFT-CDO-ALLDAYEVENT:TRUE
X-MICROSOFT-MSNCALENDAR-ALLDAYEVENT:TRUE
SUMMARY:Yom Kippur
DESCRIPTION:Yom Kippur - No school
STATUS:CONFIRMED
END:VEVENT
BEGIN:VEVENT
UID:1b0a7008-d383-4287-8ccf-c749ff14eafa
SEQUENCE:0
DTSTAMP:20260424T201047Z
DTSTART;VALUE=DATE:20251013
X-MICROSOFT-CDO-ALLDAYEVENT:TRUE
X-MICROSOFT-MSNCALENDAR-ALLDAYEVENT:TRUE
SUMMARY:Día de los Pueblos Indígenas/Conferencias
DESCRIPTION:Día de los Pueblos Indígenas/Conferencias - No school
STATUS:CONFIRMED
END:VEVENT
BEGIN:VEVENT
UID:24c22106-6600-48a8-8eb0-f1eaf1674007
SEQUENCE:0
DTSTAMP:20260424T201047Z
DTSTART;VALUE=DATE:20251020
X-MICROSOFT-CDO-ALLDAYEVENT:TRUE
X-MICROSOFT-MSNCALENDAR-ALLDAYEVENT:TRUE
SUMMARY:Diwali
DESCRIPTION:Diwali - No school
STATUS:CONFIRMED
END:VEVENT
BEGIN:VEVENT
UID:051d80c8-cd51-4e43-ab12-7211e3c7ff5b
SEQUENCE:0
DTSTAMP:20260424T201047Z
DTSTART;VALUE=DATE:20251104
X-MICROSOFT-CDO-ALLDAYEVENT:TRUE
X-MICROSOFT-MSNCALENDAR-ALLDAYEVENT:TRUE
SUMMARY:Día de Elecciones / Día de administrativo para maestros
DESCRIPTION:Día de Elecciones / Día de administrativo para maestros - No
  school
STATUS:CONFIRMED
END:VEVENT
BEGIN:VEVENT
UID:bc449629-12c8-4dec-943b-f29a2089be12
SEQUENCE:0
DTSTAMP:20260424T201047Z
DTSTART;VALUE=DATE:20251111
X-MICROSOFT-CDO-ALLDAYEVENT:TRUE
X-MICROSOFT-MSNCALENDAR-ALLDAYEVENT:TRUE
SUMMARY:Día del Veterano
DESCRIPTION:Día del Veterano - No school
STATUS:CONFIRMED
END:VEVENT
BEGIN:VEVENT
UID:35496b3f-efe3-4243-be44-50bd9f0ce55c
SEQUENCE:0
DTSTAMP:20260424T201047Z
DTSTART;VALUE=DATE:20260119
X-MICROSOFT-CDO-ALLDAYEVENT:TRUE
X-MICROSOFT-MSNCALENDAR-ALLDAYEVENT:TRUE
SUMMARY:Día de Dr. Martin Luther King\, Jr.
DESCRIPTION:Día de Dr. Martin Luther King\, Jr. - No school
STATUS:CONFIRMED
END:VEVENT
BEGIN:VEVENT
UID:003199bc-c72a-485c-abc7-95f7442b35ab
SEQUENCE:0
DTSTAMP:20260424T201047Z
DTSTART;VALUE=DATE:20260123
X-MICROSOFT-CDO-ALLDAYEVENT:TRUE
X-MICROSOFT-MSNCALENDAR-ALLDAYEVENT:TRUE
SUMMARY:Día de formación profesional
DESCRIPTION:Día de formación profesional - No school
STATUS:CONFIRMED
END:VEVENT
BEGIN:VEVENT
UID:99d54f3e-4310-4249-a942-889ac2aa539f
SEQUENCE:0
DTSTAMP:20260424T201047Z
DTSTART;VALUE=DATE:20260126
X-MICROSOFT-CDO-ALLDAYEVENT:TRUE
X-MICROSOFT-MSNCALENDAR-ALLDAYEVENT:TRUE
SUMMARY:Día de administrativo para maestros
DESCRIPTION:Día de administrativo para maestros - No school
STATUS:CONFIRMED
END:VEVENT
BEGIN:VEVENT
UID:ef71cd52-9e94-45c2-a21b-13a1121301ab
SEQUENCE:0
DTSTAMP:20260424T201047Z
DTSTART;VALUE=DATE:20260216
X-MICROSOFT-CDO-ALLDAYEVENT:TRUE
X-MICROSOFT-MSNCALENDAR-ALLDAYEVENT:TRUE
SUMMARY:Día de los Presidentes
DESCRIPTION:Día de los Presidentes - No school
STATUS:CONFIRMED
END:VEVENT
BEGIN:VEVENT
UID:0d2709b3-b80a-48fc-8e9e-98bddb9cec49
SEQUENCE:0
DTSTAMP:20260424T201047Z
DTSTART;VALUE=DATE:20260320
X-MICROSOFT-CDO-ALLDAYEVENT:TRUE
X-MICROSOFT-MSNCALENDAR-ALLDAYEVENT:TRUE
SUMMARY:Eid al-Fitr
DESCRIPTION:Eid al-Fitr - No school
STATUS:CONFIRMED
END:VEVENT
BEGIN:VEVENT
UID:91ad3973-a435-440f-80d4-2150b0021913
SEQUENCE:0
DTSTAMP:20260424T201047Z
DTSTART;VALUE=DATE:20260406
X-MICROSOFT-CDO-ALLDAYEVENT:TRUE
X-MICROSOFT-MSNCALENDAR-ALLDAYEVENT:TRUE
SUMMARY:Día de administrativo para maestros
DESCRIPTION:Día de administrativo para maestros - No school
STATUS:CONFIRMED
END:VEVENT
BEGIN:VEVENT
UID:57b8022c-a2f0-4f81-8c3c-8a46b3da96aa
SEQUENCE:0
DTSTAMP:20260424T201047Z
DTSTART;VALUE=DATE:20260525
X-MICROSOFT-CDO-ALLDAYEVENT:TRUE
X-MICROSOFT-MSNCALENDAR-ALLDAYEVENT:TRUE
SUMMARY:Día del Recuerdo de los Caídos
DESCRIPTION:Día del Recuerdo de los Caídos - No school
STATUS:CONFIRMED
END:VEVENT
BEGIN:VEVENT
UID:4a200c83-d608-46d0-8b40-091012344dc1
SEQUENCE:0
DTSTAMP:20260424T201047Z
DTSTART;VALUE=DATE:20260526
X-MICROSOFT-CDO-ALLDAYEVENT:TRUE
X-MICROSOFT-MSNCALENDAR-ALLDAYEVENT:TRUE
SUMMARY:Día de administrativo para maestros
DESCRIPTION:Día de administrativo para maestros - No school
STATUS:CONFIRMED
END:VEVENT
BEGIN:VEVENT
UID:5f45d59c-e7de-487f-8a6a-2f6c94058c87
SEQUENCE:0
DTSTAMP:20260424T201047Z
DTSTART;VALUE=DATE:20260527
X-MICROSOFT-CDO-ALLDAYEVENT:TRUE
X-MICROSOFT-MSNCALENDAR-ALLDAYEVENT:TRUE
SUMMARY:Eid al-Adha
DESCRIPTION:Eid al-Adha - No school
STATUS:CONFIRMED
END:VEVENT
END:VCALENDAR