BEGIN:VCALENDAR
VERSION:2.0
PRODID:-//SchoolCalendarAPI//school-calendar//EN
URL:https://api.schools-calendar.com/calendar?district_id=mn-austin-public
 -school-district&year=2025-26
NAME:Austin Public School District School Calendar 2025-26
X-WR-CALNAME:Austin Public School District School Calendar 2025-26
X-WR-CALDESC:Official school calendar for Austin Public School District fo
 r the 2025-26 school year.
REFRESH-INTERVAL;VALUE=DURATION:P1D
X-PUBLISHED-TTL:P1D
BEGIN:VEVENT
UID:cbdf732d-c271-4ef8-9e38-172753816953
SEQUENCE:0
DTSTAMP:20260424T200209Z
DTSTART;VALUE=DATE:20250820
X-MICROSOFT-CDO-ALLDAYEVENT:TRUE
X-MICROSOFT-MSNCALENDAR-ALLDAYEVENT:TRUE
SUMMARY:First Day of School
DESCRIPTION:First day of the 2025-26 school year
STATUS:CONFIRMED
END:VEVENT
BEGIN:VEVENT
UID:8513b893-7da0-439b-80cb-f239bad31667
SEQUENCE:0
DTSTAMP:20260424T200209Z
DTSTART;VALUE=DATE:20260528
X-MICROSOFT-CDO-ALLDAYEVENT:TRUE
X-MICROSOFT-MSNCALENDAR-ALLDAYEVENT:TRUE
SUMMARY:Last Day of School
DESCRIPTION:Last day of the 2025-26 school year
STATUS:CONFIRMED
END:VEVENT
BEGIN:VEVENT
UID:57a88a13-fd3e-4a75-9901-8c0a05daa90c
SEQUENCE:0
DTSTAMP:20260424T200209Z
DTSTART;VALUE=DATE:20251126
DTEND;VALUE=DATE:20251129
X-MICROSOFT-CDO-ALLDAYEVENT:TRUE
X-MICROSOFT-MSNCALENDAR-ALLDAYEVENT:TRUE
SUMMARY:Thanksgiving Break
DESCRIPTION:Thanksgiving Break - No school
STATUS:CONFIRMED
END:VEVENT
BEGIN:VEVENT
UID:7be62ad2-d533-4fc6-a09a-efb5b5fa4448
SEQUENCE:0
DTSTAMP:20260424T200209Z
DTSTART;VALUE=DATE:20251222
DTEND;VALUE=DATE:20260101
X-MICROSOFT-CDO-ALLDAYEVENT:TRUE
X-MICROSOFT-MSNCALENDAR-ALLDAYEVENT:TRUE
SUMMARY:Holiday Break
DESCRIPTION:Holiday Break - No school
STATUS:CONFIRMED
END:VEVENT
BEGIN:VEVENT
UID:c1a5d10b-d9d2-48b9-867d-7d9c4d985ca8
SEQUENCE:0
DTSTAMP:20260424T200209Z
DTSTART;VALUE=DATE:20260101
DTEND;VALUE=DATE:20260103
X-MICROSOFT-CDO-ALLDAYEVENT:TRUE
X-MICROSOFT-MSNCALENDAR-ALLDAYEVENT:TRUE
SUMMARY:Winter Break
DESCRIPTION:Winter Break - No school
STATUS:CONFIRMED
END:VEVENT
BEGIN:VEVENT
UID:3d530491-91b6-47c5-aba0-5927661d3e5c
SEQUENCE:0
DTSTAMP:20260424T200209Z
DTSTART;VALUE=DATE:20260309
DTEND;VALUE=DATE:20260314
X-MICROSOFT-CDO-ALLDAYEVENT:TRUE
X-MICROSOFT-MSNCALENDAR-ALLDAYEVENT:TRUE
SUMMARY:Spring Break
DESCRIPTION:Spring Break - No school
STATUS:CONFIRMED
END:VEVENT
BEGIN:VEVENT
UID:a87c721e-2bf6-4f35-b9d9-6203159bf19a
SEQUENCE:0
DTSTAMP:20260424T200209Z
DTSTART;VALUE=DATE:20250704
X-MICROSOFT-CDO-ALLDAYEVENT:TRUE
X-MICROSOFT-MSNCALENDAR-ALLDAYEVENT:TRUE
SUMMARY:Holiday
DESCRIPTION:Holiday - No school
STATUS:CONFIRMED
END:VEVENT
BEGIN:VEVENT
UID:8606eeb7-dc5c-4f18-bd26-7242bdaa067f
SEQUENCE:0
DTSTAMP:20260424T200209Z
DTSTART;VALUE=DATE:20260101
X-MICROSOFT-CDO-ALLDAYEVENT:TRUE
X-MICROSOFT-MSNCALENDAR-ALLDAYEVENT:TRUE
SUMMARY:Holiday/No School
DESCRIPTION:Holiday/No School - No school
STATUS:CONFIRMED
END:VEVENT
BEGIN:VEVENT
UID:718a0300-4678-470d-98b4-e43660f267a1
SEQUENCE:0
DTSTAMP:20260424T200209Z
DTSTART;VALUE=DATE:20260102
X-MICROSOFT-CDO-ALLDAYEVENT:TRUE
X-MICROSOFT-MSNCALENDAR-ALLDAYEVENT:TRUE
SUMMARY:Holiday/No School
DESCRIPTION:Holiday/No School - No school
STATUS:CONFIRMED
END:VEVENT
BEGIN:VEVENT
UID:8c0b7772-eab7-42f8-9a9f-11df308599b5
SEQUENCE:0
DTSTAMP:20260424T200209Z
DTSTART;VALUE=DATE:20260216
X-MICROSOFT-CDO-ALLDAYEVENT:TRUE
X-MICROSOFT-MSNCALENDAR-ALLDAYEVENT:TRUE
SUMMARY:No School
DESCRIPTION:No School - No school
STATUS:CONFIRMED
END:VEVENT
BEGIN:VEVENT
UID:82393e1c-2d5b-4228-9e64-889e4e95c671
SEQUENCE:0
DTSTAMP:20260424T200209Z
DTSTART;VALUE=DATE:20260301
X-MICROSOFT-CDO-ALLDAYEVENT:TRUE
X-MICROSOFT-MSNCALENDAR-ALLDAYEVENT:TRUE
SUMMARY:Holiday/No School
DESCRIPTION:Holiday/No School - No school
STATUS:CONFIRMED
END:VEVENT
BEGIN:VEVENT
UID:143049bc-2273-41e3-8442-fd678100560a
SEQUENCE:0
DTSTAMP:20260424T200209Z
DTSTART;VALUE=DATE:20260403
X-MICROSOFT-CDO-ALLDAYEVENT:TRUE
X-MICROSOFT-MSNCALENDAR-ALLDAYEVENT:TRUE
SUMMARY:No School
DESCRIPTION:No School - No school
STATUS:CONFIRMED
END:VEVENT
BEGIN:VEVENT
UID:63752472-57ff-484c-b09e-3c5cfdfffc10
SEQUENCE:0
DTSTAMP:20260424T200209Z
DTSTART;VALUE=DATE:20260525
X-MICROSOFT-CDO-ALLDAYEVENT:TRUE
X-MICROSOFT-MSNCALENDAR-ALLDAYEVENT:TRUE
SUMMARY:Holiday/No School
DESCRIPTION:Holiday/No School - No school
STATUS:CONFIRMED
END:VEVENT
BEGIN:VEVENT
UID:2fe6c622-62f5-4fb8-a192-d8b4431eca57
SEQUENCE:0
DTSTAMP:20260424T200209Z
DTSTART;VALUE=DATE:20260619
X-MICROSOFT-CDO-ALLDAYEVENT:TRUE
X-MICROSOFT-MSNCALENDAR-ALLDAYEVENT:TRUE
SUMMARY:Holiday
DESCRIPTION:Holiday - No school
STATUS:CONFIRMED
END:VEVENT
END:VCALENDAR