BEGIN:VCALENDAR
VERSION:2.0
PRODID:-//SchoolCalendarAPI//school-calendar//EN
URL:https://api.schools-calendar.com/calendar?district_id=mn-blue-earth-ar
 ea-public-schools&year=2025-26
NAME:Blue Earth Area Public Schools School Calendar 2025-26
X-WR-CALNAME:Blue Earth Area Public Schools School Calendar 2025-26
X-WR-CALDESC:Official school calendar for Blue Earth Area Public Schools f
 or the 2025-26 school year.
REFRESH-INTERVAL;VALUE=DURATION:P1D
X-PUBLISHED-TTL:P1D
BEGIN:VEVENT
UID:bdec75df-9d53-47ff-9188-bc2df3025e98
SEQUENCE:0
DTSTAMP:20260424T200333Z
DTSTART;VALUE=DATE:20250825
X-MICROSOFT-CDO-ALLDAYEVENT:TRUE
X-MICROSOFT-MSNCALENDAR-ALLDAYEVENT:TRUE
SUMMARY:First Day of School
DESCRIPTION:First day of the 2025-26 school year
STATUS:CONFIRMED
END:VEVENT
BEGIN:VEVENT
UID:e60ba362-fd63-4309-b637-058aee9ef32e
SEQUENCE:0
DTSTAMP:20260424T200333Z
DTSTART;VALUE=DATE:20260527
X-MICROSOFT-CDO-ALLDAYEVENT:TRUE
X-MICROSOFT-MSNCALENDAR-ALLDAYEVENT:TRUE
SUMMARY:Last Day of School
DESCRIPTION:Last day of the 2025-26 school year
STATUS:CONFIRMED
END:VEVENT
BEGIN:VEVENT
UID:37f8456a-59b3-43b5-b6c6-0bd6a03af09a
SEQUENCE:0
DTSTAMP:20260424T200333Z
DTSTART;VALUE=DATE:20251127
DTEND;VALUE=DATE:20251129
X-MICROSOFT-CDO-ALLDAYEVENT:TRUE
X-MICROSOFT-MSNCALENDAR-ALLDAYEVENT:TRUE
SUMMARY:Thanksgiving Break
DESCRIPTION:Thanksgiving Break - No school
STATUS:CONFIRMED
END:VEVENT
BEGIN:VEVENT
UID:28af973c-03b1-465e-9871-4ea9cc9ff26f
SEQUENCE:0
DTSTAMP:20260424T200333Z
DTSTART;VALUE=DATE:20251222
DTEND;VALUE=DATE:20260103
X-MICROSOFT-CDO-ALLDAYEVENT:TRUE
X-MICROSOFT-MSNCALENDAR-ALLDAYEVENT:TRUE
SUMMARY:Winter Break
DESCRIPTION:Winter Break - No school
STATUS:CONFIRMED
END:VEVENT
BEGIN:VEVENT
UID:4b499722-31bd-49b8-bbdb-36af95c98f5b
SEQUENCE:0
DTSTAMP:20260424T200333Z
DTSTART;VALUE=DATE:20260402
DTEND;VALUE=DATE:20260407
X-MICROSOFT-CDO-ALLDAYEVENT:TRUE
X-MICROSOFT-MSNCALENDAR-ALLDAYEVENT:TRUE
SUMMARY:Spring Break
DESCRIPTION:Spring Break - No school
STATUS:CONFIRMED
END:VEVENT
BEGIN:VEVENT
UID:b22e72b8-040f-482f-b6a5-8e3d7a8dd12f
SEQUENCE:0
DTSTAMP:20260424T200333Z
DTSTART;VALUE=DATE:20250901
X-MICROSOFT-CDO-ALLDAYEVENT:TRUE
X-MICROSOFT-MSNCALENDAR-ALLDAYEVENT:TRUE
SUMMARY:Labor Day
DESCRIPTION:Labor Day - No school
STATUS:CONFIRMED
END:VEVENT
BEGIN:VEVENT
UID:b2541510-4928-4cab-aab3-d026c66e9a7e
SEQUENCE:0
DTSTAMP:20260424T200333Z
DTSTART;VALUE=DATE:20251016
X-MICROSOFT-CDO-ALLDAYEVENT:TRUE
X-MICROSOFT-MSNCALENDAR-ALLDAYEVENT:TRUE
SUMMARY:EM Convention
DESCRIPTION:EM Convention - No school
STATUS:CONFIRMED
END:VEVENT
BEGIN:VEVENT
UID:35dd7b43-5ee4-442b-a022-5b24fea15716
SEQUENCE:0
DTSTAMP:20260424T200333Z
DTSTART;VALUE=DATE:20251017
X-MICROSOFT-CDO-ALLDAYEVENT:TRUE
X-MICROSOFT-MSNCALENDAR-ALLDAYEVENT:TRUE
SUMMARY:EM Convention
DESCRIPTION:EM Convention - No school
STATUS:CONFIRMED
END:VEVENT
BEGIN:VEVENT
UID:69f18193-c62e-43fe-a08a-50d9cdd42c17
SEQUENCE:0
DTSTAMP:20260424T200333Z
DTSTART;VALUE=DATE:20251031
X-MICROSOFT-CDO-ALLDAYEVENT:TRUE
X-MICROSOFT-MSNCALENDAR-ALLDAYEVENT:TRUE
SUMMARY:Teacher Workday
DESCRIPTION:Teacher Workday - No school
STATUS:CONFIRMED
END:VEVENT
BEGIN:VEVENT
UID:589b5553-411d-463a-876d-f966de9c4035
SEQUENCE:0
DTSTAMP:20260424T200333Z
DTSTART;VALUE=DATE:20251126
X-MICROSOFT-CDO-ALLDAYEVENT:TRUE
X-MICROSOFT-MSNCALENDAR-ALLDAYEVENT:TRUE
SUMMARY:Teacher Comp Day
DESCRIPTION:Teacher Comp Day - No school
STATUS:CONFIRMED
END:VEVENT
BEGIN:VEVENT
UID:7b8e061e-4dbc-4576-8b10-94d9864fd085
SEQUENCE:0
DTSTAMP:20260424T200333Z
DTSTART;VALUE=DATE:20260119
X-MICROSOFT-CDO-ALLDAYEVENT:TRUE
X-MICROSOFT-MSNCALENDAR-ALLDAYEVENT:TRUE
SUMMARY:Teacher Workday
DESCRIPTION:Teacher Workday - No school
STATUS:CONFIRMED
END:VEVENT
BEGIN:VEVENT
UID:41b3e143-11a4-4b27-b4dc-3bd367f93d87
SEQUENCE:0
DTSTAMP:20260424T200333Z
DTSTART;VALUE=DATE:20260216
X-MICROSOFT-CDO-ALLDAYEVENT:TRUE
X-MICROSOFT-MSNCALENDAR-ALLDAYEVENT:TRUE
SUMMARY:Teacher Comp Day
DESCRIPTION:Teacher Comp Day - No school
STATUS:CONFIRMED
END:VEVENT
BEGIN:VEVENT
UID:0ad50d71-5246-4d2b-91f9-b375ff1716d4
SEQUENCE:0
DTSTAMP:20260424T200333Z
DTSTART;VALUE=DATE:20260323
X-MICROSOFT-CDO-ALLDAYEVENT:TRUE
X-MICROSOFT-MSNCALENDAR-ALLDAYEVENT:TRUE
SUMMARY:Teacher Workday
DESCRIPTION:Teacher Workday - No school
STATUS:CONFIRMED
END:VEVENT
BEGIN:VEVENT
UID:6727c424-7ac0-4033-be6f-ee5889b34d33
SEQUENCE:0
DTSTAMP:20260424T200333Z
DTSTART;VALUE=DATE:20260525
X-MICROSOFT-CDO-ALLDAYEVENT:TRUE
X-MICROSOFT-MSNCALENDAR-ALLDAYEVENT:TRUE
SUMMARY:Memorial Day
DESCRIPTION:Memorial Day - No school
STATUS:CONFIRMED
END:VEVENT
BEGIN:VEVENT
UID:1a7d9427-6d3d-4d34-a28b-f567e9495668
SEQUENCE:0
DTSTAMP:20260424T200333Z
DTSTART;VALUE=DATE:20260528
X-MICROSOFT-CDO-ALLDAYEVENT:TRUE
X-MICROSOFT-MSNCALENDAR-ALLDAYEVENT:TRUE
SUMMARY:Teacher Workday
DESCRIPTION:Teacher Workday - No school
STATUS:CONFIRMED
END:VEVENT
BEGIN:VEVENT
UID:c5ed0c3b-f545-43af-a956-17734f3f10e0
SEQUENCE:0
DTSTAMP:20260424T200333Z
DTSTART;VALUE=DATE:20260529
X-MICROSOFT-CDO-ALLDAYEVENT:TRUE
X-MICROSOFT-MSNCALENDAR-ALLDAYEVENT:TRUE
SUMMARY:Teacher Workday
DESCRIPTION:Teacher Workday - No school
STATUS:CONFIRMED
END:VEVENT
END:VCALENDAR