BEGIN:VCALENDAR
VERSION:2.0
PRODID:-//SchoolCalendarAPI//school-calendar//EN
URL:https://api.schools-calendar.com/calendar?district_id=mn-crosby-ironto
 n-public-school-district&year=2025-26
NAME:Crosby-Ironton Public School District School Calendar 2025-26
X-WR-CALNAME:Crosby-Ironton Public School District School Calendar 2025-26
X-WR-CALDESC:Official school calendar for Crosby-Ironton Public School Dis
 trict for the 2025-26 school year.
REFRESH-INTERVAL;VALUE=DURATION:P1D
X-PUBLISHED-TTL:P1D
BEGIN:VEVENT
UID:d61de82d-96dc-45b1-aeb6-5fda12b918c9
SEQUENCE:0
DTSTAMP:20260424T201648Z
DTSTART;VALUE=DATE:20250902
X-MICROSOFT-CDO-ALLDAYEVENT:TRUE
X-MICROSOFT-MSNCALENDAR-ALLDAYEVENT:TRUE
SUMMARY:First Day of School
DESCRIPTION:First day of the 2025-26 school year
STATUS:CONFIRMED
END:VEVENT
BEGIN:VEVENT
UID:ae42bd0c-9e3a-4f13-819a-1fbbefd823e6
SEQUENCE:0
DTSTAMP:20260424T201648Z
DTSTART;VALUE=DATE:20260529
X-MICROSOFT-CDO-ALLDAYEVENT:TRUE
X-MICROSOFT-MSNCALENDAR-ALLDAYEVENT:TRUE
SUMMARY:Last Day of School
DESCRIPTION:Last day of the 2025-26 school year
STATUS:CONFIRMED
END:VEVENT
BEGIN:VEVENT
UID:f3c87913-e1b6-4f9d-9622-743f422cf5da
SEQUENCE:0
DTSTAMP:20260424T201648Z
DTSTART;VALUE=DATE:20251127
DTEND;VALUE=DATE:20251129
X-MICROSOFT-CDO-ALLDAYEVENT:TRUE
X-MICROSOFT-MSNCALENDAR-ALLDAYEVENT:TRUE
SUMMARY:Thanksgiving Break
DESCRIPTION:Thanksgiving Break - No school
STATUS:CONFIRMED
END:VEVENT
BEGIN:VEVENT
UID:570e9c16-87c0-4e47-9624-d4788cbc573c
SEQUENCE:0
DTSTAMP:20260424T201648Z
DTSTART;VALUE=DATE:20251222
DTEND;VALUE=DATE:20260105
X-MICROSOFT-CDO-ALLDAYEVENT:TRUE
X-MICROSOFT-MSNCALENDAR-ALLDAYEVENT:TRUE
SUMMARY:Winter Break
DESCRIPTION:Winter Break - No school
STATUS:CONFIRMED
END:VEVENT
BEGIN:VEVENT
UID:31aecb1e-4185-4a46-bd70-3c786d1af040
SEQUENCE:0
DTSTAMP:20260424T201648Z
DTSTART;VALUE=DATE:20260406
DTEND;VALUE=DATE:20260411
X-MICROSOFT-CDO-ALLDAYEVENT:TRUE
X-MICROSOFT-MSNCALENDAR-ALLDAYEVENT:TRUE
SUMMARY:Spring Break
DESCRIPTION:Spring Break - No school
STATUS:CONFIRMED
END:VEVENT
BEGIN:VEVENT
UID:b8770a0e-fa9a-4c3c-9bdf-02f3f3ee7cc6
SEQUENCE:0
DTSTAMP:20260424T201648Z
DTSTART;VALUE=DATE:20250901
X-MICROSOFT-CDO-ALLDAYEVENT:TRUE
X-MICROSOFT-MSNCALENDAR-ALLDAYEVENT:TRUE
SUMMARY:Labor Day
DESCRIPTION:Labor Day - No school
STATUS:CONFIRMED
END:VEVENT
BEGIN:VEVENT
UID:a80393cf-2059-4d3e-8086-0666d83ccff4
SEQUENCE:0
DTSTAMP:20260424T201648Z
DTSTART;VALUE=DATE:20251016
X-MICROSOFT-CDO-ALLDAYEVENT:TRUE
X-MICROSOFT-MSNCALENDAR-ALLDAYEVENT:TRUE
SUMMARY:MEA - NO SCHOOL
DESCRIPTION:MEA - NO SCHOOL - No school
STATUS:CONFIRMED
END:VEVENT
BEGIN:VEVENT
UID:d5f70060-53d2-424f-89ff-5d1f53758246
SEQUENCE:0
DTSTAMP:20260424T201648Z
DTSTART;VALUE=DATE:20251017
X-MICROSOFT-CDO-ALLDAYEVENT:TRUE
X-MICROSOFT-MSNCALENDAR-ALLDAYEVENT:TRUE
SUMMARY:MEA - NO SCHOOL
DESCRIPTION:MEA - NO SCHOOL - No school
STATUS:CONFIRMED
END:VEVENT
BEGIN:VEVENT
UID:f815b167-a1e7-4522-b788-e88a2dc0496f
SEQUENCE:0
DTSTAMP:20260424T201648Z
DTSTART;VALUE=DATE:20251107
X-MICROSOFT-CDO-ALLDAYEVENT:TRUE
X-MICROSOFT-MSNCALENDAR-ALLDAYEVENT:TRUE
SUMMARY:Teacher Comp Day - NO SCHOOL
DESCRIPTION:Teacher Comp Day - NO SCHOOL - No school
STATUS:CONFIRMED
END:VEVENT
BEGIN:VEVENT
UID:464b703d-27c9-4719-90d8-3b8d1f934a38
SEQUENCE:0
DTSTAMP:20260424T201648Z
DTSTART;VALUE=DATE:20251127
X-MICROSOFT-CDO-ALLDAYEVENT:TRUE
X-MICROSOFT-MSNCALENDAR-ALLDAYEVENT:TRUE
SUMMARY:THANKSGIVING - NO SCHOOL
DESCRIPTION:THANKSGIVING - NO SCHOOL - No school
STATUS:CONFIRMED
END:VEVENT
BEGIN:VEVENT
UID:06a1f3fd-c60a-4bf2-afd1-75d4cac9c943
SEQUENCE:0
DTSTAMP:20260424T201648Z
DTSTART;VALUE=DATE:20251128
X-MICROSOFT-CDO-ALLDAYEVENT:TRUE
X-MICROSOFT-MSNCALENDAR-ALLDAYEVENT:TRUE
SUMMARY:THANKSGIVING - NO SCHOOL
DESCRIPTION:THANKSGIVING - NO SCHOOL - No school
STATUS:CONFIRMED
END:VEVENT
BEGIN:VEVENT
UID:f64d5383-40d3-424c-bb91-a055fad7b6ac
SEQUENCE:0
DTSTAMP:20260424T201648Z
DTSTART;VALUE=DATE:20251222
X-MICROSOFT-CDO-ALLDAYEVENT:TRUE
X-MICROSOFT-MSNCALENDAR-ALLDAYEVENT:TRUE
SUMMARY:Winter Break Begins - NO SCHOOL
DESCRIPTION:Winter Break Begins - NO SCHOOL - No school
STATUS:CONFIRMED
END:VEVENT
BEGIN:VEVENT
UID:95c94ccf-4c43-4f7a-8bda-a38e8c1042ae
SEQUENCE:0
DTSTAMP:20260424T201648Z
DTSTART;VALUE=DATE:20260119
X-MICROSOFT-CDO-ALLDAYEVENT:TRUE
X-MICROSOFT-MSNCALENDAR-ALLDAYEVENT:TRUE
SUMMARY:Teacher Workshop Day - NO SCHOOL
DESCRIPTION:Teacher Workshop Day - NO SCHOOL - No school
STATUS:CONFIRMED
END:VEVENT
BEGIN:VEVENT
UID:04e7029c-543c-4e8d-b9d6-d95f1dce6a76
SEQUENCE:0
DTSTAMP:20260424T201648Z
DTSTART;VALUE=DATE:20260216
X-MICROSOFT-CDO-ALLDAYEVENT:TRUE
X-MICROSOFT-MSNCALENDAR-ALLDAYEVENT:TRUE
SUMMARY:President's Day - NO SCHOOL
DESCRIPTION:President's Day - NO SCHOOL - No school
STATUS:CONFIRMED
END:VEVENT
BEGIN:VEVENT
UID:5e7ca7cf-2dc2-4054-a96e-2d1a35d7ef35
SEQUENCE:0
DTSTAMP:20260424T201648Z
DTSTART;VALUE=DATE:20260403
X-MICROSOFT-CDO-ALLDAYEVENT:TRUE
X-MICROSOFT-MSNCALENDAR-ALLDAYEVENT:TRUE
SUMMARY:GOOD FRIDAY - NO SCHOOL
DESCRIPTION:GOOD FRIDAY - NO SCHOOL - No school
STATUS:CONFIRMED
END:VEVENT
BEGIN:VEVENT
UID:f18731a8-b284-4956-a48e-15ffab7b4447
SEQUENCE:0
DTSTAMP:20260424T201648Z
DTSTART;VALUE=DATE:20260406
X-MICROSOFT-CDO-ALLDAYEVENT:TRUE
X-MICROSOFT-MSNCALENDAR-ALLDAYEVENT:TRUE
SUMMARY:SPRING BREAK -- NO SCHOOL
DESCRIPTION:SPRING BREAK -- NO SCHOOL - No school
STATUS:CONFIRMED
END:VEVENT
BEGIN:VEVENT
UID:854c2f2a-28cb-404a-85a4-f0815c0af616
SEQUENCE:0
DTSTAMP:20260424T201648Z
DTSTART;VALUE=DATE:20260525
X-MICROSOFT-CDO-ALLDAYEVENT:TRUE
X-MICROSOFT-MSNCALENDAR-ALLDAYEVENT:TRUE
SUMMARY:MEMORIAL DAY -- NO SCHOOL
DESCRIPTION:MEMORIAL DAY -- NO SCHOOL - No school
STATUS:CONFIRMED
END:VEVENT
END:VCALENDAR