BEGIN:VCALENDAR
VERSION:2.0
PRODID:-//SchoolCalendarAPI//school-calendar//EN
URL:https://api.schools-calendar.com/calendar?district_id=mn-howard-lake-w
 averly-winsted&year=2025-26
NAME:Howard Lake-Waverly-Winsted School Calendar 2025-26
X-WR-CALNAME:Howard Lake-Waverly-Winsted School Calendar 2025-26
X-WR-CALDESC:Official school calendar for Howard Lake-Waverly-Winsted for 
 the 2025-26 school year.
REFRESH-INTERVAL;VALUE=DURATION:P1D
X-PUBLISHED-TTL:P1D
BEGIN:VEVENT
UID:f931d825-fd4f-4fae-b65a-379f0114d24b
SEQUENCE:0
DTSTAMP:20260424T201047Z
DTSTART;VALUE=DATE:20250825
X-MICROSOFT-CDO-ALLDAYEVENT:TRUE
X-MICROSOFT-MSNCALENDAR-ALLDAYEVENT:TRUE
SUMMARY:First Day of School
DESCRIPTION:First day of the 2025-26 school year
STATUS:CONFIRMED
END:VEVENT
BEGIN:VEVENT
UID:91fcb3a7-54ec-4b57-92dd-eff8c661de48
SEQUENCE:0
DTSTAMP:20260424T201047Z
DTSTART;VALUE=DATE:20260615
X-MICROSOFT-CDO-ALLDAYEVENT:TRUE
X-MICROSOFT-MSNCALENDAR-ALLDAYEVENT:TRUE
SUMMARY:Last Day of School
DESCRIPTION:Last day of the 2025-26 school year
STATUS:CONFIRMED
END:VEVENT
BEGIN:VEVENT
UID:76e31be3-fb7d-40f8-9df0-c02a34a4a43a
SEQUENCE:0
DTSTAMP:20260424T201047Z
DTSTART;VALUE=DATE:20251224
DTEND;VALUE=DATE:20260103
X-MICROSOFT-CDO-ALLDAYEVENT:TRUE
X-MICROSOFT-MSNCALENDAR-ALLDAYEVENT:TRUE
SUMMARY:Winter Break
DESCRIPTION:Winter Break - No school
STATUS:CONFIRMED
END:VEVENT
BEGIN:VEVENT
UID:ad5a7e34-69e5-4923-b3da-a2579b43de9d
SEQUENCE:0
DTSTAMP:20260424T201047Z
DTSTART;VALUE=DATE:20260330
DTEND;VALUE=DATE:20260407
X-MICROSOFT-CDO-ALLDAYEVENT:TRUE
X-MICROSOFT-MSNCALENDAR-ALLDAYEVENT:TRUE
SUMMARY:Spring Break
DESCRIPTION:Spring Break - No school
STATUS:CONFIRMED
END:VEVENT
BEGIN:VEVENT
UID:ca265849-423d-42de-b926-384a9337fd38
SEQUENCE:0
DTSTAMP:20260424T201047Z
DTSTART;VALUE=DATE:20250901
X-MICROSOFT-CDO-ALLDAYEVENT:TRUE
X-MICROSOFT-MSNCALENDAR-ALLDAYEVENT:TRUE
SUMMARY:Labor Day
DESCRIPTION:Labor Day - No school
STATUS:CONFIRMED
END:VEVENT
BEGIN:VEVENT
UID:ae933a00-018a-4b75-bfb9-03cb71c85e42
SEQUENCE:0
DTSTAMP:20260424T201047Z
DTSTART;VALUE=DATE:20250923
X-MICROSOFT-CDO-ALLDAYEVENT:TRUE
X-MICROSOFT-MSNCALENDAR-ALLDAYEVENT:TRUE
SUMMARY:Schools and offices closed
DESCRIPTION:Schools and offices closed - No school
STATUS:CONFIRMED
END:VEVENT
BEGIN:VEVENT
UID:8874bf37-07e9-4dbf-94bd-1a200de07fd4
SEQUENCE:0
DTSTAMP:20260424T201047Z
DTSTART;VALUE=DATE:20251002
X-MICROSOFT-CDO-ALLDAYEVENT:TRUE
X-MICROSOFT-MSNCALENDAR-ALLDAYEVENT:TRUE
SUMMARY:Schools and offices closed
DESCRIPTION:Schools and offices closed - No school
STATUS:CONFIRMED
END:VEVENT
BEGIN:VEVENT
UID:e6c630eb-906d-40de-a04b-05af2935ad49
SEQUENCE:0
DTSTAMP:20260424T201047Z
DTSTART;VALUE=DATE:20251020
X-MICROSOFT-CDO-ALLDAYEVENT:TRUE
X-MICROSOFT-MSNCALENDAR-ALLDAYEVENT:TRUE
SUMMARY:Schools and offices closed
DESCRIPTION:Schools and offices closed - No school
STATUS:CONFIRMED
END:VEVENT
BEGIN:VEVENT
UID:6867db3e-32e8-49fd-938d-81418d2a4828
SEQUENCE:0
DTSTAMP:20260424T201047Z
DTSTART;VALUE=DATE:20251127
X-MICROSOFT-CDO-ALLDAYEVENT:TRUE
X-MICROSOFT-MSNCALENDAR-ALLDAYEVENT:TRUE
SUMMARY:Schools and offices closed*
DESCRIPTION:Schools and offices closed* - No school
STATUS:CONFIRMED
END:VEVENT
BEGIN:VEVENT
UID:06a23ba7-3bb2-43eb-ad11-403edce1237e
SEQUENCE:0
DTSTAMP:20260424T201047Z
DTSTART;VALUE=DATE:20251128
X-MICROSOFT-CDO-ALLDAYEVENT:TRUE
X-MICROSOFT-MSNCALENDAR-ALLDAYEVENT:TRUE
SUMMARY:Schools and offices closed*
DESCRIPTION:Schools and offices closed* - No school
STATUS:CONFIRMED
END:VEVENT
BEGIN:VEVENT
UID:cf61d7c1-a9bf-47b8-8470-c454f596d397
SEQUENCE:0
DTSTAMP:20260424T201047Z
DTSTART;VALUE=DATE:20251224
X-MICROSOFT-CDO-ALLDAYEVENT:TRUE
X-MICROSOFT-MSNCALENDAR-ALLDAYEVENT:TRUE
SUMMARY:Schools and offices closed
DESCRIPTION:Schools and offices closed - No school
STATUS:CONFIRMED
END:VEVENT
BEGIN:VEVENT
UID:3353775f-8ae8-4d9c-9849-90cf3a348c69
SEQUENCE:0
DTSTAMP:20260424T201047Z
DTSTART;VALUE=DATE:20251225
X-MICROSOFT-CDO-ALLDAYEVENT:TRUE
X-MICROSOFT-MSNCALENDAR-ALLDAYEVENT:TRUE
SUMMARY:Schools and offices closed
DESCRIPTION:Schools and offices closed - No school
STATUS:CONFIRMED
END:VEVENT
BEGIN:VEVENT
UID:ce5e8f7e-cbe9-4a1c-aec3-b4946c426b67
SEQUENCE:0
DTSTAMP:20260424T201047Z
DTSTART;VALUE=DATE:20260101
X-MICROSOFT-CDO-ALLDAYEVENT:TRUE
X-MICROSOFT-MSNCALENDAR-ALLDAYEVENT:TRUE
SUMMARY:Schools and offices closed
DESCRIPTION:Schools and offices closed - No school
STATUS:CONFIRMED
END:VEVENT
BEGIN:VEVENT
UID:a9b307cb-a585-4f25-8c50-6c351ec66978
SEQUENCE:0
DTSTAMP:20260424T201047Z
DTSTART;VALUE=DATE:20260102
X-MICROSOFT-CDO-ALLDAYEVENT:TRUE
X-MICROSOFT-MSNCALENDAR-ALLDAYEVENT:TRUE
SUMMARY:Schools and offices closed
DESCRIPTION:Schools and offices closed - No school
STATUS:CONFIRMED
END:VEVENT
BEGIN:VEVENT
UID:523e5476-7f3c-4d95-9ea3-2127c6fcc44f
SEQUENCE:0
DTSTAMP:20260424T201047Z
DTSTART;VALUE=DATE:20260119
X-MICROSOFT-CDO-ALLDAYEVENT:TRUE
X-MICROSOFT-MSNCALENDAR-ALLDAYEVENT:TRUE
SUMMARY:MLK Day
DESCRIPTION:MLK Day - No school
STATUS:CONFIRMED
END:VEVENT
BEGIN:VEVENT
UID:782d56f8-bcb4-48ba-9c6b-44a221694d76
SEQUENCE:0
DTSTAMP:20260424T201047Z
DTSTART;VALUE=DATE:20260216
X-MICROSOFT-CDO-ALLDAYEVENT:TRUE
X-MICROSOFT-MSNCALENDAR-ALLDAYEVENT:TRUE
SUMMARY:Presidents Day
DESCRIPTION:Presidents Day - No school
STATUS:CONFIRMED
END:VEVENT
BEGIN:VEVENT
UID:11ceb672-6ff2-4306-b9f4-464568625b2d
SEQUENCE:0
DTSTAMP:20260424T201047Z
DTSTART;VALUE=DATE:20260217
X-MICROSOFT-CDO-ALLDAYEVENT:TRUE
X-MICROSOFT-MSNCALENDAR-ALLDAYEVENT:TRUE
SUMMARY:Schools and offices closed*
DESCRIPTION:Schools and offices closed* - No school
STATUS:CONFIRMED
END:VEVENT
BEGIN:VEVENT
UID:cb138273-50cc-4071-9dd0-353e4e267287
SEQUENCE:0
DTSTAMP:20260424T201047Z
DTSTART;VALUE=DATE:20260403
X-MICROSOFT-CDO-ALLDAYEVENT:TRUE
X-MICROSOFT-MSNCALENDAR-ALLDAYEVENT:TRUE
SUMMARY:Schools and offices closed*
DESCRIPTION:Schools and offices closed* - No school
STATUS:CONFIRMED
END:VEVENT
BEGIN:VEVENT
UID:d831967b-9c8f-468c-ad44-146344821c94
SEQUENCE:0
DTSTAMP:20260424T201047Z
DTSTART;VALUE=DATE:20260406
X-MICROSOFT-CDO-ALLDAYEVENT:TRUE
X-MICROSOFT-MSNCALENDAR-ALLDAYEVENT:TRUE
SUMMARY:Schools and offices closed*
DESCRIPTION:Schools and offices closed* - No school
STATUS:CONFIRMED
END:VEVENT
BEGIN:VEVENT
UID:5439c9ee-f2c3-4860-aa78-137c0b962fed
SEQUENCE:0
DTSTAMP:20260424T201047Z
DTSTART;VALUE=DATE:20260525
X-MICROSOFT-CDO-ALLDAYEVENT:TRUE
X-MICROSOFT-MSNCALENDAR-ALLDAYEVENT:TRUE
SUMMARY:Memorial Day
DESCRIPTION:Memorial Day - No school
STATUS:CONFIRMED
END:VEVENT
BEGIN:VEVENT
UID:350485c6-9dec-4902-8da4-804522afdce8
SEQUENCE:0
DTSTAMP:20260424T201047Z
DTSTART;VALUE=DATE:20260527
X-MICROSOFT-CDO-ALLDAYEVENT:TRUE
X-MICROSOFT-MSNCALENDAR-ALLDAYEVENT:TRUE
SUMMARY:Schools and offices closed
DESCRIPTION:Schools and offices closed - No school
STATUS:CONFIRMED
END:VEVENT
BEGIN:VEVENT
UID:d7ca1dd3-00e3-45bc-8f26-bc785971add4
SEQUENCE:0
DTSTAMP:20260424T201047Z
DTSTART;VALUE=DATE:20260619
X-MICROSOFT-CDO-ALLDAYEVENT:TRUE
X-MICROSOFT-MSNCALENDAR-ALLDAYEVENT:TRUE
SUMMARY:Juneteenth
DESCRIPTION:Juneteenth - No school
STATUS:CONFIRMED
END:VEVENT
END:VCALENDAR