BEGIN:VCALENDAR
VERSION:2.0
PRODID:-//SchoolCalendarAPI//school-calendar//EN
URL:https://api.schools-calendar.com/calendar?district_id=mn-kenyon-wanami
 ngo-school-district&year=2025-26
NAME:Kenyon-Wanamingo School District School Calendar 2025-26
X-WR-CALNAME:Kenyon-Wanamingo School District School Calendar 2025-26
X-WR-CALDESC:Official school calendar for Kenyon-Wanamingo School District
  for the 2025-26 school year.
REFRESH-INTERVAL;VALUE=DURATION:P1D
X-PUBLISHED-TTL:P1D
BEGIN:VEVENT
UID:0cb8cae4-62d4-447c-87ef-a5e1e3b12503
SEQUENCE:0
DTSTAMP:20260424T200207Z
DTSTART;VALUE=DATE:20250804
X-MICROSOFT-CDO-ALLDAYEVENT:TRUE
X-MICROSOFT-MSNCALENDAR-ALLDAYEVENT:TRUE
SUMMARY:First Day of School
DESCRIPTION:First day of the 2025-26 school year
STATUS:CONFIRMED
END:VEVENT
BEGIN:VEVENT
UID:530a4194-e575-4667-a0bd-30faf048f50c
SEQUENCE:0
DTSTAMP:20260424T200207Z
DTSTART;VALUE=DATE:20260522
X-MICROSOFT-CDO-ALLDAYEVENT:TRUE
X-MICROSOFT-MSNCALENDAR-ALLDAYEVENT:TRUE
SUMMARY:Last Day of School
DESCRIPTION:Last day of the 2025-26 school year
STATUS:CONFIRMED
END:VEVENT
BEGIN:VEVENT
UID:d7a195a6-2d0a-44df-9e1c-d78bea8748e0
SEQUENCE:0
DTSTAMP:20260424T200207Z
DTSTART;VALUE=DATE:20251224
DTEND;VALUE=DATE:20260103
X-MICROSOFT-CDO-ALLDAYEVENT:TRUE
X-MICROSOFT-MSNCALENDAR-ALLDAYEVENT:TRUE
SUMMARY:Winter Break
DESCRIPTION:Winter Break - No school
STATUS:CONFIRMED
END:VEVENT
BEGIN:VEVENT
UID:6d1ff148-2f5d-458e-8e33-731e13958dc8
SEQUENCE:0
DTSTAMP:20260424T200207Z
DTSTART;VALUE=DATE:20251016
DTEND;VALUE=DATE:20251018
X-MICROSOFT-CDO-ALLDAYEVENT:TRUE
X-MICROSOFT-MSNCALENDAR-ALLDAYEVENT:TRUE
SUMMARY:Fall Break
DESCRIPTION:Fall Break - No school
STATUS:CONFIRMED
END:VEVENT
BEGIN:VEVENT
UID:307581e6-ff95-4981-b5fe-a301787bcbb3
SEQUENCE:0
DTSTAMP:20260424T200207Z
DTSTART;VALUE=DATE:20250901
X-MICROSOFT-CDO-ALLDAYEVENT:TRUE
X-MICROSOFT-MSNCALENDAR-ALLDAYEVENT:TRUE
SUMMARY:Labor Day
DESCRIPTION:Labor Day - No school
STATUS:CONFIRMED
END:VEVENT
BEGIN:VEVENT
UID:dd75fe9e-4a29-4514-bb5f-6d446fd69642
SEQUENCE:0
DTSTAMP:20260424T200207Z
DTSTART;VALUE=DATE:20251003
X-MICROSOFT-CDO-ALLDAYEVENT:TRUE
X-MICROSOFT-MSNCALENDAR-ALLDAYEVENT:TRUE
SUMMARY:No School - Holiday
DESCRIPTION:No School - Holiday - No school
STATUS:CONFIRMED
END:VEVENT
BEGIN:VEVENT
UID:545fd0bf-9963-43bb-915a-b9241f93c3fb
SEQUENCE:0
DTSTAMP:20260424T200207Z
DTSTART;VALUE=DATE:20251127
X-MICROSOFT-CDO-ALLDAYEVENT:TRUE
X-MICROSOFT-MSNCALENDAR-ALLDAYEVENT:TRUE
SUMMARY:No School - Holiday
DESCRIPTION:No School - Holiday - No school
STATUS:CONFIRMED
END:VEVENT
BEGIN:VEVENT
UID:ef63daf1-9de0-4d04-8f34-d616bf2797a7
SEQUENCE:0
DTSTAMP:20260424T200207Z
DTSTART;VALUE=DATE:20251128
X-MICROSOFT-CDO-ALLDAYEVENT:TRUE
X-MICROSOFT-MSNCALENDAR-ALLDAYEVENT:TRUE
SUMMARY:No School - Holiday
DESCRIPTION:No School - Holiday - No school
STATUS:CONFIRMED
END:VEVENT
BEGIN:VEVENT
UID:29cedc6a-20ff-4868-a45a-9f886ce135cd
SEQUENCE:0
DTSTAMP:20260424T200207Z
DTSTART;VALUE=DATE:20260119
X-MICROSOFT-CDO-ALLDAYEVENT:TRUE
X-MICROSOFT-MSNCALENDAR-ALLDAYEVENT:TRUE
SUMMARY:No School - MLK Day
DESCRIPTION:No School - MLK Day - No school
STATUS:CONFIRMED
END:VEVENT
BEGIN:VEVENT
UID:af55776d-cbdf-4844-9171-e012f337e777
SEQUENCE:0
DTSTAMP:20260424T200207Z
DTSTART;VALUE=DATE:20260216
X-MICROSOFT-CDO-ALLDAYEVENT:TRUE
X-MICROSOFT-MSNCALENDAR-ALLDAYEVENT:TRUE
SUMMARY:No School - President's Day
DESCRIPTION:No School - President's Day - No school
STATUS:CONFIRMED
END:VEVENT
BEGIN:VEVENT
UID:a7254454-8bd2-4f71-8143-19e6e7410bd6
SEQUENCE:0
DTSTAMP:20260424T200207Z
DTSTART;VALUE=DATE:20260525
X-MICROSOFT-CDO-ALLDAYEVENT:TRUE
X-MICROSOFT-MSNCALENDAR-ALLDAYEVENT:TRUE
SUMMARY:Holiday
DESCRIPTION:Holiday - No school
STATUS:CONFIRMED
END:VEVENT
BEGIN:VEVENT
UID:638ac821-e6c0-4343-937d-e65958502324
SEQUENCE:0
DTSTAMP:20260424T200207Z
DTSTART;VALUE=DATE:20260403
X-MICROSOFT-CDO-ALLDAYEVENT:TRUE
X-MICROSOFT-MSNCALENDAR-ALLDAYEVENT:TRUE
SUMMARY:No School - Holiday
DESCRIPTION:No School - Holiday - No school
STATUS:CONFIRMED
END:VEVENT
END:VCALENDAR